BEGIN:VCALENDAR
VERSION:2.0
PRODID:-//Seatoun School - ECPv4.9.12//NONSGML v1.0//EN
CALSCALE:GREGORIAN
METHOD:PUBLISH
X-WR-CALNAME:Seatoun School
X-ORIGINAL-URL:https://seatoun.school.nz
X-WR-CALDESC:Events for Seatoun School
BEGIN:VTIMEZONE
TZID:Pacific/Auckland
BEGIN:STANDARD
TZOFFSETFROM:+1300
TZOFFSETTO:+1200
TZNAME:NZST
DTSTART:20190406T140000
END:STANDARD
BEGIN:DAYLIGHT
TZOFFSETFROM:+1200
TZOFFSETTO:+1300
TZNAME:NZDT
DTSTART:20190928T140000
END:DAYLIGHT
END:VTIMEZONE
BEGIN:VEVENT
DTSTART;VALUE=DATE:20191209
DTEND;VALUE=DATE:20191210
DTSTAMP:20191223T051058
CREATED:20191109T104930Z
LAST-MODIFIED:20191209T213455Z
UID:7351-1575849600-1575935999@seatoun.school.nz
SUMMARY:Beach Visit first fine day this week Y0\,1 and 2
DESCRIPTION:
URL:https://seatoun.school.nz/event/beach-visit-first-fine-day-this-week-y01-and-2/
END:VEVENT
END:VCALENDAR