BEGIN:VCALENDAR
VERSION:2.0
PRODID:-//Seatoun School - ECPv4.9.12//NONSGML v1.0//EN
CALSCALE:GREGORIAN
METHOD:PUBLISH
X-WR-CALNAME:Seatoun School
X-ORIGINAL-URL:https://seatoun.school.nz
X-WR-CALDESC:Events for Seatoun School
BEGIN:VTIMEZONE
TZID:Pacific/Auckland
BEGIN:STANDARD
TZOFFSETFROM:+1300
TZOFFSETTO:+1200
TZNAME:NZST
DTSTART:20190406T140000
END:STANDARD
BEGIN:DAYLIGHT
TZOFFSETFROM:+1200
TZOFFSETTO:+1300
TZNAME:NZDT
DTSTART:20190928T140000
END:DAYLIGHT
END:VTIMEZONE
BEGIN:VEVENT
DTSTART;TZID=Pacific/Auckland:20191213T090000
DTEND;TZID=Pacific/Auckland:20191213T100000
DTSTAMP:20191223T051139
CREATED:20191114T222120Z
LAST-MODIFIED:20191212T213050Z
UID:7359-1576227600-1576231200@seatoun.school.nz
SUMMARY:Hui - Year 0-2 & Year 7/8
DESCRIPTION:
URL:https://seatoun.school.nz/event/hui-year-0-2-year-7-8/
END:VEVENT
END:VCALENDAR