BEGIN:VCALENDAR
VERSION:2.0
PRODID:-//Seatoun School - ECPv6.8.3//NONSGML v1.0//EN
CALSCALE:GREGORIAN
METHOD:PUBLISH
X-ORIGINAL-URL:https://seatoun.school.nz
X-WR-CALDESC:Events for Seatoun School
REFRESH-INTERVAL;VALUE=DURATION:PT1H
X-Robots-Tag:noindex
X-PUBLISHED-TTL:PT1H
BEGIN:VTIMEZONE
TZID:Pacific/Auckland
BEGIN:STANDARD
TZOFFSETFROM:+1300
TZOFFSETTO:+1200
TZNAME:NZST
DTSTART:20200404T140000
END:STANDARD
BEGIN:DAYLIGHT
TZOFFSETFROM:+1200
TZOFFSETTO:+1300
TZNAME:NZDT
DTSTART:20200926T140000
END:DAYLIGHT
END:VTIMEZONE
BEGIN:VEVENT
DTSTART;TZID=Pacific/Auckland:20200630T090000
DTEND;TZID=Pacific/Auckland:20200630T110000
DTSTAMP:20260424T103445
CREATED:20200525T021950Z
LAST-MODIFIED:20210112T092717Z
UID:8280-1593507600-1593514800@seatoun.school.nz
SUMMARY:Gardasil – Year 8 Boys and Girls
DESCRIPTION:
URL:https://seatoun.school.nz/event/gardasil-year-8-boys-and-girls/
ORGANIZER;CN="susan.kliffen@seatoun.school.nz":MAILTO:susan.kliffen@seatoun.school.nz
END:VEVENT
END:VCALENDAR