BEGIN:VCALENDAR
VERSION:2.0
PRODID:-//Seatoun School - ECPv6.8.3//NONSGML v1.0//EN
CALSCALE:GREGORIAN
METHOD:PUBLISH
X-WR-CALNAME:Seatoun School
X-ORIGINAL-URL:https://seatoun.school.nz
X-WR-CALDESC:Events for Seatoun School
REFRESH-INTERVAL;VALUE=DURATION:PT1H
X-Robots-Tag:noindex
X-PUBLISHED-TTL:PT1H
BEGIN:VTIMEZONE
TZID:Pacific/Auckland
BEGIN:STANDARD
TZOFFSETFROM:+1300
TZOFFSETTO:+1200
TZNAME:NZST
DTSTART:20200404T140000
END:STANDARD
BEGIN:DAYLIGHT
TZOFFSETFROM:+1200
TZOFFSETTO:+1300
TZNAME:NZDT
DTSTART:20200926T140000
END:DAYLIGHT
END:VTIMEZONE
BEGIN:VEVENT
DTSTART;VALUE=DATE:20200730
DTEND;VALUE=DATE:20200731
DTSTAMP:20260424T062130
CREATED:20200629T163917Z
LAST-MODIFIED:20210112T092718Z
UID:8530-1596067200-1596153599@seatoun.school.nz
SUMMARY:Steeple Rock
DESCRIPTION:
URL:https://seatoun.school.nz/event/steeple-rock/
END:VEVENT
BEGIN:VEVENT
DTSTART;VALUE=DATE:20200730
DTEND;VALUE=DATE:20200731
DTSTAMP:20260424T062130
CREATED:20200713T174601Z
LAST-MODIFIED:20210112T092718Z
UID:8618-1596067200-1596153599@seatoun.school.nz
SUMMARY:Cultural Artifact Photo Day
DESCRIPTION:
URL:https://seatoun.school.nz/event/cultural-artifact-photo-day/
END:VEVENT
BEGIN:VEVENT
DTSTART;TZID=Pacific/Auckland:20200730T190000
DTEND;TZID=Pacific/Auckland:20200730T204500
DTSTAMP:20260424T062130
CREATED:20200616T153907Z
LAST-MODIFIED:20210112T092718Z
UID:8498-1596135600-1596141900@seatoun.school.nz
SUMMARY:Starting School at 5
DESCRIPTION:
URL:https://seatoun.school.nz/event/starting-school-at-5/
END:VEVENT
END:VCALENDAR