BEGIN:VCALENDAR
VERSION:2.0
PRODID:-//Seatoun School - ECPv6.8.3//NONSGML v1.0//EN
CALSCALE:GREGORIAN
METHOD:PUBLISH
X-WR-CALNAME:Seatoun School
X-ORIGINAL-URL:https://seatoun.school.nz
X-WR-CALDESC:Events for Seatoun School
REFRESH-INTERVAL;VALUE=DURATION:PT1H
X-Robots-Tag:noindex
X-PUBLISHED-TTL:PT1H
BEGIN:VTIMEZONE
TZID:Pacific/Auckland
BEGIN:STANDARD
TZOFFSETFROM:+1300
TZOFFSETTO:+1200
TZNAME:NZST
DTSTART:20200404T140000
END:STANDARD
BEGIN:DAYLIGHT
TZOFFSETFROM:+1200
TZOFFSETTO:+1300
TZNAME:NZDT
DTSTART:20200926T140000
END:DAYLIGHT
END:VTIMEZONE
BEGIN:VEVENT
DTSTART;VALUE=DATE:20200923
DTEND;VALUE=DATE:20200924
DTSTAMP:20260424T075348
CREATED:20200619T160103Z
LAST-MODIFIED:20210112T092719Z
UID:8505-1600819200-1600905599@seatoun.school.nz
SUMMARY:Sausage Sizzle
DESCRIPTION:
URL:https://seatoun.school.nz/event/sausage-sizzle-2/
END:VEVENT
BEGIN:VEVENT
DTSTART;VALUE=DATE:20200923
DTEND;VALUE=DATE:20200924
DTSTAMP:20260424T075348
CREATED:20200629T163918Z
LAST-MODIFIED:20200817T025346Z
UID:8548-1600819200-1600905599@seatoun.school.nz
SUMMARY:Sausage Sizzle
DESCRIPTION:
URL:https://seatoun.school.nz/event/sausage-sizzle-3/
END:VEVENT
BEGIN:VEVENT
DTSTART;VALUE=DATE:20200923
DTEND;VALUE=DATE:20200924
DTSTAMP:20260424T075348
CREATED:20200917T064905Z
LAST-MODIFIED:20210112T092719Z
UID:8854-1600819200-1600905599@seatoun.school.nz
SUMMARY:Crazy Hair day - Donation for Wellington Children's Hospital
DESCRIPTION:
URL:https://seatoun.school.nz/event/crazy-hair-day-donation-for-wellington-childrens-hospital/
ORGANIZER;CN="susan.kliffen@seatoun.school.nz":MAILTO:susan.kliffen@seatoun.school.nz
END:VEVENT
END:VCALENDAR