BEGIN:VCALENDAR
VERSION:2.0
PRODID:-//Seatoun School - ECPv6.8.3//NONSGML v1.0//EN
CALSCALE:GREGORIAN
METHOD:PUBLISH
X-ORIGINAL-URL:https://seatoun.school.nz
X-WR-CALDESC:Events for Seatoun School
REFRESH-INTERVAL;VALUE=DURATION:PT1H
X-Robots-Tag:noindex
X-PUBLISHED-TTL:PT1H
BEGIN:VTIMEZONE
TZID:Pacific/Auckland
BEGIN:STANDARD
TZOFFSETFROM:+1300
TZOFFSETTO:+1200
TZNAME:NZST
DTSTART:20200404T140000
END:STANDARD
BEGIN:DAYLIGHT
TZOFFSETFROM:+1200
TZOFFSETTO:+1300
TZNAME:NZDT
DTSTART:20200926T140000
END:DAYLIGHT
END:VTIMEZONE
BEGIN:VEVENT
DTSTART;VALUE=DATE:20200924
DTEND;VALUE=DATE:20200925
DTSTAMP:20260424T103508
CREATED:20200525T021951Z
LAST-MODIFIED:20210112T092719Z
UID:8300-1600905600-1600991999@seatoun.school.nz
SUMMARY:Inter Regional Cross Country (Harcourt Park
DESCRIPTION:
URL:https://seatoun.school.nz/event/inter-regional-cross-country-harcourt-park/
END:VEVENT
BEGIN:VEVENT
DTSTART;TZID=Pacific/Auckland:20200924T100000
DTEND;TZID=Pacific/Auckland:20200924T150000
DTSTAMP:20260424T103508
CREATED:20200629T163919Z
LAST-MODIFIED:20210112T092719Z
UID:8552-1600941600-1600959600@seatoun.school.nz
SUMMARY:Cultural Celebration Day - time tbc
DESCRIPTION:
URL:https://seatoun.school.nz/event/cultural-celebration-day-time-tbc/
END:VEVENT
BEGIN:VEVENT
DTSTART;TZID=Pacific/Auckland:20200924T190000
DTEND;TZID=Pacific/Auckland:20200924T204500
DTSTAMP:20260424T103508
CREATED:20200525T021951Z
LAST-MODIFIED:20210112T092719Z
UID:8301-1600974000-1600980300@seatoun.school.nz
SUMMARY:BOT Meeting in Library
DESCRIPTION:
URL:https://seatoun.school.nz/event/bot-meeting-in-library-4/
LOCATION:Library
END:VEVENT
END:VCALENDAR