BEGIN:VCALENDAR
VERSION:2.0
PRODID:-//Seatoun School - ECPv6.8.3//NONSGML v1.0//EN
CALSCALE:GREGORIAN
METHOD:PUBLISH
X-ORIGINAL-URL:https://seatoun.school.nz
X-WR-CALDESC:Events for Seatoun School
REFRESH-INTERVAL;VALUE=DURATION:PT1H
X-Robots-Tag:noindex
X-PUBLISHED-TTL:PT1H
BEGIN:VTIMEZONE
TZID:Pacific/Auckland
BEGIN:STANDARD
TZOFFSETFROM:+1300
TZOFFSETTO:+1200
TZNAME:NZST
DTSTART:20200404T140000
END:STANDARD
BEGIN:DAYLIGHT
TZOFFSETFROM:+1200
TZOFFSETTO:+1300
TZNAME:NZDT
DTSTART:20200926T140000
END:DAYLIGHT
END:VTIMEZONE
BEGIN:VEVENT
DTSTART;VALUE=DATE:20201012
DTEND;VALUE=DATE:20201013
DTSTAMP:20260424T103443
CREATED:20200525T021951Z
LAST-MODIFIED:20210112T092719Z
UID:8305-1602460800-1602547199@seatoun.school.nz
SUMMARY:Term 4 starts
DESCRIPTION:
URL:https://seatoun.school.nz/event/term-4-starts/
END:VEVENT
BEGIN:VEVENT
DTSTART;TZID=Pacific/Auckland:20201012T193000
DTEND;TZID=Pacific/Auckland:20201012T210000
DTSTAMP:20260424T103443
CREATED:20200915T063202Z
LAST-MODIFIED:20201011T083241Z
UID:8833-1602531000-1602536400@seatoun.school.nz
SUMMARY:FoSS Meeting - Staff room
DESCRIPTION:
URL:https://seatoun.school.nz/event/foss-meeting-staff-room-3/
END:VEVENT
END:VCALENDAR