BEGIN:VCALENDAR
VERSION:2.0
PRODID:-//Seatoun School - ECPv6.8.3//NONSGML v1.0//EN
CALSCALE:GREGORIAN
METHOD:PUBLISH
X-WR-CALNAME:Seatoun School
X-ORIGINAL-URL:https://seatoun.school.nz
X-WR-CALDESC:Events for Seatoun School
REFRESH-INTERVAL;VALUE=DURATION:PT1H
X-Robots-Tag:noindex
X-PUBLISHED-TTL:PT1H
BEGIN:VTIMEZONE
TZID:Pacific/Auckland
BEGIN:STANDARD
TZOFFSETFROM:+1300
TZOFFSETTO:+1200
TZNAME:NZST
DTSTART:20200404T140000
END:STANDARD
BEGIN:DAYLIGHT
TZOFFSETFROM:+1200
TZOFFSETTO:+1300
TZNAME:NZDT
DTSTART:20200926T140000
END:DAYLIGHT
END:VTIMEZONE
BEGIN:VEVENT
DTSTART;VALUE=DATE:20201027
DTEND;VALUE=DATE:20201028
DTSTAMP:20260424T093118
CREATED:20200902T050049Z
LAST-MODIFIED:20210112T092720Z
UID:8780-1603756800-1603843199@seatoun.school.nz
SUMMARY:School Photos today
DESCRIPTION:
URL:https://seatoun.school.nz/event/school-photos-today/
END:VEVENT
BEGIN:VEVENT
DTSTART;TZID=Pacific/Auckland:20201027T180000
DTEND;TZID=Pacific/Auckland:20201027T190000
DTSTAMP:20260424T093118
CREATED:20200907T051645Z
LAST-MODIFIED:20210112T092720Z
UID:8788-1603821600-1603825200@seatoun.school.nz
SUMMARY:Year 5 / 6 EOTC Programme - Student and Parent informatino meeting
DESCRIPTION:
URL:https://seatoun.school.nz/event/year-5-6-eotc-programme-student-and-parent-informatino-meeting/
END:VEVENT
END:VCALENDAR