BEGIN:VCALENDAR
VERSION:2.0
PRODID:-//Seatoun School - ECPv6.8.3//NONSGML v1.0//EN
CALSCALE:GREGORIAN
METHOD:PUBLISH
X-WR-CALNAME:Seatoun School
X-ORIGINAL-URL:https://seatoun.school.nz
X-WR-CALDESC:Events for Seatoun School
REFRESH-INTERVAL;VALUE=DURATION:PT1H
X-Robots-Tag:noindex
X-PUBLISHED-TTL:PT1H
BEGIN:VTIMEZONE
TZID:Pacific/Auckland
BEGIN:STANDARD
TZOFFSETFROM:+1300
TZOFFSETTO:+1200
TZNAME:NZST
DTSTART:20200404T140000
END:STANDARD
BEGIN:DAYLIGHT
TZOFFSETFROM:+1200
TZOFFSETTO:+1300
TZNAME:NZDT
DTSTART:20200926T140000
END:DAYLIGHT
END:VTIMEZONE
BEGIN:VEVENT
DTSTART;VALUE=DATE:20201211
DTEND;VALUE=DATE:20201212
DTSTAMP:20260424T115913
CREATED:20200819T031622Z
LAST-MODIFIED:20210112T092721Z
UID:8725-1607644800-1607731199@seatoun.school.nz
SUMMARY:FoSS - Hell Pizza Lunch
DESCRIPTION:
URL:https://seatoun.school.nz/event/foss-hell-pizza-lunch-3/
END:VEVENT
BEGIN:VEVENT
DTSTART;VALUE=DATE:20201211
DTEND;VALUE=DATE:20201212
DTSTAMP:20260424T115913
CREATED:20201012T083344Z
LAST-MODIFIED:20210112T092721Z
UID:8899-1607644800-1607731199@seatoun.school.nz
SUMMARY:Year 8 Gardasil - 2nd dose
DESCRIPTION:
URL:https://seatoun.school.nz/event/year-8-gardasil-2nd-dose/
END:VEVENT
BEGIN:VEVENT
DTSTART;TZID=Pacific/Auckland:20201211T090000
DTEND;TZID=Pacific/Auckland:20201211T100000
DTSTAMP:20260424T115913
CREATED:20201201T122942Z
LAST-MODIFIED:20210112T092721Z
UID:9087-1607677200-1607680800@seatoun.school.nz
SUMMARY:Hui
DESCRIPTION:
URL:https://seatoun.school.nz/event/hui/
END:VEVENT
END:VCALENDAR