BEGIN:VCALENDAR
VERSION:2.0
PRODID:-//Seatoun School - ECPv6.8.3//NONSGML v1.0//EN
CALSCALE:GREGORIAN
METHOD:PUBLISH
X-WR-CALNAME:Seatoun School
X-ORIGINAL-URL:https://seatoun.school.nz
X-WR-CALDESC:Events for Seatoun School
REFRESH-INTERVAL;VALUE=DURATION:PT1H
X-Robots-Tag:noindex
X-PUBLISHED-TTL:PT1H
BEGIN:VTIMEZONE
TZID:Pacific/Auckland
BEGIN:STANDARD
TZOFFSETFROM:+1300
TZOFFSETTO:+1200
TZNAME:NZST
DTSTART:20210403T140000
END:STANDARD
BEGIN:DAYLIGHT
TZOFFSETFROM:+1200
TZOFFSETTO:+1300
TZNAME:NZDT
DTSTART:20210925T140000
END:DAYLIGHT
END:VTIMEZONE
BEGIN:VEVENT
DTSTART;VALUE=DATE:20210303
DTEND;VALUE=DATE:20210304
DTSTAMP:20260424T122844
CREATED:20201209T135752Z
LAST-MODIFIED:20210303T224614Z
UID:9139-1614729600-1614815999@seatoun.school.nz
SUMMARY:EZ Cricket Juniors\, Miramar Park
DESCRIPTION:
URL:https://seatoun.school.nz/event/ez-cricket-juniors-miramar-park/
END:VEVENT
BEGIN:VEVENT
DTSTART;TZID=Pacific/Auckland:20210303T100000
DTEND;TZID=Pacific/Auckland:20210303T110000
DTSTAMP:20260424T122844
CREATED:20201208T135549Z
LAST-MODIFIED:20210301T224759Z
UID:9123-1614765600-1614769200@seatoun.school.nz
SUMMARY:Swimming Y3/4
DESCRIPTION:
URL:https://seatoun.school.nz/event/swimming-y3-4-4/
END:VEVENT
END:VCALENDAR