BEGIN:VCALENDAR
VERSION:2.0
PRODID:-//Seatoun School - ECPv6.8.3//NONSGML v1.0//EN
CALSCALE:GREGORIAN
METHOD:PUBLISH
X-ORIGINAL-URL:https://seatoun.school.nz
X-WR-CALDESC:Events for Seatoun School
REFRESH-INTERVAL;VALUE=DURATION:PT1H
X-Robots-Tag:noindex
X-PUBLISHED-TTL:PT1H
BEGIN:VTIMEZONE
TZID:Pacific/Auckland
BEGIN:STANDARD
TZOFFSETFROM:+1300
TZOFFSETTO:+1200
TZNAME:NZST
DTSTART:20210403T140000
END:STANDARD
BEGIN:DAYLIGHT
TZOFFSETFROM:+1200
TZOFFSETTO:+1300
TZNAME:NZDT
DTSTART:20210925T140000
END:DAYLIGHT
END:VTIMEZONE
BEGIN:VEVENT
DTSTART;VALUE=DATE:20210315
DTEND;VALUE=DATE:20210316
DTSTAMP:20260424T111800
CREATED:20201030T101551Z
LAST-MODIFIED:20210315T234959Z
UID:8955-1615766400-1615852799@seatoun.school.nz
SUMMARY:Week 6
DESCRIPTION:
URL:https://seatoun.school.nz/event/week-6-3/
END:VEVENT
BEGIN:VEVENT
DTSTART;VALUE=DATE:20210315
DTEND;VALUE=DATE:20210316
DTSTAMP:20260424T111800
CREATED:20201209T135752Z
LAST-MODIFIED:20210314T233736Z
UID:9143-1615766400-1615852799@seatoun.school.nz
SUMMARY:Tennis - Y3/4's
DESCRIPTION:
URL:https://seatoun.school.nz/event/tennis-y3-4s-3/
END:VEVENT
END:VCALENDAR