BEGIN:VCALENDAR
VERSION:2.0
PRODID:-//Seatoun School - ECPv6.8.3//NONSGML v1.0//EN
CALSCALE:GREGORIAN
METHOD:PUBLISH
X-WR-CALNAME:Seatoun School
X-ORIGINAL-URL:https://seatoun.school.nz
X-WR-CALDESC:Events for Seatoun School
REFRESH-INTERVAL;VALUE=DURATION:PT1H
X-Robots-Tag:noindex
X-PUBLISHED-TTL:PT1H
BEGIN:VTIMEZONE
TZID:Pacific/Auckland
BEGIN:STANDARD
TZOFFSETFROM:+1300
TZOFFSETTO:+1200
TZNAME:NZST
DTSTART:20210403T140000
END:STANDARD
BEGIN:DAYLIGHT
TZOFFSETFROM:+1200
TZOFFSETTO:+1300
TZNAME:NZDT
DTSTART:20210925T140000
END:DAYLIGHT
END:VTIMEZONE
BEGIN:VEVENT
DTSTART;VALUE=DATE:20210322
DTEND;VALUE=DATE:20210417
DTSTAMP:20260424T110924
CREATED:20201116T113319Z
LAST-MODIFIED:20210416T024600Z
UID:9055-1616371200-1618617599@seatoun.school.nz
SUMMARY:Bee Healthy Dental Van
DESCRIPTION:
URL:https://seatoun.school.nz/event/bee-healthy-dental-van/
END:VEVENT
BEGIN:VEVENT
DTSTART;TZID=Pacific/Auckland:20210401T090000
DTEND;TZID=Pacific/Auckland:20210401T100000
DTSTAMP:20260424T110924
CREATED:20201221T150703Z
LAST-MODIFIED:20210331T003815Z
UID:9224-1617267600-1617271200@seatoun.school.nz
SUMMARY:Powhiri
DESCRIPTION:
URL:https://seatoun.school.nz/event/powhiri-2/
END:VEVENT
END:VCALENDAR