BEGIN:VCALENDAR
VERSION:2.0
PRODID:-//Seatoun School - ECPv6.8.3//NONSGML v1.0//EN
CALSCALE:GREGORIAN
METHOD:PUBLISH
X-ORIGINAL-URL:https://seatoun.school.nz
X-WR-CALDESC:Events for Seatoun School
REFRESH-INTERVAL;VALUE=DURATION:PT1H
X-Robots-Tag:noindex
X-PUBLISHED-TTL:PT1H
BEGIN:VTIMEZONE
TZID:Pacific/Auckland
BEGIN:STANDARD
TZOFFSETFROM:+1300
TZOFFSETTO:+1200
TZNAME:NZST
DTSTART:20210403T140000
END:STANDARD
BEGIN:DAYLIGHT
TZOFFSETFROM:+1200
TZOFFSETTO:+1300
TZNAME:NZDT
DTSTART:20210925T140000
END:DAYLIGHT
END:VTIMEZONE
BEGIN:VEVENT
DTSTART;TZID=Pacific/Auckland:20210604T090000
DTEND;TZID=Pacific/Auckland:20210604T100000
DTSTAMP:20260424T084508
CREATED:20210513T040345Z
LAST-MODIFIED:20210603T051655Z
UID:9709-1622797200-1622800800@seatoun.school.nz
SUMMARY:Year 3 and 4  Hui
DESCRIPTION:
URL:https://seatoun.school.nz/event/year-3-and-4-hui/
END:VEVENT
END:VCALENDAR