BEGIN:VCALENDAR
VERSION:2.0
PRODID:-//Seatoun School - ECPv6.8.3//NONSGML v1.0//EN
CALSCALE:GREGORIAN
METHOD:PUBLISH
X-WR-CALNAME:Seatoun School
X-ORIGINAL-URL:https://seatoun.school.nz
X-WR-CALDESC:Events for Seatoun School
REFRESH-INTERVAL;VALUE=DURATION:PT1H
X-Robots-Tag:noindex
X-PUBLISHED-TTL:PT1H
BEGIN:VTIMEZONE
TZID:Pacific/Auckland
BEGIN:STANDARD
TZOFFSETFROM:+1300
TZOFFSETTO:+1200
TZNAME:NZST
DTSTART:20210403T140000
END:STANDARD
BEGIN:DAYLIGHT
TZOFFSETFROM:+1200
TZOFFSETTO:+1300
TZNAME:NZDT
DTSTART:20210925T140000
END:DAYLIGHT
END:VTIMEZONE
BEGIN:VEVENT
DTSTART;VALUE=DATE:20210607
DTEND;VALUE=DATE:20210608
DTSTAMP:20260424T095642
CREATED:20201110T110321Z
LAST-MODIFIED:20210607T054644Z
UID:9004-1623024000-1623110399@seatoun.school.nz
SUMMARY:Week 6
DESCRIPTION:
URL:https://seatoun.school.nz/event/week-6-4/
END:VEVENT
BEGIN:VEVENT
DTSTART;TZID=Pacific/Auckland:20210607T080000
DTEND;TZID=Pacific/Auckland:20210607T154500
DTSTAMP:20260424T095642
CREATED:20200525T021954Z
LAST-MODIFIED:20210606T054620Z
UID:8328-1623052800-1623080700@seatoun.school.nz
SUMMARY:Queens Birthday Holiday - School closed
DESCRIPTION:
URL:https://seatoun.school.nz/event/queens-birthday-holiday-school-closed/
END:VEVENT
END:VCALENDAR