BEGIN:VCALENDAR
VERSION:2.0
PRODID:-//Seatoun School - ECPv6.8.3//NONSGML v1.0//EN
CALSCALE:GREGORIAN
METHOD:PUBLISH
X-ORIGINAL-URL:https://seatoun.school.nz
X-WR-CALDESC:Events for Seatoun School
REFRESH-INTERVAL;VALUE=DURATION:PT1H
X-Robots-Tag:noindex
X-PUBLISHED-TTL:PT1H
BEGIN:VTIMEZONE
TZID:Pacific/Auckland
BEGIN:STANDARD
TZOFFSETFROM:+1300
TZOFFSETTO:+1200
TZNAME:NZST
DTSTART:20210403T140000
END:STANDARD
BEGIN:DAYLIGHT
TZOFFSETFROM:+1200
TZOFFSETTO:+1300
TZNAME:NZDT
DTSTART:20210925T140000
END:DAYLIGHT
END:VTIMEZONE
BEGIN:VEVENT
DTSTART;VALUE=DATE:20210615
DTEND;VALUE=DATE:20210616
DTSTAMP:20260424T111052
CREATED:20201209T135754Z
LAST-MODIFIED:20210615T062217Z
UID:9158-1623715200-1623801599@seatoun.school.nz
SUMMARY:Inter Zone Cross Country Y4-8 pp 17th
DESCRIPTION:
URL:https://seatoun.school.nz/event/inter-zone-cross-country-y4-8-pp-17th/
END:VEVENT
BEGIN:VEVENT
DTSTART;VALUE=DATE:20210615
DTEND;VALUE=DATE:20210616
DTSTAMP:20260424T111052
CREATED:20210609T055316Z
LAST-MODIFIED:20210615T062217Z
UID:9765-1623715200-1623801599@seatoun.school.nz
SUMMARY:Year 1/2 Museum Visit
DESCRIPTION:
URL:https://seatoun.school.nz/event/year-1-2-museum-visit/
END:VEVENT
BEGIN:VEVENT
DTSTART;TZID=Pacific/Auckland:20210615T093000
DTEND;TZID=Pacific/Auckland:20210615T140000
DTSTAMP:20260424T111052
CREATED:20210408T014645Z
LAST-MODIFIED:20210614T062057Z
UID:9509-1623749400-1623765600@seatoun.school.nz
SUMMARY:Yr 5-8 Swimming
DESCRIPTION:
URL:https://seatoun.school.nz/event/yr-5-8-swimming-6/
END:VEVENT
END:VCALENDAR