BEGIN:VCALENDAR
VERSION:2.0
PRODID:-//Seatoun School - ECPv6.8.3//NONSGML v1.0//EN
CALSCALE:GREGORIAN
METHOD:PUBLISH
X-WR-CALNAME:Seatoun School
X-ORIGINAL-URL:https://seatoun.school.nz
X-WR-CALDESC:Events for Seatoun School
REFRESH-INTERVAL;VALUE=DURATION:PT1H
X-Robots-Tag:noindex
X-PUBLISHED-TTL:PT1H
BEGIN:VTIMEZONE
TZID:Pacific/Auckland
BEGIN:STANDARD
TZOFFSETFROM:+1300
TZOFFSETTO:+1200
TZNAME:NZST
DTSTART:20210403T140000
END:STANDARD
BEGIN:DAYLIGHT
TZOFFSETFROM:+1200
TZOFFSETTO:+1300
TZNAME:NZDT
DTSTART:20210925T140000
END:DAYLIGHT
END:VTIMEZONE
BEGIN:VEVENT
DTSTART;TZID=Pacific/Auckland:20210727T193000
DTEND;TZID=Pacific/Auckland:20210727T203000
DTSTAMP:20260424T122834
CREATED:20210716T084136Z
LAST-MODIFIED:20210726T091849Z
UID:9924-1627414200-1627417800@seatoun.school.nz
SUMMARY:Centenary planning  2021
DESCRIPTION:
URL:https://seatoun.school.nz/event/centenary-planning-2021/
LOCATION:Seatoun School\n59 Burnham Street\, Seatoun\, Wellington 6022\, New Zealand
END:VEVENT
END:VCALENDAR