BEGIN:VCALENDAR
VERSION:2.0
PRODID:-//Seatoun School - ECPv6.8.3//NONSGML v1.0//EN
CALSCALE:GREGORIAN
METHOD:PUBLISH
X-ORIGINAL-URL:https://seatoun.school.nz
X-WR-CALDESC:Events for Seatoun School
REFRESH-INTERVAL;VALUE=DURATION:PT1H
X-Robots-Tag:noindex
X-PUBLISHED-TTL:PT1H
BEGIN:VTIMEZONE
TZID:Pacific/Auckland
BEGIN:STANDARD
TZOFFSETFROM:+1300
TZOFFSETTO:+1200
TZNAME:NZST
DTSTART:20210403T140000
END:STANDARD
BEGIN:DAYLIGHT
TZOFFSETFROM:+1200
TZOFFSETTO:+1300
TZNAME:NZDT
DTSTART:20210925T140000
END:DAYLIGHT
END:VTIMEZONE
BEGIN:VEVENT
DTSTART;VALUE=DATE:20210826
DTEND;VALUE=DATE:20210827
DTSTAMP:20260424T135028
CREATED:20210629T074703Z
LAST-MODIFIED:20240229T213308Z
UID:9836-1629936000-1630022399@seatoun.school.nz
SUMMARY:ICAS Spelling Bee - postponed
DESCRIPTION:
URL:https://seatoun.school.nz/event/icas-spelling-bee/
END:VEVENT
BEGIN:VEVENT
DTSTART;VALUE=DATE:20210826
DTEND;VALUE=DATE:20210827
DTSTAMP:20260424T135028
CREATED:20210629T074704Z
LAST-MODIFIED:20240229T213306Z
UID:9837-1629936000-1630022399@seatoun.school.nz
SUMMARY:Wellington Central Regionals Chess Tournament -Postponed
DESCRIPTION:
URL:https://seatoun.school.nz/event/wellington-central-regionals-chess-tournament/
END:VEVENT
BEGIN:VEVENT
DTSTART;TZID=Pacific/Auckland:20210826T090000
DTEND;TZID=Pacific/Auckland:20210826T120000
DTSTAMP:20260424T135028
CREATED:20210802T104453Z
LAST-MODIFIED:20240229T213308Z
UID:9982-1629968400-1629979200@seatoun.school.nz
SUMMARY:Y7/8 NIWA Science Fair Judging (
DESCRIPTION:The venue for the NIWA Wellington Regional Science and Technology FairTBA. \nWednesday\, August 25 – Setup Day and Registration Between 12:30 pm and 4:30 pm. All Poster or Display boards should be placed in their pre-allocated positions. All Students should Register. \nThursday\, August 26 – Judging Day (No public viewing) Current Proposals are:- 9 am – 12 noon: Classes 1 and 2 (Yr 7 and 8). 1 – 3 pm: Classes 3\, 4\, 5 (Yrs 9-13). Students should be available at these times to meet the judges\, and discuss their work. After judging\, students are encouraged to explore the rest of the fair\, but please do not get in the way of the judges. \nFriday\, August 27– Public Viewing 1:00 pm – 3:00 pm. The announcement of results on this site at 12:00 Noon. Exhibits can be collected from 3:00pm – 5:00pm. \nSaturday\, August 28 – Project Collection Between 9:00am & 11:00am & Prize-giving is from 1:00 pm to 2:00 pm \nAwards Ceremony Venue –  TBA.All prize winners\, families\, friends\, teachers and exhibitors are welcome to attend. Prize winners should be there at 12.30 pm and will be seated in designated seats to facilitate the proceedings. Attendance is optional for Highly Commended exhibitors. The Prize-giving will run from 1-2pm.
URL:https://seatoun.school.nz/event/y7-8-niwa-science-fair-judging/
END:VEVENT
END:VCALENDAR