BEGIN:VCALENDAR
VERSION:2.0
PRODID:-//Seatoun School - ECPv6.8.3//NONSGML v1.0//EN
CALSCALE:GREGORIAN
METHOD:PUBLISH
X-WR-CALNAME:Seatoun School
X-ORIGINAL-URL:https://seatoun.school.nz
X-WR-CALDESC:Events for Seatoun School
REFRESH-INTERVAL;VALUE=DURATION:PT1H
X-Robots-Tag:noindex
X-PUBLISHED-TTL:PT1H
BEGIN:VTIMEZONE
TZID:Pacific/Auckland
BEGIN:STANDARD
TZOFFSETFROM:+1300
TZOFFSETTO:+1200
TZNAME:NZST
DTSTART:20210403T140000
END:STANDARD
BEGIN:DAYLIGHT
TZOFFSETFROM:+1200
TZOFFSETTO:+1300
TZNAME:NZDT
DTSTART:20210925T140000
END:DAYLIGHT
END:VTIMEZONE
BEGIN:VEVENT
DTSTART;VALUE=DATE:20210827
DTEND;VALUE=DATE:20210828
DTSTAMP:20260424T135017
CREATED:20210709T082010Z
LAST-MODIFIED:20210806T110555Z
UID:9895-1630022400-1630108799@seatoun.school.nz
SUMMARY:Hui Yr 5/6
DESCRIPTION:
URL:https://seatoun.school.nz/event/hui-yr-5-6/
END:VEVENT
BEGIN:VEVENT
DTSTART;TZID=Pacific/Auckland:20210827T090000
DTEND;TZID=Pacific/Auckland:20210827T100000
DTSTAMP:20260424T135017
CREATED:20210826T004242Z
LAST-MODIFIED:20240229T213308Z
UID:10041-1630054800-1630058400@seatoun.school.nz
SUMMARY:Art with Kate
DESCRIPTION:Seatoun School is inviting you to a scheduled Zoom meeting.\nTopic: Art with Mrs Sutherland\nTime: Aug 27\, 2021 09:00 AM Auckland\, Wellington\nJoin Zoom Meeting\nhttps://us06web.zoom.us/j/88442487121?pwd=MTJXRTJYVzhoYUdMYXd1VXBRZVF1UT09\nMeeting ID: 884 4248 7121\nPasscode: Art
URL:https://seatoun.school.nz/event/art-with-kate/
END:VEVENT
BEGIN:VEVENT
DTSTART;TZID=Pacific/Auckland:20210827T105500
DTEND;TZID=Pacific/Auckland:20210827T121000
DTSTAMP:20260424T135017
CREATED:20210826T004243Z
LAST-MODIFIED:20240229T213306Z
UID:10043-1630061700-1630066200@seatoun.school.nz
SUMMARY:Cooking with Karen
DESCRIPTION:Topic: Rusty Millar’s Zoom Meeting\nTime: Aug 27\, 2021 11:00 AM Auckland\, Wellington\nJoin Zoom Meeting\nhttps://us02web.zoom.us/j/81653478879?pwd=WUZkMkppaEl3LytUV1RyaUk2L1RQZz09\nMeeting ID: 816 5347 8879\nPasscode: 532357
URL:https://seatoun.school.nz/event/cooking-with-karen/
END:VEVENT
BEGIN:VEVENT
DTSTART;TZID=Pacific/Auckland:20210827T153000
DTEND;TZID=Pacific/Auckland:20210827T161500
DTSTAMP:20260424T135017
CREATED:20240229T213309Z
LAST-MODIFIED:20240229T213309Z
UID:10891-1630078200-1630080900@seatoun.school.nz
SUMMARY:TENTATIVE SLT Meeting - only meeting if we are moving to AL3 over the weekend.
DESCRIPTION:Join with Google Meet: https://meet.google.com/fph-hrdk-jxf\nOr dial: (US) +1 413-338-0184 PIN: 254167306#\nLearn more about Meet at: https://support.google.com/a/users/answer/9282720
URL:https://seatoun.school.nz/event/tentative-slt-meeting-only-meeting-if-we-are-moving-to-al3-over-the-weekend/
END:VEVENT
END:VCALENDAR