BEGIN:VCALENDAR
VERSION:2.0
PRODID:-//Seatoun School - ECPv6.8.3//NONSGML v1.0//EN
CALSCALE:GREGORIAN
METHOD:PUBLISH
X-ORIGINAL-URL:https://seatoun.school.nz
X-WR-CALDESC:Events for Seatoun School
REFRESH-INTERVAL;VALUE=DURATION:PT1H
X-Robots-Tag:noindex
X-PUBLISHED-TTL:PT1H
BEGIN:VTIMEZONE
TZID:Pacific/Auckland
BEGIN:STANDARD
TZOFFSETFROM:+1300
TZOFFSETTO:+1200
TZNAME:NZST
DTSTART:20210403T140000
END:STANDARD
BEGIN:DAYLIGHT
TZOFFSETFROM:+1200
TZOFFSETTO:+1300
TZNAME:NZDT
DTSTART:20210925T140000
END:DAYLIGHT
END:VTIMEZONE
BEGIN:VEVENT
DTSTART;VALUE=DATE:20210901
DTEND;VALUE=DATE:20210902
DTSTAMP:20260424T135044
CREATED:20201209T135755Z
LAST-MODIFIED:20210806T110555Z
UID:9162-1630454400-1630540799@seatoun.school.nz
SUMMARY:EZ Swimming Y4-8
DESCRIPTION:
URL:https://seatoun.school.nz/event/ez-swimming-y4-8/
END:VEVENT
BEGIN:VEVENT
DTSTART;VALUE=DATE:20210901
DTEND;VALUE=DATE:20210902
DTSTAMP:20260424T135044
CREATED:20210826T004244Z
LAST-MODIFIED:20240229T213309Z
UID:10046-1630454400-1630540799@seatoun.school.nz
SUMMARY:EZ Swimming - cancelled
DESCRIPTION:
URL:https://seatoun.school.nz/event/ez-swimming-cancelled/
END:VEVENT
END:VCALENDAR