BEGIN:VCALENDAR
VERSION:2.0
PRODID:-//Seatoun School - ECPv6.8.3//NONSGML v1.0//EN
CALSCALE:GREGORIAN
METHOD:PUBLISH
X-ORIGINAL-URL:https://seatoun.school.nz
X-WR-CALDESC:Events for Seatoun School
REFRESH-INTERVAL;VALUE=DURATION:PT1H
X-Robots-Tag:noindex
X-PUBLISHED-TTL:PT1H
BEGIN:VTIMEZONE
TZID:Pacific/Auckland
BEGIN:STANDARD
TZOFFSETFROM:+1300
TZOFFSETTO:+1200
TZNAME:NZST
DTSTART:20210403T140000
END:STANDARD
BEGIN:DAYLIGHT
TZOFFSETFROM:+1200
TZOFFSETTO:+1300
TZNAME:NZDT
DTSTART:20210925T140000
END:DAYLIGHT
END:VTIMEZONE
BEGIN:VEVENT
DTSTART;VALUE=DATE:20210903
DTEND;VALUE=DATE:20210904
DTSTAMP:20260424T135044
CREATED:20210505T033641Z
LAST-MODIFIED:20240229T213311Z
UID:9692-1630627200-1630713599@seatoun.school.nz
SUMMARY:Ballot applications close midday
DESCRIPTION:
URL:https://seatoun.school.nz/event/ballot-applications-close-midday-2/
END:VEVENT
BEGIN:VEVENT
DTSTART;TZID=Pacific/Auckland:20210903T090000
DTEND;TZID=Pacific/Auckland:20210903T150000
DTSTAMP:20260424T135044
CREATED:20200820T031558Z
LAST-MODIFIED:20200909T053507Z
UID:8733-1630659600-1630681200@seatoun.school.nz
SUMMARY:Kāhui Ako wide TOD
DESCRIPTION:
URL:https://seatoun.school.nz/event/kahui-ako-wide-tod/
END:VEVENT
BEGIN:VEVENT
DTSTART;TZID=Pacific/Auckland:20210903T090000
DTEND;TZID=Pacific/Auckland:20210903T150000
DTSTAMP:20260424T135044
CREATED:20201020T090556Z
LAST-MODIFIED:20210826T004244Z
UID:8927-1630659600-1630681200@seatoun.school.nz
SUMMARY:POSTPONED - Kahui Ako Wide Teacher Only Day - school closed
DESCRIPTION:
URL:https://seatoun.school.nz/event/kahui-ako-wide-teacher-only-day-school-closed/
END:VEVENT
BEGIN:VEVENT
DTSTART;TZID=Pacific/Auckland:20210903T093000
DTEND;TZID=Pacific/Auckland:20210903T103000
DTSTAMP:20260424T135044
CREATED:20240229T213309Z
LAST-MODIFIED:20240229T213309Z
UID:10893-1630661400-1630665000@seatoun.school.nz
SUMMARY:Art with Ms Sutherland - Illuminated Letters - a follow on from last week
DESCRIPTION:Topic: Illuminated Letters\nTime: Sep 3\, 2021 09:30 AM Auckland\, Wellington\nJoin Zoom Meeting\nhttps://us06web.zoom.us/j/85475372784?pwd=cWRQcUVQM1o3VWQxenpma2dtTldpUT09\nMeeting ID: 854 7537 2784\nPasscode: Art
URL:https://seatoun.school.nz/event/art-with-ms-sutherland-illuminated-letters-a-follow-on-from-last-week/
END:VEVENT
BEGIN:VEVENT
DTSTART;TZID=Pacific/Auckland:20210903T110000
DTEND;TZID=Pacific/Auckland:20210903T120000
DTSTAMP:20260424T135044
CREATED:20240229T213311Z
LAST-MODIFIED:20240229T213311Z
UID:10894-1630666800-1630670400@seatoun.school.nz
SUMMARY:Cooking with Karen - easy tomatoe pasta - yummmmmm!
DESCRIPTION:Join Zoom Meeting\nhttps://us02web.zoom.us/j/83505001405?pwd=bExiL29kT3hRaVdrdGtIMHpHclA3QT09\nMeeting ID: 835 0500 1405\nPasscode: 508012\nFind your local number: https://us02web.zoom.us/u/kdILlA6IN6
URL:https://seatoun.school.nz/event/cooking-with-karen-easy-tomatoe-pasta-yummmmmm/
END:VEVENT
END:VCALENDAR