BEGIN:VCALENDAR
VERSION:2.0
PRODID:-//Seatoun School - ECPv6.8.3//NONSGML v1.0//EN
CALSCALE:GREGORIAN
METHOD:PUBLISH
X-WR-CALNAME:Seatoun School
X-ORIGINAL-URL:https://seatoun.school.nz
X-WR-CALDESC:Events for Seatoun School
REFRESH-INTERVAL;VALUE=DURATION:PT1H
X-Robots-Tag:noindex
X-PUBLISHED-TTL:PT1H
BEGIN:VTIMEZONE
TZID:Pacific/Auckland
BEGIN:STANDARD
TZOFFSETFROM:+1300
TZOFFSETTO:+1200
TZNAME:NZST
DTSTART:20210403T140000
END:STANDARD
BEGIN:DAYLIGHT
TZOFFSETFROM:+1200
TZOFFSETTO:+1300
TZNAME:NZDT
DTSTART:20210925T140000
END:DAYLIGHT
END:VTIMEZONE
BEGIN:VEVENT
DTSTART;VALUE=DATE:20211117
DTEND;VALUE=DATE:20211118
DTSTAMP:20260424T180209
CREATED:20201209T135756Z
LAST-MODIFIED:20210826T004246Z
UID:9167-1637107200-1637193599@seatoun.school.nz
SUMMARY:pp EZ Athletics
DESCRIPTION:
URL:https://seatoun.school.nz/event/pp-ez-athletics/
END:VEVENT
BEGIN:VEVENT
DTSTART;TZID=Pacific/Auckland:20211117T090000
DTEND;TZID=Pacific/Auckland:20211117T150000
DTSTAMP:20260424T180209
CREATED:20210304T224724Z
LAST-MODIFIED:20240229T213314Z
UID:9390-1637139600-1637161200@seatoun.school.nz
SUMMARY:Rongotai College Experience Day
DESCRIPTION:
URL:https://seatoun.school.nz/event/rongotai-college-experience-day/
END:VEVENT
END:VCALENDAR