BEGIN:VCALENDAR
VERSION:2.0
PRODID:-//Seatoun School - ECPv6.8.3//NONSGML v1.0//EN
CALSCALE:GREGORIAN
METHOD:PUBLISH
X-ORIGINAL-URL:https://seatoun.school.nz
X-WR-CALDESC:Events for Seatoun School
REFRESH-INTERVAL;VALUE=DURATION:PT1H
X-Robots-Tag:noindex
X-PUBLISHED-TTL:PT1H
BEGIN:VTIMEZONE
TZID:Pacific/Auckland
BEGIN:STANDARD
TZOFFSETFROM:+1300
TZOFFSETTO:+1200
TZNAME:NZST
DTSTART:20210403T140000
END:STANDARD
BEGIN:DAYLIGHT
TZOFFSETFROM:+1200
TZOFFSETTO:+1300
TZNAME:NZDT
DTSTART:20210925T140000
END:DAYLIGHT
END:VTIMEZONE
BEGIN:VEVENT
DTSTART;VALUE=DATE:20211209
DTEND;VALUE=DATE:20211210
DTSTAMP:20260424T194907
CREATED:20201209T135757Z
LAST-MODIFIED:20210826T004246Z
UID:9171-1639008000-1639094399@seatoun.school.nz
SUMMARY:pp Regional Athletics
DESCRIPTION:
URL:https://seatoun.school.nz/event/pp-regional-athletics-2/
END:VEVENT
BEGIN:VEVENT
DTSTART;TZID=Pacific/Auckland:20211209T183000
DTEND;TZID=Pacific/Auckland:20211209T193000
DTSTAMP:20260424T194907
CREATED:20240229T213315Z
LAST-MODIFIED:20240229T213315Z
UID:10922-1639074600-1639078200@seatoun.school.nz
SUMMARY:Year 8 Dance Lesson Group 1 TBC
DESCRIPTION:
URL:https://seatoun.school.nz/event/year-8-dance-lesson-group-1-tbc/
END:VEVENT
BEGIN:VEVENT
DTSTART;TZID=Pacific/Auckland:20211209T193000
DTEND;TZID=Pacific/Auckland:20211209T203000
DTSTAMP:20260424T194907
CREATED:20240229T213315Z
LAST-MODIFIED:20240229T213315Z
UID:10923-1639078200-1639081800@seatoun.school.nz
SUMMARY:Year 8 Dance Lesson Group 2 - TBC
DESCRIPTION:
URL:https://seatoun.school.nz/event/year-8-dance-lesson-group-2-tbc/
END:VEVENT
END:VCALENDAR