BEGIN:VCALENDAR
VERSION:2.0
PRODID:-//Seatoun School - ECPv6.8.3//NONSGML v1.0//EN
CALSCALE:GREGORIAN
METHOD:PUBLISH
X-WR-CALNAME:Seatoun School
X-ORIGINAL-URL:https://seatoun.school.nz
X-WR-CALDESC:Events for Seatoun School
REFRESH-INTERVAL;VALUE=DURATION:PT1H
X-Robots-Tag:noindex
X-PUBLISHED-TTL:PT1H
BEGIN:VTIMEZONE
TZID:Pacific/Auckland
BEGIN:STANDARD
TZOFFSETFROM:+1300
TZOFFSETTO:+1200
TZNAME:NZST
DTSTART:20210403T140000
END:STANDARD
BEGIN:DAYLIGHT
TZOFFSETFROM:+1200
TZOFFSETTO:+1300
TZNAME:NZDT
DTSTART:20210925T140000
END:DAYLIGHT
END:VTIMEZONE
BEGIN:VEVENT
DTSTART;TZID=Pacific/Auckland:20211214T180000
DTEND;TZID=Pacific/Auckland:20211214T211500
DTSTAMP:20260424T194840
CREATED:20240229T213315Z
LAST-MODIFIED:20240229T213315Z
UID:10924-1639504800-1639516500@seatoun.school.nz
SUMMARY:Year 8 Leavers Formal Evening
DESCRIPTION:Students arrive: 6pm\nDrinks in the Atrium from 6pm for parents.\nDinner at: 6:15pm\nParents come through to watch dancing at: 7:30pm\nYear 8 awards and dancing with parents\nConclude at around: 9:15pm
URL:https://seatoun.school.nz/event/year-8-leavers-formal-evening-2/
END:VEVENT
END:VCALENDAR