BEGIN:VCALENDAR
VERSION:2.0
PRODID:-//Seatoun School - ECPv6.8.3//NONSGML v1.0//EN
CALSCALE:GREGORIAN
METHOD:PUBLISH
X-ORIGINAL-URL:https://seatoun.school.nz
X-WR-CALDESC:Events for Seatoun School
REFRESH-INTERVAL;VALUE=DURATION:PT1H
X-Robots-Tag:noindex
X-PUBLISHED-TTL:PT1H
BEGIN:VTIMEZONE
TZID:Pacific/Auckland
BEGIN:STANDARD
TZOFFSETFROM:+1300
TZOFFSETTO:+1200
TZNAME:NZST
DTSTART:20220402T140000
END:STANDARD
BEGIN:DAYLIGHT
TZOFFSETFROM:+1200
TZOFFSETTO:+1300
TZNAME:NZDT
DTSTART:20220924T140000
END:DAYLIGHT
END:VTIMEZONE
BEGIN:VEVENT
DTSTART;VALUE=DATE:20220613
DTEND;VALUE=DATE:20220614
DTSTAMP:20260425T082028
CREATED:20210414T023203Z
LAST-MODIFIED:20240229T213318Z
UID:9589-1655078400-1655164799@seatoun.school.nz
SUMMARY:Week 7
DESCRIPTION:
URL:https://seatoun.school.nz/event/week-7-7/
END:VEVENT
BEGIN:VEVENT
DTSTART;TZID=Pacific/Auckland:20220613T193000
DTEND;TZID=Pacific/Auckland:20220613T210000
DTSTAMP:20260425T082028
CREATED:20240229T213318Z
LAST-MODIFIED:20240229T213318Z
UID:10959-1655148600-1655154000@seatoun.school.nz
SUMMARY:FoSS meeting
DESCRIPTION:
URL:https://seatoun.school.nz/event/foss-meeting-4/
END:VEVENT
END:VCALENDAR