BEGIN:VCALENDAR
VERSION:2.0
PRODID:-//Seatoun School - ECPv6.8.3//NONSGML v1.0//EN
CALSCALE:GREGORIAN
METHOD:PUBLISH
X-ORIGINAL-URL:https://seatoun.school.nz
X-WR-CALDESC:Events for Seatoun School
REFRESH-INTERVAL;VALUE=DURATION:PT1H
X-Robots-Tag:noindex
X-PUBLISHED-TTL:PT1H
BEGIN:VTIMEZONE
TZID:Pacific/Auckland
BEGIN:STANDARD
TZOFFSETFROM:+1300
TZOFFSETTO:+1200
TZNAME:NZST
DTSTART:20220402T140000
END:STANDARD
BEGIN:DAYLIGHT
TZOFFSETFROM:+1200
TZOFFSETTO:+1300
TZNAME:NZDT
DTSTART:20220924T140000
END:DAYLIGHT
END:VTIMEZONE
BEGIN:VEVENT
DTSTART;VALUE=DATE:20220614
DTEND;VALUE=DATE:20220615
DTSTAMP:20260425T064941
CREATED:20240229T213318Z
LAST-MODIFIED:20240229T213318Z
UID:10961-1655164800-1655251199@seatoun.school.nz
SUMMARY:Y7 Immunisation
DESCRIPTION:
URL:https://seatoun.school.nz/event/y7-immunisation/
END:VEVENT
BEGIN:VEVENT
DTSTART;VALUE=DATE:20220614
DTEND;VALUE=DATE:20220615
DTSTAMP:20260425T064941
CREATED:20240229T213318Z
LAST-MODIFIED:20240229T213318Z
UID:10960-1655164800-1655251199@seatoun.school.nz
SUMMARY:IZ Cross Country
DESCRIPTION:Grenada North Park
URL:https://seatoun.school.nz/event/iz-cross-country/
END:VEVENT
END:VCALENDAR