BEGIN:VCALENDAR
VERSION:2.0
PRODID:-//Seatoun School - ECPv6.8.3//NONSGML v1.0//EN
CALSCALE:GREGORIAN
METHOD:PUBLISH
X-WR-CALNAME:Seatoun School
X-ORIGINAL-URL:https://seatoun.school.nz
X-WR-CALDESC:Events for Seatoun School
REFRESH-INTERVAL;VALUE=DURATION:PT1H
X-Robots-Tag:noindex
X-PUBLISHED-TTL:PT1H
BEGIN:VTIMEZONE
TZID:Pacific/Auckland
BEGIN:STANDARD
TZOFFSETFROM:+1300
TZOFFSETTO:+1200
TZNAME:NZST
DTSTART:20220402T140000
END:STANDARD
BEGIN:DAYLIGHT
TZOFFSETFROM:+1200
TZOFFSETTO:+1300
TZNAME:NZDT
DTSTART:20220924T140000
END:DAYLIGHT
END:VTIMEZONE
BEGIN:VEVENT
DTSTART;VALUE=DATE:20220616
DTEND;VALUE=DATE:20220617
DTSTAMP:20260425T081915
CREATED:20240229T213318Z
LAST-MODIFIED:20240229T213318Z
UID:10962-1655337600-1655423999@seatoun.school.nz
SUMMARY:IZ Cross Country pp
DESCRIPTION:
URL:https://seatoun.school.nz/event/iz-cross-country-pp/
END:VEVENT
BEGIN:VEVENT
DTSTART;TZID=Pacific/Auckland:20220616T113000
DTEND;TZID=Pacific/Auckland:20220616T123000
DTSTAMP:20260425T081915
CREATED:20240229T213318Z
LAST-MODIFIED:20240229T213318Z
UID:10964-1655379000-1655382600@seatoun.school.nz
SUMMARY:Taonga Puoro Performance
DESCRIPTION:Join with Google Meet: https://meet.google.com/nmo-thou-rpd\nOr dial: (US) +1 575-459-0066 PIN: 222259694#\nLearn more about Meet at: https://support.google.com/a/users/answer/9282720
URL:https://seatoun.school.nz/event/taonga-puoro-performance/
ORGANIZER;CN="matt.finnigan@seatoun.school.nz":MAILTO:matt.finnigan@seatoun.school.nz
END:VEVENT
BEGIN:VEVENT
DTSTART;TZID=Pacific/Auckland:20220616T180000
DTEND;TZID=Pacific/Auckland:20220616T201500
DTSTAMP:20260425T081915
CREATED:20240229T213318Z
LAST-MODIFIED:20240229T213318Z
UID:10965-1655402400-1655410500@seatoun.school.nz
SUMMARY:Matariki Celebration for community
DESCRIPTION:
URL:https://seatoun.school.nz/event/matariki-celebration-for-community/
END:VEVENT
END:VCALENDAR