BEGIN:VCALENDAR
VERSION:2.0
PRODID:-//Seatoun School - ECPv6.8.3//NONSGML v1.0//EN
CALSCALE:GREGORIAN
METHOD:PUBLISH
X-ORIGINAL-URL:https://seatoun.school.nz
X-WR-CALDESC:Events for Seatoun School
REFRESH-INTERVAL;VALUE=DURATION:PT1H
X-Robots-Tag:noindex
X-PUBLISHED-TTL:PT1H
BEGIN:VTIMEZONE
TZID:Pacific/Auckland
BEGIN:STANDARD
TZOFFSETFROM:+1300
TZOFFSETTO:+1200
TZNAME:NZST
DTSTART:20220402T140000
END:STANDARD
BEGIN:DAYLIGHT
TZOFFSETFROM:+1200
TZOFFSETTO:+1300
TZNAME:NZDT
DTSTART:20220924T140000
END:DAYLIGHT
END:VTIMEZONE
BEGIN:VEVENT
DTSTART;VALUE=DATE:20220826
DTEND;VALUE=DATE:20220827
DTSTAMP:20260425T145114
CREATED:20240229T213320Z
LAST-MODIFIED:20240229T213320Z
UID:10999-1661472000-1661558399@seatoun.school.nz
SUMMARY:Swimming Years 3 and 4
DESCRIPTION:
URL:https://seatoun.school.nz/event/swimming-years-3-and-4-4/
END:VEVENT
BEGIN:VEVENT
DTSTART;TZID=Pacific/Auckland:20220826T090000
DTEND;TZID=Pacific/Auckland:20220826T100000
DTSTAMP:20260425T145114
CREATED:20240229T213320Z
LAST-MODIFIED:20240229T213320Z
UID:10997-1661504400-1661508000@seatoun.school.nz
SUMMARY:Hui Years 3 & 4 presenting
DESCRIPTION:
URL:https://seatoun.school.nz/event/hui-years-3-4-presenting/
END:VEVENT
BEGIN:VEVENT
DTSTART;TZID=Pacific/Auckland:20220826T123000
DTEND;TZID=Pacific/Auckland:20220826T133000
DTSTAMP:20260425T145114
CREATED:20240229T213320Z
LAST-MODIFIED:20240229T213320Z
UID:10998-1661517000-1661520600@seatoun.school.nz
SUMMARY:Year 3/4 Swimming
DESCRIPTION:
URL:https://seatoun.school.nz/event/year-3-4-swimming-7/
END:VEVENT
END:VCALENDAR