BEGIN:VCALENDAR
VERSION:2.0
PRODID:-//Seatoun School - ECPv6.8.3//NONSGML v1.0//EN
CALSCALE:GREGORIAN
METHOD:PUBLISH
X-ORIGINAL-URL:https://seatoun.school.nz
X-WR-CALDESC:Events for Seatoun School
REFRESH-INTERVAL;VALUE=DURATION:PT1H
X-Robots-Tag:noindex
X-PUBLISHED-TTL:PT1H
BEGIN:VTIMEZONE
TZID:Pacific/Auckland
BEGIN:STANDARD
TZOFFSETFROM:+1300
TZOFFSETTO:+1200
TZNAME:NZST
DTSTART:20220402T140000
END:STANDARD
BEGIN:DAYLIGHT
TZOFFSETFROM:+1200
TZOFFSETTO:+1300
TZNAME:NZDT
DTSTART:20220924T140000
END:DAYLIGHT
END:VTIMEZONE
BEGIN:VEVENT
DTSTART;TZID=Pacific/Auckland:20220915T083000
DTEND;TZID=Pacific/Auckland:20220915T150000
DTSTAMP:20260425T225940
CREATED:20240229T213321Z
LAST-MODIFIED:20240229T213321Z
UID:11019-1663230600-1663254000@seatoun.school.nz
SUMMARY:Yr 5-8 Futsal Tournament ASB
DESCRIPTION:
URL:https://seatoun.school.nz/event/yr-5-8-futsal-tournament-asb/
END:VEVENT
BEGIN:VEVENT
DTSTART;TZID=Pacific/Auckland:20220915T084500
DTEND;TZID=Pacific/Auckland:20220915T093000
DTSTAMP:20260425T225940
CREATED:20240229T213321Z
LAST-MODIFIED:20240229T213321Z
UID:11018-1663231500-1663234200@seatoun.school.nz
SUMMARY:Year 7 and 8 Meet and Greet
DESCRIPTION:
URL:https://seatoun.school.nz/event/year-7-and-8-meet-and-greet/
END:VEVENT
END:VCALENDAR