BEGIN:VCALENDAR
VERSION:2.0
PRODID:-//Seatoun School - ECPv6.8.3//NONSGML v1.0//EN
CALSCALE:GREGORIAN
METHOD:PUBLISH
X-WR-CALNAME:Seatoun School
X-ORIGINAL-URL:https://seatoun.school.nz
X-WR-CALDESC:Events for Seatoun School
REFRESH-INTERVAL;VALUE=DURATION:PT1H
X-Robots-Tag:noindex
X-PUBLISHED-TTL:PT1H
BEGIN:VTIMEZONE
TZID:Pacific/Auckland
BEGIN:STANDARD
TZOFFSETFROM:+1300
TZOFFSETTO:+1200
TZNAME:NZST
DTSTART:20220402T140000
END:STANDARD
BEGIN:DAYLIGHT
TZOFFSETFROM:+1200
TZOFFSETTO:+1300
TZNAME:NZDT
DTSTART:20220924T140000
END:DAYLIGHT
END:VTIMEZONE
BEGIN:VEVENT
DTSTART;VALUE=DATE:20220916
DTEND;VALUE=DATE:20220917
DTSTAMP:20260425T145126
CREATED:20240229T213322Z
LAST-MODIFIED:20240229T213322Z
UID:11020-1663286400-1663372799@seatoun.school.nz
SUMMARY:Swimming Years 3 and 4
DESCRIPTION:
URL:https://seatoun.school.nz/event/swimming-years-3-and-4-7/
END:VEVENT
BEGIN:VEVENT
DTSTART;TZID=Pacific/Auckland:20220916T123000
DTEND;TZID=Pacific/Auckland:20220916T133000
DTSTAMP:20260425T145126
CREATED:20240229T213322Z
LAST-MODIFIED:20240229T213322Z
UID:11021-1663331400-1663335000@seatoun.school.nz
SUMMARY:Year 3/4 Swimming
DESCRIPTION:
URL:https://seatoun.school.nz/event/year-3-4-swimming-10/
END:VEVENT
END:VCALENDAR