BEGIN:VCALENDAR
VERSION:2.0
PRODID:-//Seatoun School - ECPv6.8.3//NONSGML v1.0//EN
CALSCALE:GREGORIAN
METHOD:PUBLISH
X-ORIGINAL-URL:https://seatoun.school.nz
X-WR-CALDESC:Events for Seatoun School
REFRESH-INTERVAL;VALUE=DURATION:PT1H
X-Robots-Tag:noindex
X-PUBLISHED-TTL:PT1H
BEGIN:VTIMEZONE
TZID:Pacific/Auckland
BEGIN:STANDARD
TZOFFSETFROM:+1300
TZOFFSETTO:+1200
TZNAME:NZST
DTSTART:20220402T140000
END:STANDARD
BEGIN:DAYLIGHT
TZOFFSETFROM:+1200
TZOFFSETTO:+1300
TZNAME:NZDT
DTSTART:20220924T140000
END:DAYLIGHT
END:VTIMEZONE
BEGIN:VEVENT
DTSTART;TZID=Pacific/Auckland:20221101T090000
DTEND;TZID=Pacific/Auckland:20221101T150000
DTSTAMP:20260426T020221
CREATED:20240229T213323Z
LAST-MODIFIED:20240229T213323Z
UID:11037-1667293200-1667314800@seatoun.school.nz
SUMMARY:Yr 4-8 Competitive Athletics Trials Day
DESCRIPTION:
URL:https://seatoun.school.nz/event/yr-4-8-competitive-athletics-trials-day/
END:VEVENT
BEGIN:VEVENT
DTSTART;TZID=Pacific/Auckland:20221101T133000
DTEND;TZID=Pacific/Auckland:20221101T143000
DTSTAMP:20260426T020221
CREATED:20240229T213323Z
LAST-MODIFIED:20240229T213323Z
UID:11036-1667309400-1667313000@seatoun.school.nz
SUMMARY:Year 0\, 1\, and 2  Show Party Pigs!
DESCRIPTION:
URL:https://seatoun.school.nz/event/year-0-1-and-2-show-party-pigs/
END:VEVENT
BEGIN:VEVENT
DTSTART;TZID=Pacific/Auckland:20221101T193000
DTEND;TZID=Pacific/Auckland:20221101T204500
DTSTAMP:20260426T020221
CREATED:20240229T213323Z
LAST-MODIFIED:20240229T213323Z
UID:11038-1667331000-1667335500@seatoun.school.nz
SUMMARY:FoSS meeting
DESCRIPTION:
URL:https://seatoun.school.nz/event/foss-meeting-6/
END:VEVENT
END:VCALENDAR