BEGIN:VCALENDAR
VERSION:2.0
PRODID:-//Seatoun School - ECPv6.8.3//NONSGML v1.0//EN
CALSCALE:GREGORIAN
METHOD:PUBLISH
X-WR-CALNAME:Seatoun School
X-ORIGINAL-URL:https://seatoun.school.nz
X-WR-CALDESC:Events for Seatoun School
REFRESH-INTERVAL;VALUE=DURATION:PT1H
X-Robots-Tag:noindex
X-PUBLISHED-TTL:PT1H
BEGIN:VTIMEZONE
TZID:Pacific/Auckland
BEGIN:STANDARD
TZOFFSETFROM:+1300
TZOFFSETTO:+1200
TZNAME:NZST
DTSTART:20220402T140000
END:STANDARD
BEGIN:DAYLIGHT
TZOFFSETFROM:+1200
TZOFFSETTO:+1300
TZNAME:NZDT
DTSTART:20220924T140000
END:DAYLIGHT
END:VTIMEZONE
BEGIN:VEVENT
DTSTART;TZID=Pacific/Auckland:20221103T090000
DTEND;TZID=Pacific/Auckland:20221103T150000
DTSTAMP:20260426T020215
CREATED:20240229T213323Z
LAST-MODIFIED:20240229T213323Z
UID:11040-1667466000-1667487600@seatoun.school.nz
SUMMARY:PP Competitive Athletics Trials Yr
DESCRIPTION:
URL:https://seatoun.school.nz/event/pp-competitive-athletics-trials-yr/
END:VEVENT
BEGIN:VEVENT
DTSTART;TZID=Pacific/Auckland:20221103T093000
DTEND;TZID=Pacific/Auckland:20221103T113000
DTSTAMP:20260426T020215
CREATED:20240229T213323Z
LAST-MODIFIED:20240229T213323Z
UID:11041-1667467800-1667475000@seatoun.school.nz
SUMMARY:Swimming: Room 10\, 6 and 7
DESCRIPTION:
URL:https://seatoun.school.nz/event/swimming-room-10-6-and-7-3/
END:VEVENT
BEGIN:VEVENT
DTSTART;TZID=Pacific/Auckland:20221103T103000
DTEND;TZID=Pacific/Auckland:20221103T123000
DTSTAMP:20260426T020215
CREATED:20240229T213323Z
LAST-MODIFIED:20240229T213323Z
UID:11039-1667471400-1667478600@seatoun.school.nz
SUMMARY:Swimming: Room 5\,6\, and 9
DESCRIPTION:
URL:https://seatoun.school.nz/event/swimming-room-56-and-9-2/
END:VEVENT
END:VCALENDAR