BEGIN:VCALENDAR
VERSION:2.0
PRODID:-//Seatoun School - ECPv6.8.3//NONSGML v1.0//EN
CALSCALE:GREGORIAN
METHOD:PUBLISH
X-WR-CALNAME:Seatoun School
X-ORIGINAL-URL:https://seatoun.school.nz
X-WR-CALDESC:Events for Seatoun School
REFRESH-INTERVAL;VALUE=DURATION:PT1H
X-Robots-Tag:noindex
X-PUBLISHED-TTL:PT1H
BEGIN:VTIMEZONE
TZID:Pacific/Auckland
BEGIN:STANDARD
TZOFFSETFROM:+1300
TZOFFSETTO:+1200
TZNAME:NZST
DTSTART:20220402T140000
END:STANDARD
BEGIN:DAYLIGHT
TZOFFSETFROM:+1200
TZOFFSETTO:+1300
TZNAME:NZDT
DTSTART:20220924T140000
END:DAYLIGHT
END:VTIMEZONE
BEGIN:VEVENT
DTSTART;VALUE=DATE:20221110
DTEND;VALUE=DATE:20221111
DTSTAMP:20260426T033918
CREATED:20240229T213323Z
LAST-MODIFIED:20240229T213323Z
UID:11049-1668038400-1668124799@seatoun.school.nz
SUMMARY:Steeple Rock Challenge - Parent Sharing
DESCRIPTION:
URL:https://seatoun.school.nz/event/steeple-rock-challenge-parent-sharing/
END:VEVENT
BEGIN:VEVENT
DTSTART;TZID=Pacific/Auckland:20221110T093000
DTEND;TZID=Pacific/Auckland:20221110T113000
DTSTAMP:20260426T033918
CREATED:20240229T213323Z
LAST-MODIFIED:20240229T213323Z
UID:11046-1668072600-1668079800@seatoun.school.nz
SUMMARY:Swimming: Room 10\, 6 and 7
DESCRIPTION:
URL:https://seatoun.school.nz/event/swimming-room-10-6-and-7-4/
END:VEVENT
BEGIN:VEVENT
DTSTART;TZID=Pacific/Auckland:20221110T103000
DTEND;TZID=Pacific/Auckland:20221110T123000
DTSTAMP:20260426T033918
CREATED:20240229T213323Z
LAST-MODIFIED:20240229T213323Z
UID:11048-1668076200-1668083400@seatoun.school.nz
SUMMARY:Swimming: Room 5\,6\, and 9
DESCRIPTION:
URL:https://seatoun.school.nz/event/swimming-room-56-and-9-3/
END:VEVENT
END:VCALENDAR