BEGIN:VCALENDAR
VERSION:2.0
PRODID:-//Seatoun School - ECPv6.8.3//NONSGML v1.0//EN
CALSCALE:GREGORIAN
METHOD:PUBLISH
X-WR-CALNAME:Seatoun School
X-ORIGINAL-URL:https://seatoun.school.nz
X-WR-CALDESC:Events for Seatoun School
REFRESH-INTERVAL;VALUE=DURATION:PT1H
X-Robots-Tag:noindex
X-PUBLISHED-TTL:PT1H
BEGIN:VTIMEZONE
TZID:Pacific/Auckland
BEGIN:STANDARD
TZOFFSETFROM:+1300
TZOFFSETTO:+1200
TZNAME:NZST
DTSTART:20220402T140000
END:STANDARD
BEGIN:DAYLIGHT
TZOFFSETFROM:+1200
TZOFFSETTO:+1300
TZNAME:NZDT
DTSTART:20220924T140000
END:DAYLIGHT
END:VTIMEZONE
BEGIN:VEVENT
DTSTART;VALUE=DATE:20221128
DTEND;VALUE=DATE:20221203
DTSTAMP:20260426T033920
CREATED:20240229T213324Z
LAST-MODIFIED:20240229T213324Z
UID:11060-1669593600-1670025599@seatoun.school.nz
SUMMARY:Year 8 Mistletoe Bay Camp
DESCRIPTION:
URL:https://seatoun.school.nz/event/year-8-mistletoe-bay-camp/
END:VEVENT
BEGIN:VEVENT
DTSTART;VALUE=DATE:20221128
DTEND;VALUE=DATE:20221203
DTSTAMP:20260426T033920
CREATED:20240229T213324Z
LAST-MODIFIED:20240229T213324Z
UID:11063-1669593600-1670025599@seatoun.school.nz
SUMMARY:Year 3-4 EOTC Week
DESCRIPTION:
URL:https://seatoun.school.nz/event/year-3-4-eotc-week-2/
END:VEVENT
BEGIN:VEVENT
DTSTART;VALUE=DATE:20221201
DTEND;VALUE=DATE:20221202
DTSTAMP:20260426T033920
CREATED:20240229T213324Z
LAST-MODIFIED:20240229T213324Z
UID:11064-1669852800-1669939199@seatoun.school.nz
SUMMARY:PP InterZone Athletics
DESCRIPTION:
URL:https://seatoun.school.nz/event/pp-interzone-athletics/
END:VEVENT
BEGIN:VEVENT
DTSTART;TZID=Pacific/Auckland:20221201T093000
DTEND;TZID=Pacific/Auckland:20221201T113000
DTSTAMP:20260426T033920
CREATED:20240229T213324Z
LAST-MODIFIED:20240229T213324Z
UID:11062-1669887000-1669894200@seatoun.school.nz
SUMMARY:Swimming: Room 10\, 6 and 7
DESCRIPTION:
URL:https://seatoun.school.nz/event/swimming-room-10-6-and-7-7/
END:VEVENT
BEGIN:VEVENT
DTSTART;TZID=Pacific/Auckland:20221201T103000
DTEND;TZID=Pacific/Auckland:20221201T123000
DTSTAMP:20260426T033920
CREATED:20240229T213324Z
LAST-MODIFIED:20240229T213324Z
UID:11059-1669890600-1669897800@seatoun.school.nz
SUMMARY:Swimming: Room 5\,6\, and 9
DESCRIPTION:
URL:https://seatoun.school.nz/event/swimming-room-56-and-9-6/
END:VEVENT
END:VCALENDAR