BEGIN:VCALENDAR
VERSION:2.0
PRODID:-//Seatoun School - ECPv6.8.3//NONSGML v1.0//EN
CALSCALE:GREGORIAN
METHOD:PUBLISH
X-WR-CALNAME:Seatoun School
X-ORIGINAL-URL:https://seatoun.school.nz
X-WR-CALDESC:Events for Seatoun School
REFRESH-INTERVAL;VALUE=DURATION:PT1H
X-Robots-Tag:noindex
X-PUBLISHED-TTL:PT1H
BEGIN:VTIMEZONE
TZID:Pacific/Auckland
BEGIN:STANDARD
TZOFFSETFROM:+1300
TZOFFSETTO:+1200
TZNAME:NZST
DTSTART:20220402T140000
END:STANDARD
BEGIN:DAYLIGHT
TZOFFSETFROM:+1200
TZOFFSETTO:+1300
TZNAME:NZDT
DTSTART:20220924T140000
END:DAYLIGHT
END:VTIMEZONE
BEGIN:VEVENT
DTSTART;VALUE=DATE:20221206
DTEND;VALUE=DATE:20221210
DTSTAMP:20260426T033922
CREATED:20240229T213325Z
LAST-MODIFIED:20240229T213325Z
UID:11066-1670284800-1670630399@seatoun.school.nz
SUMMARY:Bee Healthy Van
DESCRIPTION:
URL:https://seatoun.school.nz/event/bee-healthy-van/
END:VEVENT
BEGIN:VEVENT
DTSTART;VALUE=DATE:20221208
DTEND;VALUE=DATE:20221209
DTSTAMP:20260426T033922
CREATED:20240229T213325Z
LAST-MODIFIED:20240229T213325Z
UID:11070-1670457600-1670543999@seatoun.school.nz
SUMMARY:PP Regional Athletics
DESCRIPTION:
URL:https://seatoun.school.nz/event/pp-regional-athletics-3/
END:VEVENT
BEGIN:VEVENT
DTSTART;TZID=Pacific/Auckland:20221208T093000
DTEND;TZID=Pacific/Auckland:20221208T113000
DTSTAMP:20260426T033922
CREATED:20240229T213325Z
LAST-MODIFIED:20240229T213325Z
UID:11068-1670491800-1670499000@seatoun.school.nz
SUMMARY:Swimming: Room 10\, 6 and 7
DESCRIPTION:
URL:https://seatoun.school.nz/event/swimming-room-10-6-and-7-8/
END:VEVENT
BEGIN:VEVENT
DTSTART;TZID=Pacific/Auckland:20221208T103000
DTEND;TZID=Pacific/Auckland:20221208T123000
DTSTAMP:20260426T033922
CREATED:20240229T213325Z
LAST-MODIFIED:20240229T213325Z
UID:11069-1670495400-1670502600@seatoun.school.nz
SUMMARY:Swimming: Room 5\,6\, and 9
DESCRIPTION:
URL:https://seatoun.school.nz/event/swimming-room-56-and-9-7/
END:VEVENT
BEGIN:VEVENT
DTSTART;TZID=Pacific/Auckland:20221208T190000
DTEND;TZID=Pacific/Auckland:20221208T211500
DTSTAMP:20260426T033922
CREATED:20240229T213325Z
LAST-MODIFIED:20240229T213325Z
UID:11071-1670526000-1670534100@seatoun.school.nz
SUMMARY:BoT Meeting
DESCRIPTION:
URL:https://seatoun.school.nz/event/bot-meeting-4/
END:VEVENT
END:VCALENDAR