BEGIN:VCALENDAR
VERSION:2.0
PRODID:-//Seatoun School - ECPv6.8.3//NONSGML v1.0//EN
CALSCALE:GREGORIAN
METHOD:PUBLISH
X-ORIGINAL-URL:https://seatoun.school.nz
X-WR-CALDESC:Events for Seatoun School
REFRESH-INTERVAL;VALUE=DURATION:PT1H
X-Robots-Tag:noindex
X-PUBLISHED-TTL:PT1H
BEGIN:VTIMEZONE
TZID:Pacific/Auckland
BEGIN:STANDARD
TZOFFSETFROM:+1300
TZOFFSETTO:+1200
TZNAME:NZST
DTSTART:20230401T140000
END:STANDARD
BEGIN:DAYLIGHT
TZOFFSETFROM:+1200
TZOFFSETTO:+1300
TZNAME:NZDT
DTSTART:20230923T140000
END:DAYLIGHT
END:VTIMEZONE
BEGIN:VEVENT
DTSTART;TZID=Pacific/Auckland:20230321T190000
DTEND;TZID=Pacific/Auckland:20230321T203000
DTSTAMP:20260426T111241
CREATED:20240229T213329Z
LAST-MODIFIED:20240229T213329Z
UID:11115-1679425200-1679430600@seatoun.school.nz
SUMMARY:Keeping our kids safe online and with devices session
DESCRIPTION:
URL:https://seatoun.school.nz/event/keeping-our-kids-safe-online-and-with-devices-session/
END:VEVENT
END:VCALENDAR