BEGIN:VCALENDAR
VERSION:2.0
PRODID:-//Seatoun School - ECPv6.8.3//NONSGML v1.0//EN
CALSCALE:GREGORIAN
METHOD:PUBLISH
X-WR-CALNAME:Seatoun School
X-ORIGINAL-URL:https://seatoun.school.nz
X-WR-CALDESC:Events for Seatoun School
REFRESH-INTERVAL;VALUE=DURATION:PT1H
X-Robots-Tag:noindex
X-PUBLISHED-TTL:PT1H
BEGIN:VTIMEZONE
TZID:Pacific/Auckland
BEGIN:STANDARD
TZOFFSETFROM:+1300
TZOFFSETTO:+1200
TZNAME:NZST
DTSTART:20230401T140000
END:STANDARD
BEGIN:DAYLIGHT
TZOFFSETFROM:+1200
TZOFFSETTO:+1300
TZNAME:NZDT
DTSTART:20230923T140000
END:DAYLIGHT
END:VTIMEZONE
BEGIN:VEVENT
DTSTART;VALUE=DATE:20230327
DTEND;VALUE=DATE:20230407
DTSTAMP:20260426T111307
CREATED:20240229T213329Z
LAST-MODIFIED:20240229T213329Z
UID:11119-1679875200-1680825599@seatoun.school.nz
SUMMARY:Mobile Dental Van
DESCRIPTION:
URL:https://seatoun.school.nz/event/mobile-dental-van/
END:VEVENT
BEGIN:VEVENT
DTSTART;VALUE=DATE:20230328
DTEND;VALUE=DATE:20230329
DTSTAMP:20260426T111307
CREATED:20240229T213329Z
LAST-MODIFIED:20240229T213329Z
UID:11125-1679961600-1680047999@seatoun.school.nz
SUMMARY:Zoo visit  - Y 1 and 2
DESCRIPTION:leave at 10:30 maybe even by 10:15 until 2pm.
URL:https://seatoun.school.nz/event/zoo-visit-y-1-and-2/
END:VEVENT
BEGIN:VEVENT
DTSTART;TZID=Pacific/Auckland:20230328T150000
DTEND;TZID=Pacific/Auckland:20230328T174500
DTSTAMP:20260426T111307
CREATED:20240229T213329Z
LAST-MODIFIED:20240229T213329Z
UID:11123-1680015600-1680025500@seatoun.school.nz
SUMMARY:3 Way Conferences
DESCRIPTION:
URL:https://seatoun.school.nz/event/3-way-conferences-5/
END:VEVENT
END:VCALENDAR