BEGIN:VCALENDAR
VERSION:2.0
PRODID:-//Seatoun School - ECPv6.8.3//NONSGML v1.0//EN
CALSCALE:GREGORIAN
METHOD:PUBLISH
X-ORIGINAL-URL:https://seatoun.school.nz
X-WR-CALDESC:Events for Seatoun School
REFRESH-INTERVAL;VALUE=DURATION:PT1H
X-Robots-Tag:noindex
X-PUBLISHED-TTL:PT1H
BEGIN:VTIMEZONE
TZID:Pacific/Auckland
BEGIN:STANDARD
TZOFFSETFROM:+1300
TZOFFSETTO:+1200
TZNAME:NZST
DTSTART:20230401T140000
END:STANDARD
BEGIN:DAYLIGHT
TZOFFSETFROM:+1200
TZOFFSETTO:+1300
TZNAME:NZDT
DTSTART:20230923T140000
END:DAYLIGHT
END:VTIMEZONE
BEGIN:VEVENT
DTSTART;VALUE=DATE:20230327
DTEND;VALUE=DATE:20230407
DTSTAMP:20260426T112857
CREATED:20240229T213329Z
LAST-MODIFIED:20240229T213329Z
UID:11119-1679875200-1680825599@seatoun.school.nz
SUMMARY:Mobile Dental Van
DESCRIPTION:
URL:https://seatoun.school.nz/event/mobile-dental-van/
END:VEVENT
BEGIN:VEVENT
DTSTART;VALUE=DATE:20230406
DTEND;VALUE=DATE:20230407
DTSTAMP:20260426T112857
CREATED:20240229T213330Z
LAST-MODIFIED:20240229T213330Z
UID:11137-1680739200-1680825599@seatoun.school.nz
SUMMARY:Mihi Whakatau
DESCRIPTION:
URL:https://seatoun.school.nz/event/mihi-whakatau-2/
END:VEVENT
BEGIN:VEVENT
DTSTART;VALUE=DATE:20230406
DTEND;VALUE=DATE:20230407
DTSTAMP:20260426T112857
CREATED:20240229T213330Z
LAST-MODIFIED:20240229T213330Z
UID:11133-1680739200-1680825599@seatoun.school.nz
SUMMARY:End Primary and intermediate Term 1
DESCRIPTION:
URL:https://seatoun.school.nz/event/end-primary-and-intermediate-term-1/
END:VEVENT
BEGIN:VEVENT
DTSTART;VALUE=DATE:20230406
DTEND;VALUE=DATE:20230407
DTSTAMP:20260426T112857
CREATED:20240229T213330Z
LAST-MODIFIED:20240229T213330Z
UID:11136-1680739200-1680825599@seatoun.school.nz
SUMMARY:Dental Van departs
DESCRIPTION:
URL:https://seatoun.school.nz/event/dental-van-departs/
END:VEVENT
BEGIN:VEVENT
DTSTART;TZID=Pacific/Auckland:20230406T090000
DTEND;TZID=Pacific/Auckland:20230406T100000
DTSTAMP:20260426T112857
CREATED:20240229T213329Z
LAST-MODIFIED:20240229T213329Z
UID:11131-1680771600-1680775200@seatoun.school.nz
SUMMARY:Mihi Whakatau?
DESCRIPTION:
URL:https://seatoun.school.nz/event/mihi-whakatau/
END:VEVENT
END:VCALENDAR