BEGIN:VCALENDAR
VERSION:2.0
PRODID:-//Seatoun School - ECPv6.8.3//NONSGML v1.0//EN
CALSCALE:GREGORIAN
METHOD:PUBLISH
X-WR-CALNAME:Seatoun School
X-ORIGINAL-URL:https://seatoun.school.nz
X-WR-CALDESC:Events for Seatoun School
REFRESH-INTERVAL;VALUE=DURATION:PT1H
X-Robots-Tag:noindex
X-PUBLISHED-TTL:PT1H
BEGIN:VTIMEZONE
TZID:Pacific/Auckland
BEGIN:STANDARD
TZOFFSETFROM:+1300
TZOFFSETTO:+1200
TZNAME:NZST
DTSTART:20230401T140000
END:STANDARD
BEGIN:DAYLIGHT
TZOFFSETFROM:+1200
TZOFFSETTO:+1300
TZNAME:NZDT
DTSTART:20230923T140000
END:DAYLIGHT
END:VTIMEZONE
BEGIN:VEVENT
DTSTART;VALUE=DATE:20230426
DTEND;VALUE=DATE:20230427
DTSTAMP:20260426T112859
CREATED:20240229T213330Z
LAST-MODIFIED:20240229T213330Z
UID:11142-1682467200-1682553599@seatoun.school.nz
SUMMARY:Week 1
DESCRIPTION:
URL:https://seatoun.school.nz/event/week-1-5/
END:VEVENT
BEGIN:VEVENT
DTSTART;VALUE=DATE:20230426
DTEND;VALUE=DATE:20230427
DTSTAMP:20260426T112859
CREATED:20240229T213330Z
LAST-MODIFIED:20240229T213330Z
UID:11144-1682467200-1682553599@seatoun.school.nz
SUMMARY:Auditions for School Show
DESCRIPTION:
URL:https://seatoun.school.nz/event/auditions-for-school-show-2/
END:VEVENT
BEGIN:VEVENT
DTSTART;VALUE=DATE:20230426
DTEND;VALUE=DATE:20230427
DTSTAMP:20260426T112859
CREATED:20240229T213330Z
LAST-MODIFIED:20240229T213330Z
UID:11145-1682467200-1682553599@seatoun.school.nz
SUMMARY:Start Primary and intermediate Term 2
DESCRIPTION:
URL:https://seatoun.school.nz/event/start-primary-and-intermediate-term-2/
END:VEVENT
BEGIN:VEVENT
DTSTART;TZID=Pacific/Auckland:20230426T093000
DTEND;TZID=Pacific/Auckland:20230426T103000
DTSTAMP:20260426T112859
CREATED:20240229T213330Z
LAST-MODIFIED:20240229T213330Z
UID:11141-1682501400-1682505000@seatoun.school.nz
SUMMARY:Term 2  - Welcome to School Hui
DESCRIPTION:
URL:https://seatoun.school.nz/event/term-2-welcome-to-school-hui/
END:VEVENT
END:VCALENDAR