BEGIN:VCALENDAR
VERSION:2.0
PRODID:-//Seatoun School - ECPv6.8.3//NONSGML v1.0//EN
CALSCALE:GREGORIAN
METHOD:PUBLISH
X-WR-CALNAME:Seatoun School
X-ORIGINAL-URL:https://seatoun.school.nz
X-WR-CALDESC:Events for Seatoun School
REFRESH-INTERVAL;VALUE=DURATION:PT1H
X-Robots-Tag:noindex
X-PUBLISHED-TTL:PT1H
BEGIN:VTIMEZONE
TZID:Pacific/Auckland
BEGIN:STANDARD
TZOFFSETFROM:+1300
TZOFFSETTO:+1200
TZNAME:NZST
DTSTART:20210403T140000
END:STANDARD
BEGIN:DAYLIGHT
TZOFFSETFROM:+1200
TZOFFSETTO:+1300
TZNAME:NZDT
DTSTART:20210925T140000
END:DAYLIGHT
END:VTIMEZONE
BEGIN:VEVENT
DTSTART;VALUE=DATE:20211021
DTEND;VALUE=DATE:20211022
DTSTAMP:20260425T004209
CREATED:20240229T213313Z
LAST-MODIFIED:20240229T213313Z
UID:10903-1634774400-1634860799@seatoun.school.nz
SUMMARY:ICAS Spelling
DESCRIPTION:
URL:https://seatoun.school.nz/event/icas-spelling/
END:VEVENT
BEGIN:VEVENT
DTSTART;TZID=Pacific/Auckland:20211020T113000
DTEND;TZID=Pacific/Auckland:20211020T131500
DTSTAMP:20260425T004209
CREATED:20240229T213313Z
LAST-MODIFIED:20240229T213313Z
UID:10902-1634729400-1634735700@seatoun.school.nz
SUMMARY:ICAS Writing
DESCRIPTION:
URL:https://seatoun.school.nz/event/icas-writing-2/
END:VEVENT
BEGIN:VEVENT
DTSTART;VALUE=DATE:20211020
DTEND;VALUE=DATE:20211021
DTSTAMP:20260425T004209
CREATED:20210629T074703Z
LAST-MODIFIED:20240229T213313Z
UID:9832-1634688000-1634774399@seatoun.school.nz
SUMMARY:ICAS Writing
DESCRIPTION:
URL:https://seatoun.school.nz/event/icas-writing/
END:VEVENT
BEGIN:VEVENT
DTSTART;VALUE=DATE:20211019
DTEND;VALUE=DATE:20211020
DTSTAMP:20260425T004209
CREATED:20201215T140920Z
LAST-MODIFIED:20240229T213313Z
UID:9216-1634601600-1634687999@seatoun.school.nz
SUMMARY:LC Scott - school photos
DESCRIPTION:
URL:https://seatoun.school.nz/event/lc-scott-school-photos/
END:VEVENT
BEGIN:VEVENT
DTSTART;TZID=Pacific/Auckland:20211018T093000
DTEND;TZID=Pacific/Auckland:20211018T113000
DTSTAMP:20260425T004209
CREATED:20240229T213313Z
LAST-MODIFIED:20240229T213313Z
UID:10900-1634549400-1634556600@seatoun.school.nz
SUMMARY:ICAS Science
DESCRIPTION:
URL:https://seatoun.school.nz/event/icas-science-2/
END:VEVENT
BEGIN:VEVENT
DTSTART;VALUE=DATE:20211018
DTEND;VALUE=DATE:20211019
DTSTAMP:20260425T004209
CREATED:20240229T213313Z
LAST-MODIFIED:20240229T213313Z
UID:10901-1634515200-1634601599@seatoun.school.nz
SUMMARY:ICAS Science
DESCRIPTION:
URL:https://seatoun.school.nz/event/icas-science-3/
END:VEVENT
BEGIN:VEVENT
DTSTART;VALUE=DATE:20211018
DTEND;VALUE=DATE:20211019
DTSTAMP:20260425T004209
CREATED:20200525T021955Z
LAST-MODIFIED:20240229T213313Z
UID:8343-1634515200-1634601599@seatoun.school.nz
SUMMARY:First day of Term 4
DESCRIPTION:
URL:https://seatoun.school.nz/event/first-day-of-term-4/
END:VEVENT
BEGIN:VEVENT
DTSTART;VALUE=DATE:20211004
DTEND;VALUE=DATE:20211017
DTSTAMP:20260425T004209
CREATED:20200525T021955Z
LAST-MODIFIED:20240229T213313Z
UID:8342-1633305600-1634428799@seatoun.school.nz
SUMMARY:Holidays
DESCRIPTION:
URL:https://seatoun.school.nz/event/holidays/
END:VEVENT
BEGIN:VEVENT
DTSTART;VALUE=DATE:20211001
DTEND;VALUE=DATE:20211002
DTSTAMP:20260425T004209
CREATED:20200525T021955Z
LAST-MODIFIED:20240229T213313Z
UID:8341-1633046400-1633132799@seatoun.school.nz
SUMMARY:Last day of Term 3
DESCRIPTION:
URL:https://seatoun.school.nz/event/last-day-of-term-3/
END:VEVENT
BEGIN:VEVENT
DTSTART;VALUE=DATE:20210930
DTEND;VALUE=DATE:20211001
DTSTAMP:20260425T004209
CREATED:20210619T064547Z
LAST-MODIFIED:20240229T213313Z
UID:9780-1632960000-1633046399@seatoun.school.nz
SUMMARY:Talent Quest Postponed
DESCRIPTION:
URL:https://seatoun.school.nz/event/talent-quest/
END:VEVENT
BEGIN:VEVENT
DTSTART;VALUE=DATE:20210930
DTEND;VALUE=DATE:20211001
DTSTAMP:20260425T004209
CREATED:20201209T135756Z
LAST-MODIFIED:20240229T213312Z
UID:9165-1632960000-1633046399@seatoun.school.nz
SUMMARY:Inter Regional Cross Country
DESCRIPTION:
URL:https://seatoun.school.nz/event/inter-regional-cross-country/
END:VEVENT
BEGIN:VEVENT
DTSTART;VALUE=DATE:20210928
DTEND;VALUE=DATE:20210929
DTSTAMP:20260425T004209
CREATED:20210728T094304Z
LAST-MODIFIED:20210826T004245Z
UID:9966-1632787200-1632873599@seatoun.school.nz
SUMMARY:Speech and Poetry Finals this evening
DESCRIPTION:
URL:https://seatoun.school.nz/event/speech-and-poetry-finals/
END:VEVENT
BEGIN:VEVENT
DTSTART;VALUE=DATE:20210928
DTEND;VALUE=DATE:20210929
DTSTAMP:20260425T004209
CREATED:20201201T122945Z
LAST-MODIFIED:20240229T213312Z
UID:9092-1632787200-1632873599@seatoun.school.nz
SUMMARY:Y8 Immunisation
DESCRIPTION:
URL:https://seatoun.school.nz/event/y8-immunisation-time-tbc/
END:VEVENT
BEGIN:VEVENT
DTSTART;VALUE=DATE:20210927
DTEND;VALUE=DATE:20210928
DTSTAMP:20260425T004209
CREATED:20201110T110322Z
LAST-MODIFIED:20240229T213312Z
UID:9010-1632700800-1632787199@seatoun.school.nz
SUMMARY:Week 10
DESCRIPTION:
URL:https://seatoun.school.nz/event/week-10-4/
END:VEVENT
BEGIN:VEVENT
DTSTART;VALUE=DATE:20210924
DTEND;VALUE=DATE:20210925
DTSTAMP:20260425T004209
CREATED:20210709T082011Z
LAST-MODIFIED:20210826T004245Z
UID:9898-1632441600-1632527999@seatoun.school.nz
SUMMARY:Hui Y 7/8 - tbc
DESCRIPTION:
URL:https://seatoun.school.nz/event/hui-y-7-8/
END:VEVENT
BEGIN:VEVENT
DTSTART;VALUE=DATE:20210923
DTEND;VALUE=DATE:20210924
DTSTAMP:20260425T004209
CREATED:20201209T135756Z
LAST-MODIFIED:20240229T213312Z
UID:9164-1632355200-1632441599@seatoun.school.nz
SUMMARY:Inter Zone Swimming Y4-8 - cancelled
DESCRIPTION:
URL:https://seatoun.school.nz/event/inter-zone-swimming-y4-8/
END:VEVENT
BEGIN:VEVENT
DTSTART;VALUE=DATE:20210922
DTEND;VALUE=DATE:20210923
DTSTAMP:20260425T004209
CREATED:20201209T135755Z
LAST-MODIFIED:20240229T213312Z
UID:9163-1632268800-1632355199@seatoun.school.nz
SUMMARY:EZ Floorball - tbc
DESCRIPTION:
URL:https://seatoun.school.nz/event/ez-floorball-2/
END:VEVENT
BEGIN:VEVENT
DTSTART;VALUE=DATE:20210920
DTEND;VALUE=DATE:20210921
DTSTAMP:20260425T004209
CREATED:20201110T110322Z
LAST-MODIFIED:20240229T213312Z
UID:9009-1632096000-1632182399@seatoun.school.nz
SUMMARY:Week 9
DESCRIPTION:
URL:https://seatoun.school.nz/event/week-9-4/
END:VEVENT
BEGIN:VEVENT
DTSTART;VALUE=DATE:20210917
DTEND;VALUE=DATE:20210920
DTSTAMP:20260425T004209
CREATED:20200525T021955Z
LAST-MODIFIED:20240229T213312Z
UID:8340-1631836800-1632095999@seatoun.school.nz
SUMMARY:Centenary Celebration Weekend -POSTPONED Until March 2022
DESCRIPTION:
URL:https://seatoun.school.nz/event/proposed-date-for-centenary-celebration-weekend/
END:VEVENT
BEGIN:VEVENT
DTSTART;VALUE=DATE:20210915
DTEND;VALUE=DATE:20210916
DTSTAMP:20260425T004209
CREATED:20210826T004244Z
LAST-MODIFIED:20240229T213312Z
UID:10050-1631664000-1631750399@seatoun.school.nz
SUMMARY:FoSS Sausage Sizzle - cancelled
DESCRIPTION:
URL:https://seatoun.school.nz/event/foss-sausage-sizzle-tbc/
END:VEVENT
BEGIN:VEVENT
DTSTART;VALUE=DATE:20210913
DTEND;VALUE=DATE:20210914
DTSTAMP:20260425T004209
CREATED:20200525T021955Z
LAST-MODIFIED:20240229T213312Z
UID:8339-1631491200-1631577599@seatoun.school.nz
SUMMARY:Week 8
DESCRIPTION:
URL:https://seatoun.school.nz/event/week-8-2/
END:VEVENT
BEGIN:VEVENT
DTSTART;VALUE=DATE:20210910
DTEND;VALUE=DATE:20210911
DTSTAMP:20260425T004209
CREATED:20210709T082011Z
LAST-MODIFIED:20240229T213312Z
UID:9897-1631232000-1631318399@seatoun.school.nz
SUMMARY:Hui Year 3/4 - Postponed
DESCRIPTION:
URL:https://seatoun.school.nz/event/hui-year-3-4/
END:VEVENT
BEGIN:VEVENT
DTSTART;VALUE=DATE:20210910
DTEND;VALUE=DATE:20210911
DTSTAMP:20260425T004209
CREATED:20210505T033641Z
LAST-MODIFIED:20240229T213312Z
UID:9693-1631232000-1631318399@seatoun.school.nz
SUMMARY:2022 Ballot drawn
DESCRIPTION:
URL:https://seatoun.school.nz/event/ballot-drawn-2/
END:VEVENT
BEGIN:VEVENT
DTSTART;VALUE=DATE:20210909
DTEND;VALUE=DATE:20210910
DTSTAMP:20260425T004209
CREATED:20210826T004244Z
LAST-MODIFIED:20240229T213312Z
UID:10048-1631145600-1631231999@seatoun.school.nz
SUMMARY:FoSS Disco - Postponed
DESCRIPTION:
URL:https://seatoun.school.nz/event/foss-disco-postponed/
END:VEVENT
BEGIN:VEVENT
DTSTART;VALUE=DATE:20210906
DTEND;VALUE=DATE:20210907
DTSTAMP:20260425T004209
CREATED:20200525T021955Z
LAST-MODIFIED:20240229T213312Z
UID:8338-1630886400-1630972799@seatoun.school.nz
SUMMARY:Week 7
DESCRIPTION:
URL:https://seatoun.school.nz/event/week-7-2/
END:VEVENT
BEGIN:VEVENT
DTSTART;TZID=Pacific/Auckland:20210903T110000
DTEND;TZID=Pacific/Auckland:20210903T120000
DTSTAMP:20260425T004209
CREATED:20240229T213311Z
LAST-MODIFIED:20240229T213311Z
UID:10894-1630666800-1630670400@seatoun.school.nz
SUMMARY:Cooking with Karen - easy tomatoe pasta - yummmmmm!
DESCRIPTION:Join Zoom Meeting\nhttps://us02web.zoom.us/j/83505001405?pwd=bExiL29kT3hRaVdrdGtIMHpHclA3QT09\nMeeting ID: 835 0500 1405\nPasscode: 508012\nFind your local number: https://us02web.zoom.us/u/kdILlA6IN6
URL:https://seatoun.school.nz/event/cooking-with-karen-easy-tomatoe-pasta-yummmmmm/
END:VEVENT
BEGIN:VEVENT
DTSTART;TZID=Pacific/Auckland:20210903T093000
DTEND;TZID=Pacific/Auckland:20210903T103000
DTSTAMP:20260425T004209
CREATED:20240229T213309Z
LAST-MODIFIED:20240229T213309Z
UID:10893-1630661400-1630665000@seatoun.school.nz
SUMMARY:Art with Ms Sutherland - Illuminated Letters - a follow on from last week
DESCRIPTION:Topic: Illuminated Letters\nTime: Sep 3\, 2021 09:30 AM Auckland\, Wellington\nJoin Zoom Meeting\nhttps://us06web.zoom.us/j/85475372784?pwd=cWRQcUVQM1o3VWQxenpma2dtTldpUT09\nMeeting ID: 854 7537 2784\nPasscode: Art
URL:https://seatoun.school.nz/event/art-with-ms-sutherland-illuminated-letters-a-follow-on-from-last-week/
END:VEVENT
BEGIN:VEVENT
DTSTART;TZID=Pacific/Auckland:20210903T090000
DTEND;TZID=Pacific/Auckland:20210903T150000
DTSTAMP:20260425T004209
CREATED:20201020T090556Z
LAST-MODIFIED:20210826T004244Z
UID:8927-1630659600-1630681200@seatoun.school.nz
SUMMARY:POSTPONED - Kahui Ako Wide Teacher Only Day - school closed
DESCRIPTION:
URL:https://seatoun.school.nz/event/kahui-ako-wide-teacher-only-day-school-closed/
END:VEVENT
BEGIN:VEVENT
DTSTART;TZID=Pacific/Auckland:20210903T090000
DTEND;TZID=Pacific/Auckland:20210903T150000
DTSTAMP:20260425T004209
CREATED:20200820T031558Z
LAST-MODIFIED:20200909T053507Z
UID:8733-1630659600-1630681200@seatoun.school.nz
SUMMARY:Kāhui Ako wide TOD
DESCRIPTION:
URL:https://seatoun.school.nz/event/kahui-ako-wide-tod/
END:VEVENT
BEGIN:VEVENT
DTSTART;VALUE=DATE:20210903
DTEND;VALUE=DATE:20210904
DTSTAMP:20260425T004209
CREATED:20210505T033641Z
LAST-MODIFIED:20240229T213311Z
UID:9692-1630627200-1630713599@seatoun.school.nz
SUMMARY:Ballot applications close midday
DESCRIPTION:
URL:https://seatoun.school.nz/event/ballot-applications-close-midday-2/
END:VEVENT
END:VCALENDAR