BEGIN:VCALENDAR
VERSION:2.0
PRODID:-//Seatoun School - ECPv6.8.3//NONSGML v1.0//EN
CALSCALE:GREGORIAN
METHOD:PUBLISH
X-ORIGINAL-URL:https://seatoun.school.nz
X-WR-CALDESC:Events for Seatoun School
REFRESH-INTERVAL;VALUE=DURATION:PT1H
X-Robots-Tag:noindex
X-PUBLISHED-TTL:PT1H
BEGIN:VTIMEZONE
TZID:Pacific/Auckland
BEGIN:STANDARD
TZOFFSETFROM:+1300
TZOFFSETTO:+1200
TZNAME:NZST
DTSTART:20210403T140000
END:STANDARD
BEGIN:DAYLIGHT
TZOFFSETFROM:+1200
TZOFFSETTO:+1300
TZNAME:NZDT
DTSTART:20210925T140000
END:DAYLIGHT
END:VTIMEZONE
BEGIN:VEVENT
DTSTART;VALUE=DATE:20210322
DTEND;VALUE=DATE:20210417
DTSTAMP:20260424T123324
CREATED:20201116T113319Z
LAST-MODIFIED:20210416T024600Z
UID:9055-1616371200-1618617599@seatoun.school.nz
SUMMARY:Bee Healthy Dental Van
DESCRIPTION:
URL:https://seatoun.school.nz/event/bee-healthy-dental-van/
END:VEVENT
BEGIN:VEVENT
DTSTART;VALUE=DATE:20210413
DTEND;VALUE=DATE:20210414
DTSTAMP:20260424T123324
CREATED:20201209T135753Z
LAST-MODIFIED:20210413T021552Z
UID:9153-1618272000-1618358399@seatoun.school.nz
SUMMARY:Futsal Festival Y1-4\, ASB
DESCRIPTION:
URL:https://seatoun.school.nz/event/futsal-festival-y1-4-asb/
END:VEVENT
BEGIN:VEVENT
DTSTART;TZID=Pacific/Auckland:20210413T190000
DTEND;TZID=Pacific/Auckland:20210413T203000
DTSTAMP:20260424T123324
CREATED:20210315T235000Z
LAST-MODIFIED:20210413T021552Z
UID:9436-1618340400-1618345800@seatoun.school.nz
SUMMARY:Centenary Meeting
DESCRIPTION:
URL:https://seatoun.school.nz/event/centenary-meeting/
END:VEVENT
BEGIN:VEVENT
DTSTART;VALUE=DATE:20210414
DTEND;VALUE=DATE:20210415
DTSTAMP:20260424T123324
CREATED:20201209T135753Z
LAST-MODIFIED:20210414T023156Z
UID:9154-1618358400-1618444799@seatoun.school.nz
SUMMARY:Futsal Festival Y5-8\, ASB
DESCRIPTION:
URL:https://seatoun.school.nz/event/futsal-festival-y5-8-asb/
END:VEVENT
BEGIN:VEVENT
DTSTART;TZID=Pacific/Auckland:20210414T100000
DTEND;TZID=Pacific/Auckland:20210414T110000
DTSTAMP:20260424T123324
CREATED:20201208T135550Z
LAST-MODIFIED:20210413T021552Z
UID:9129-1618394400-1618398000@seatoun.school.nz
SUMMARY:Swimming Y3/4
DESCRIPTION:
URL:https://seatoun.school.nz/event/swimming-y3-4-10/
END:VEVENT
BEGIN:VEVENT
DTSTART;VALUE=DATE:20210415
DTEND;VALUE=DATE:20210416
DTSTAMP:20260424T123324
CREATED:20210331T003816Z
LAST-MODIFIED:20210415T024617Z
UID:9483-1618444800-1618531199@seatoun.school.nz
SUMMARY:Year Athletics- cancellation day
DESCRIPTION:
URL:https://seatoun.school.nz/event/year-athletics-cancellation-day/
END:VEVENT
BEGIN:VEVENT
DTSTART;VALUE=DATE:20210416
DTEND;VALUE=DATE:20210417
DTSTAMP:20260424T123324
CREATED:20200525T021953Z
LAST-MODIFIED:20210416T024600Z
UID:8325-1618531200-1618617599@seatoun.school.nz
SUMMARY:Last day of Term 1
DESCRIPTION:
URL:https://seatoun.school.nz/event/last-day-of-term-1/
END:VEVENT
BEGIN:VEVENT
DTSTART;VALUE=DATE:20210416
DTEND;VALUE=DATE:20210417
DTSTAMP:20260424T123324
CREATED:20210308T224847Z
LAST-MODIFIED:20210416T024600Z
UID:9407-1618531200-1618617599@seatoun.school.nz
SUMMARY:FoSS Hell pizza lunch
DESCRIPTION:
URL:https://seatoun.school.nz/event/foss-hell-pizza-lunch-4/
END:VEVENT
BEGIN:VEVENT
DTSTART;VALUE=DATE:20210419
DTEND;VALUE=DATE:20210501
DTSTAMP:20260424T123324
CREATED:20200525T021953Z
LAST-MODIFIED:20210430T033121Z
UID:8326-1618790400-1619827199@seatoun.school.nz
SUMMARY:School Holidays
DESCRIPTION:
URL:https://seatoun.school.nz/event/school-holidays-3/
END:VEVENT
BEGIN:VEVENT
DTSTART;VALUE=DATE:20210429
DTEND;VALUE=DATE:20210430
DTSTAMP:20260424T123324
CREATED:20201030T101551Z
LAST-MODIFIED:20201209T135754Z
UID:8959-1619654400-1619740799@seatoun.school.nz
SUMMARY:Week 8
DESCRIPTION:
URL:https://seatoun.school.nz/event/week-8-3/
END:VEVENT
BEGIN:VEVENT
DTSTART;VALUE=DATE:20210503
DTEND;VALUE=DATE:20210504
DTSTAMP:20260424T123324
CREATED:20200525T021953Z
LAST-MODIFIED:20210503T033201Z
UID:8327-1620000000-1620086399@seatoun.school.nz
SUMMARY:First day of Term 2
DESCRIPTION:
URL:https://seatoun.school.nz/event/first-day-of-term-2/
END:VEVENT
BEGIN:VEVENT
DTSTART;VALUE=DATE:20210503
DTEND;VALUE=DATE:20210504
DTSTAMP:20260424T123324
CREATED:20201110T110321Z
LAST-MODIFIED:20210503T033201Z
UID:8999-1620000000-1620086399@seatoun.school.nz
SUMMARY:Week 1
DESCRIPTION:
URL:https://seatoun.school.nz/event/week-1-3/
END:VEVENT
BEGIN:VEVENT
DTSTART;VALUE=DATE:20210503
DTEND;VALUE=DATE:20210512
DTSTAMP:20260424T123324
CREATED:20201116T113319Z
LAST-MODIFIED:20210511T040357Z
UID:9056-1620000000-1620777599@seatoun.school.nz
SUMMARY:Bee Healthy Dental Van
DESCRIPTION:
URL:https://seatoun.school.nz/event/bee-healthy-dental-van-2/
END:VEVENT
BEGIN:VEVENT
DTSTART;TZID=Pacific/Auckland:20210504T093000
DTEND;TZID=Pacific/Auckland:20210504T140000
DTSTAMP:20260424T123324
CREATED:20210408T014644Z
LAST-MODIFIED:20210503T033201Z
UID:9502-1620120600-1620136800@seatoun.school.nz
SUMMARY:Yr 5-8 Swimming
DESCRIPTION:
URL:https://seatoun.school.nz/event/yr-5-8-swimming/
END:VEVENT
BEGIN:VEVENT
DTSTART;VALUE=DATE:20210510
DTEND;VALUE=DATE:20210511
DTSTAMP:20260424T123324
CREATED:20201110T110321Z
LAST-MODIFIED:20210510T040433Z
UID:9000-1620604800-1620691199@seatoun.school.nz
SUMMARY:Week 2
DESCRIPTION:
URL:https://seatoun.school.nz/event/week-2-3/
END:VEVENT
BEGIN:VEVENT
DTSTART;TZID=Pacific/Auckland:20210511T093000
DTEND;TZID=Pacific/Auckland:20210511T140000
DTSTAMP:20260424T123324
CREATED:20210408T014644Z
LAST-MODIFIED:20210510T040433Z
UID:9503-1620725400-1620741600@seatoun.school.nz
SUMMARY:Yr 5-8 Swimming
DESCRIPTION:
URL:https://seatoun.school.nz/event/yr-5-8-swimming-2/
END:VEVENT
BEGIN:VEVENT
DTSTART;VALUE=DATE:20210513
DTEND;VALUE=DATE:20210514
DTSTAMP:20260424T123324
CREATED:20210509T040210Z
LAST-MODIFIED:20210513T040344Z
UID:9702-1620864000-1620950399@seatoun.school.nz
SUMMARY:Year 5/6 Initial Market Day
DESCRIPTION:
URL:https://seatoun.school.nz/event/year-5-6-initial-market-day/
END:VEVENT
BEGIN:VEVENT
DTSTART;VALUE=DATE:20210514
DTEND;VALUE=DATE:20210515
DTSTAMP:20260424T123324
CREATED:20210310T230146Z
LAST-MODIFIED:20210514T041037Z
UID:9413-1620950400-1621036799@seatoun.school.nz
SUMMARY:Listening to your Child Read  Presentation
DESCRIPTION:
URL:https://seatoun.school.nz/event/listening-to-your-child-read-presentation/
END:VEVENT
BEGIN:VEVENT
DTSTART;VALUE=DATE:20210517
DTEND;VALUE=DATE:20210518
DTSTAMP:20260424T123324
CREATED:20201110T110321Z
LAST-MODIFIED:20210517T042629Z
UID:9001-1621209600-1621295999@seatoun.school.nz
SUMMARY:Week 3
DESCRIPTION:
URL:https://seatoun.school.nz/event/week-3-3/
END:VEVENT
BEGIN:VEVENT
DTSTART;VALUE=DATE:20210517
DTEND;VALUE=DATE:20210518
DTSTAMP:20260424T123324
CREATED:20210331T003817Z
LAST-MODIFIED:20210517T042629Z
UID:9484-1621209600-1621295999@seatoun.school.nz
SUMMARY:School Cross Country
DESCRIPTION:
URL:https://seatoun.school.nz/event/school-cross-country-2/
END:VEVENT
BEGIN:VEVENT
DTSTART;TZID=Pacific/Auckland:20210518T093000
DTEND;TZID=Pacific/Auckland:20210518T140000
DTSTAMP:20260424T123324
CREATED:20210408T014644Z
LAST-MODIFIED:20210517T042629Z
UID:9504-1621330200-1621346400@seatoun.school.nz
SUMMARY:Yr 5-8 Swimming
DESCRIPTION:
URL:https://seatoun.school.nz/event/yr-5-8-swimming-3/
END:VEVENT
BEGIN:VEVENT
DTSTART;TZID=Pacific/Auckland:20210518T193000
DTEND;TZID=Pacific/Auckland:20210518T210000
DTSTAMP:20260424T123324
CREATED:20210414T023156Z
LAST-MODIFIED:20210518T043509Z
UID:9558-1621366200-1621371600@seatoun.school.nz
SUMMARY:Centenary Committee Zoom Meeting
DESCRIPTION:
URL:https://seatoun.school.nz/event/centenary-committee-zoom-meeting/
END:VEVENT
BEGIN:VEVENT
DTSTART;VALUE=DATE:20210519
DTEND;VALUE=DATE:20210520
DTSTAMP:20260424T123324
CREATED:20201209T135754Z
LAST-MODIFIED:20210519T044704Z
UID:9155-1621382400-1621468799@seatoun.school.nz
SUMMARY:EZ Netball Y5-8\, ASB
DESCRIPTION:
URL:https://seatoun.school.nz/event/ez-netball-y5-8-asb/
END:VEVENT
BEGIN:VEVENT
DTSTART;VALUE=DATE:20210520
DTEND;VALUE=DATE:20210521
DTSTAMP:20260424T123324
CREATED:20210331T003817Z
LAST-MODIFIED:20210520T044729Z
UID:9485-1621468800-1621555199@seatoun.school.nz
SUMMARY:School Cross Country pp
DESCRIPTION:
URL:https://seatoun.school.nz/event/school-cross-country-pp/
END:VEVENT
BEGIN:VEVENT
DTSTART;VALUE=DATE:20210521
DTEND;VALUE=DATE:20210522
DTSTAMP:20260424T123324
CREATED:20210330T003330Z
LAST-MODIFIED:20210521T044944Z
UID:9477-1621555200-1621641599@seatoun.school.nz
SUMMARY:Pink Shirt Day
DESCRIPTION:
URL:https://seatoun.school.nz/event/pink-shirt-day/
END:VEVENT
BEGIN:VEVENT
DTSTART;TZID=Pacific/Auckland:20210521T090000
DTEND;TZID=Pacific/Auckland:20210521T100000
DTSTAMP:20260424T123324
CREATED:20210513T040344Z
LAST-MODIFIED:20210520T044729Z
UID:9708-1621587600-1621591200@seatoun.school.nz
SUMMARY:Year 5 and 6 Hui
DESCRIPTION:
URL:https://seatoun.school.nz/event/year-5-and-6-hui/
END:VEVENT
BEGIN:VEVENT
DTSTART;VALUE=DATE:20210524
DTEND;VALUE=DATE:20210525
DTSTAMP:20260424T123324
CREATED:20201110T110321Z
LAST-MODIFIED:20210524T050115Z
UID:9002-1621814400-1621900799@seatoun.school.nz
SUMMARY:Week 4
DESCRIPTION:
URL:https://seatoun.school.nz/event/week-4-4/
END:VEVENT
BEGIN:VEVENT
DTSTART;TZID=Pacific/Auckland:20210524T193000
DTEND;TZID=Pacific/Auckland:20210524T203000
DTSTAMP:20260424T123324
CREATED:20210413T021554Z
LAST-MODIFIED:20210524T050116Z
UID:9538-1621884600-1621888200@seatoun.school.nz
SUMMARY:Foss Committee Meeting
DESCRIPTION:
URL:https://seatoun.school.nz/event/foss-committee-meeting/
END:VEVENT
BEGIN:VEVENT
DTSTART;TZID=Pacific/Auckland:20210525T093000
DTEND;TZID=Pacific/Auckland:20210525T140000
DTSTAMP:20260424T123324
CREATED:20210408T014644Z
LAST-MODIFIED:20210524T050116Z
UID:9505-1621935000-1621951200@seatoun.school.nz
SUMMARY:Yr 5-8 Swimming
DESCRIPTION:
URL:https://seatoun.school.nz/event/yr-5-8-swimming-4/
END:VEVENT
BEGIN:VEVENT
DTSTART;VALUE=DATE:20210526
DTEND;VALUE=DATE:20210527
DTSTAMP:20260424T123324
CREATED:20210408T014644Z
LAST-MODIFIED:20210526T050312Z
UID:9506-1621987200-1622073599@seatoun.school.nz
SUMMARY:Wellington Regional Chess Tournament in Hall
DESCRIPTION:
URL:https://seatoun.school.nz/event/wellington-regional-chess-tournament-in-hall/
END:VEVENT
END:VCALENDAR