BEGIN:VCALENDAR
VERSION:2.0
PRODID:-//Seatoun School - ECPv6.8.3//NONSGML v1.0//EN
CALSCALE:GREGORIAN
METHOD:PUBLISH
X-ORIGINAL-URL:https://seatoun.school.nz
X-WR-CALDESC:Events for Seatoun School
REFRESH-INTERVAL;VALUE=DURATION:PT1H
X-Robots-Tag:noindex
X-PUBLISHED-TTL:PT1H
BEGIN:VTIMEZONE
TZID:Pacific/Auckland
BEGIN:STANDARD
TZOFFSETFROM:+1300
TZOFFSETTO:+1200
TZNAME:NZST
DTSTART:20220402T140000
END:STANDARD
BEGIN:DAYLIGHT
TZOFFSETFROM:+1200
TZOFFSETTO:+1300
TZNAME:NZDT
DTSTART:20220924T140000
END:DAYLIGHT
END:VTIMEZONE
BEGIN:VEVENT
DTSTART;TZID=Pacific/Auckland:20221117T093000
DTEND;TZID=Pacific/Auckland:20221117T113000
DTSTAMP:20260426T034147
CREATED:20240229T213324Z
LAST-MODIFIED:20240229T213324Z
UID:11050-1668677400-1668684600@seatoun.school.nz
SUMMARY:Swimming: Room 10\, 6 and 7
DESCRIPTION:
URL:https://seatoun.school.nz/event/swimming-room-10-6-and-7-5/
END:VEVENT
BEGIN:VEVENT
DTSTART;TZID=Pacific/Auckland:20221117T103000
DTEND;TZID=Pacific/Auckland:20221117T123000
DTSTAMP:20260426T034147
CREATED:20240229T213324Z
LAST-MODIFIED:20240229T213324Z
UID:11051-1668681000-1668688200@seatoun.school.nz
SUMMARY:Swimming: Room 5\,6\, and 9
DESCRIPTION:
URL:https://seatoun.school.nz/event/swimming-room-56-and-9-4/
END:VEVENT
BEGIN:VEVENT
DTSTART;VALUE=DATE:20221121
DTEND;VALUE=DATE:20221122
DTSTAMP:20260426T034147
CREATED:20210414T023205Z
LAST-MODIFIED:20240229T213324Z
UID:9614-1668988800-1669075199@seatoun.school.nz
SUMMARY:Week 6
DESCRIPTION:
URL:https://seatoun.school.nz/event/week-6-9/
END:VEVENT
BEGIN:VEVENT
DTSTART;TZID=Pacific/Auckland:20221122T160000
DTEND;TZID=Pacific/Auckland:20221122T170000
DTSTAMP:20260426T034147
CREATED:20240229T213324Z
LAST-MODIFIED:20240229T213324Z
UID:11053-1669132800-1669136400@seatoun.school.nz
SUMMARY:EOTC yr 5/6 Information Session for Parents
DESCRIPTION:
URL:https://seatoun.school.nz/event/eotc-yr-5-6-information-session-for-parents/
END:VEVENT
BEGIN:VEVENT
DTSTART;TZID=Pacific/Auckland:20221124T090000
DTEND;TZID=Pacific/Auckland:20221124T123000
DTSTAMP:20260426T034147
CREATED:20240229T213324Z
LAST-MODIFIED:20240229T213324Z
UID:11054-1669280400-1669293000@seatoun.school.nz
SUMMARY:Reminder WEGC Visit on 19 May\, and links to docs
DESCRIPTION:
URL:https://seatoun.school.nz/event/reminder-wegc-visit-on-19-may-and-links-to-docs/
END:VEVENT
BEGIN:VEVENT
DTSTART;TZID=Pacific/Auckland:20221124T093000
DTEND;TZID=Pacific/Auckland:20221124T113000
DTSTAMP:20260426T034147
CREATED:20240229T213324Z
LAST-MODIFIED:20240229T213324Z
UID:11055-1669282200-1669289400@seatoun.school.nz
SUMMARY:Swimming: Room 10\, 6 and 7
DESCRIPTION:
URL:https://seatoun.school.nz/event/swimming-room-10-6-and-7-6/
END:VEVENT
BEGIN:VEVENT
DTSTART;TZID=Pacific/Auckland:20221124T103000
DTEND;TZID=Pacific/Auckland:20221124T123000
DTSTAMP:20260426T034147
CREATED:20240229T213324Z
LAST-MODIFIED:20240229T213324Z
UID:11056-1669285800-1669293000@seatoun.school.nz
SUMMARY:Swimming: Room 5\,6\, and 9
DESCRIPTION:
URL:https://seatoun.school.nz/event/swimming-room-56-and-9-5/
END:VEVENT
BEGIN:VEVENT
DTSTART;VALUE=DATE:20221125
DTEND;VALUE=DATE:20221126
DTSTAMP:20260426T034147
CREATED:20240229T213324Z
LAST-MODIFIED:20240229T213324Z
UID:11057-1669334400-1669420799@seatoun.school.nz
SUMMARY:New Entrants 1st Visit
DESCRIPTION:
URL:https://seatoun.school.nz/event/new-entrants-1st-visit/
END:VEVENT
BEGIN:VEVENT
DTSTART;VALUE=DATE:20221128
DTEND;VALUE=DATE:20221129
DTSTAMP:20260426T034147
CREATED:20210414T023205Z
LAST-MODIFIED:20240229T213324Z
UID:9615-1669593600-1669679999@seatoun.school.nz
SUMMARY:Week 7
DESCRIPTION:
URL:https://seatoun.school.nz/event/week-7-9/
END:VEVENT
BEGIN:VEVENT
DTSTART;VALUE=DATE:20221128
DTEND;VALUE=DATE:20221201
DTSTAMP:20260426T034147
CREATED:20240229T213324Z
LAST-MODIFIED:20240229T213324Z
UID:11061-1669593600-1669852799@seatoun.school.nz
SUMMARY:Year 7 Camp to Makahika
DESCRIPTION:
URL:https://seatoun.school.nz/event/year-7-camp-to-makahika/
END:VEVENT
BEGIN:VEVENT
DTSTART;VALUE=DATE:20221128
DTEND;VALUE=DATE:20221203
DTSTAMP:20260426T034147
CREATED:20240229T213324Z
LAST-MODIFIED:20240229T213324Z
UID:11063-1669593600-1670025599@seatoun.school.nz
SUMMARY:Year 3-4 EOTC Week
DESCRIPTION:
URL:https://seatoun.school.nz/event/year-3-4-eotc-week-2/
END:VEVENT
BEGIN:VEVENT
DTSTART;VALUE=DATE:20221128
DTEND;VALUE=DATE:20221203
DTSTAMP:20260426T034147
CREATED:20240229T213324Z
LAST-MODIFIED:20240229T213324Z
UID:11060-1669593600-1670025599@seatoun.school.nz
SUMMARY:Year 8 Mistletoe Bay Camp
DESCRIPTION:
URL:https://seatoun.school.nz/event/year-8-mistletoe-bay-camp/
END:VEVENT
BEGIN:VEVENT
DTSTART;VALUE=DATE:20221129
DTEND;VALUE=DATE:20221130
DTSTAMP:20260426T034147
CREATED:20240229T213324Z
LAST-MODIFIED:20240229T213324Z
UID:11058-1669680000-1669766399@seatoun.school.nz
SUMMARY:InterZone Athletics
DESCRIPTION:
URL:https://seatoun.school.nz/event/interzone-athletics/
END:VEVENT
BEGIN:VEVENT
DTSTART;VALUE=DATE:20221201
DTEND;VALUE=DATE:20221202
DTSTAMP:20260426T034147
CREATED:20240229T213324Z
LAST-MODIFIED:20240229T213324Z
UID:11064-1669852800-1669939199@seatoun.school.nz
SUMMARY:PP InterZone Athletics
DESCRIPTION:
URL:https://seatoun.school.nz/event/pp-interzone-athletics/
END:VEVENT
BEGIN:VEVENT
DTSTART;TZID=Pacific/Auckland:20221201T093000
DTEND;TZID=Pacific/Auckland:20221201T113000
DTSTAMP:20260426T034147
CREATED:20240229T213324Z
LAST-MODIFIED:20240229T213324Z
UID:11062-1669887000-1669894200@seatoun.school.nz
SUMMARY:Swimming: Room 10\, 6 and 7
DESCRIPTION:
URL:https://seatoun.school.nz/event/swimming-room-10-6-and-7-7/
END:VEVENT
BEGIN:VEVENT
DTSTART;TZID=Pacific/Auckland:20221201T103000
DTEND;TZID=Pacific/Auckland:20221201T123000
DTSTAMP:20260426T034147
CREATED:20240229T213324Z
LAST-MODIFIED:20240229T213324Z
UID:11059-1669890600-1669897800@seatoun.school.nz
SUMMARY:Swimming: Room 5\,6\, and 9
DESCRIPTION:
URL:https://seatoun.school.nz/event/swimming-room-56-and-9-6/
END:VEVENT
BEGIN:VEVENT
DTSTART;VALUE=DATE:20221205
DTEND;VALUE=DATE:20221206
DTSTAMP:20260426T034147
CREATED:20210414T023205Z
LAST-MODIFIED:20240229T213325Z
UID:9616-1670198400-1670284799@seatoun.school.nz
SUMMARY:Week 8
DESCRIPTION:
URL:https://seatoun.school.nz/event/week-8-9/
END:VEVENT
BEGIN:VEVENT
DTSTART;VALUE=DATE:20221206
DTEND;VALUE=DATE:20221210
DTSTAMP:20260426T034147
CREATED:20240229T213325Z
LAST-MODIFIED:20240229T213325Z
UID:11066-1670284800-1670630399@seatoun.school.nz
SUMMARY:Bee Healthy Van
DESCRIPTION:
URL:https://seatoun.school.nz/event/bee-healthy-van/
END:VEVENT
BEGIN:VEVENT
DTSTART;VALUE=DATE:20221206
DTEND;VALUE=DATE:20221207
DTSTAMP:20260426T034147
CREATED:20240229T213325Z
LAST-MODIFIED:20240229T213325Z
UID:11067-1670284800-1670371199@seatoun.school.nz
SUMMARY:Regional Athletics Y.4-8
DESCRIPTION:
URL:https://seatoun.school.nz/event/regional-athletics-y-4-8/
END:VEVENT
BEGIN:VEVENT
DTSTART;TZID=Pacific/Auckland:20221207T150000
DTEND;TZID=Pacific/Auckland:20221207T153500
DTSTAMP:20260426T034147
CREATED:20240229T213324Z
LAST-MODIFIED:20240229T213324Z
UID:11065-1670425200-1670427300@seatoun.school.nz
SUMMARY:Transition to Year 3
DESCRIPTION:
URL:https://seatoun.school.nz/event/transition-to-year-3/
END:VEVENT
BEGIN:VEVENT
DTSTART;VALUE=DATE:20221208
DTEND;VALUE=DATE:20221209
DTSTAMP:20260426T034147
CREATED:20240229T213325Z
LAST-MODIFIED:20240229T213325Z
UID:11070-1670457600-1670543999@seatoun.school.nz
SUMMARY:PP Regional Athletics
DESCRIPTION:
URL:https://seatoun.school.nz/event/pp-regional-athletics-3/
END:VEVENT
BEGIN:VEVENT
DTSTART;TZID=Pacific/Auckland:20221208T093000
DTEND;TZID=Pacific/Auckland:20221208T113000
DTSTAMP:20260426T034147
CREATED:20240229T213325Z
LAST-MODIFIED:20240229T213325Z
UID:11068-1670491800-1670499000@seatoun.school.nz
SUMMARY:Swimming: Room 10\, 6 and 7
DESCRIPTION:
URL:https://seatoun.school.nz/event/swimming-room-10-6-and-7-8/
END:VEVENT
BEGIN:VEVENT
DTSTART;TZID=Pacific/Auckland:20221208T103000
DTEND;TZID=Pacific/Auckland:20221208T123000
DTSTAMP:20260426T034147
CREATED:20240229T213325Z
LAST-MODIFIED:20240229T213325Z
UID:11069-1670495400-1670502600@seatoun.school.nz
SUMMARY:Swimming: Room 5\,6\, and 9
DESCRIPTION:
URL:https://seatoun.school.nz/event/swimming-room-56-and-9-7/
END:VEVENT
BEGIN:VEVENT
DTSTART;TZID=Pacific/Auckland:20221208T190000
DTEND;TZID=Pacific/Auckland:20221208T211500
DTSTAMP:20260426T034147
CREATED:20240229T213325Z
LAST-MODIFIED:20240229T213325Z
UID:11071-1670526000-1670534100@seatoun.school.nz
SUMMARY:BoT Meeting
DESCRIPTION:
URL:https://seatoun.school.nz/event/bot-meeting-4/
END:VEVENT
BEGIN:VEVENT
DTSTART;TZID=Pacific/Auckland:20221209T100000
DTEND;TZID=Pacific/Auckland:20221209T104500
DTSTAMP:20260426T034147
CREATED:20240229T213325Z
LAST-MODIFIED:20240229T213325Z
UID:11072-1670580000-1670582700@seatoun.school.nz
SUMMARY:Helpers Morning Tea
DESCRIPTION:
URL:https://seatoun.school.nz/event/helpers-morning-tea/
END:VEVENT
BEGIN:VEVENT
DTSTART;VALUE=DATE:20221212
DTEND;VALUE=DATE:20221213
DTSTAMP:20260426T034147
CREATED:20210414T023205Z
LAST-MODIFIED:20240229T213325Z
UID:9617-1670803200-1670889599@seatoun.school.nz
SUMMARY:Week 9
DESCRIPTION:
URL:https://seatoun.school.nz/event/week-9-9/
END:VEVENT
BEGIN:VEVENT
DTSTART;VALUE=DATE:20221212
DTEND;VALUE=DATE:20221213
DTSTAMP:20260426T034147
CREATED:20240229T213325Z
LAST-MODIFIED:20240229T213325Z
UID:11074-1670803200-1670889599@seatoun.school.nz
SUMMARY:Reports & Class Lists go home
DESCRIPTION:
URL:https://seatoun.school.nz/event/reports-class-lists-go-home/
END:VEVENT
BEGIN:VEVENT
DTSTART;VALUE=DATE:20221213
DTEND;VALUE=DATE:20221214
DTSTAMP:20260426T034147
CREATED:20240229T213325Z
LAST-MODIFIED:20240229T213325Z
UID:11073-1670889600-1670975999@seatoun.school.nz
SUMMARY:Year 8 Formal
DESCRIPTION:
URL:https://seatoun.school.nz/event/year-8-formal/
END:VEVENT
BEGIN:VEVENT
DTSTART;TZID=Pacific/Auckland:20221213T093000
DTEND;TZID=Pacific/Auckland:20221213T110000
DTSTAMP:20260426T034147
CREATED:20240229T213325Z
LAST-MODIFIED:20240229T213325Z
UID:11075-1670923800-1670929200@seatoun.school.nz
SUMMARY:End-of-year prizegiving- if fine (or next fine day)
DESCRIPTION:
URL:https://seatoun.school.nz/event/end-of-year-prizegiving-if-fine-or-next-fine-day/
END:VEVENT
BEGIN:VEVENT
DTSTART;TZID=Pacific/Auckland:20221213T180000
DTEND;TZID=Pacific/Auckland:20221213T200000
DTSTAMP:20260426T034147
CREATED:20240229T213325Z
LAST-MODIFIED:20240229T213325Z
UID:11076-1670954400-1670961600@seatoun.school.nz
SUMMARY:Year 8 Leavers Dinner
DESCRIPTION:
URL:https://seatoun.school.nz/event/year-8-leavers-dinner/
END:VEVENT
END:VCALENDAR