BEGIN:VCALENDAR
VERSION:2.0
PRODID:-//Seatoun School - ECPv6.8.3//NONSGML v1.0//EN
CALSCALE:GREGORIAN
METHOD:PUBLISH
X-WR-CALNAME:Seatoun School
X-ORIGINAL-URL:https://seatoun.school.nz
X-WR-CALDESC:Events for Seatoun School
REFRESH-INTERVAL;VALUE=DURATION:PT1H
X-Robots-Tag:noindex
X-PUBLISHED-TTL:PT1H
BEGIN:VTIMEZONE
TZID:Pacific/Auckland
BEGIN:STANDARD
TZOFFSETFROM:+1300
TZOFFSETTO:+1200
TZNAME:NZST
DTSTART:20230401T140000
END:STANDARD
BEGIN:DAYLIGHT
TZOFFSETFROM:+1200
TZOFFSETTO:+1300
TZNAME:NZDT
DTSTART:20230923T140000
END:DAYLIGHT
END:VTIMEZONE
BEGIN:VEVENT
DTSTART;VALUE=DATE:20230319
DTEND;VALUE=DATE:20230320
DTSTAMP:20260426T011954
CREATED:20240229T213328Z
LAST-MODIFIED:20240229T213328Z
UID:11112-1679184000-1679270399@seatoun.school.nz
SUMMARY:Weetbix Tryathlon
DESCRIPTION:
URL:https://seatoun.school.nz/event/weetbix-tryathlon/
END:VEVENT
BEGIN:VEVENT
DTSTART;TZID=Pacific/Auckland:20230316T070000
DTEND;TZID=Pacific/Auckland:20230316T190000
DTSTAMP:20260426T011954
CREATED:20240229T213328Z
LAST-MODIFIED:20240229T213328Z
UID:11111-1678950000-1678993200@seatoun.school.nz
SUMMARY:Teacher Strike
DESCRIPTION:
URL:https://seatoun.school.nz/event/teacher-strike/
END:VEVENT
BEGIN:VEVENT
DTSTART;TZID=Pacific/Auckland:20230315T091500
DTEND;TZID=Pacific/Auckland:20230315T110000
DTSTAMP:20260426T011954
CREATED:20240229T213328Z
LAST-MODIFIED:20240229T213328Z
UID:11110-1678871700-1678878000@seatoun.school.nz
SUMMARY:Junior School Athletics
DESCRIPTION:
URL:https://seatoun.school.nz/event/junior-school-athletics/
END:VEVENT
BEGIN:VEVENT
DTSTART;TZID=Pacific/Auckland:20230313T150000
DTEND;TZID=Pacific/Auckland:20230313T160000
DTSTAMP:20260426T011954
CREATED:20240229T213328Z
LAST-MODIFIED:20240229T213328Z
UID:11108-1678719600-1678723200@seatoun.school.nz
SUMMARY:French Lessons weekly in the Library
DESCRIPTION:
URL:https://seatoun.school.nz/event/french-lessons-weekly-in-the-library-5/
END:VEVENT
BEGIN:VEVENT
DTSTART;VALUE=DATE:20230313
DTEND;VALUE=DATE:20230314
DTSTAMP:20260426T011954
CREATED:20240229T213328Z
LAST-MODIFIED:20240229T213328Z
UID:11109-1678665600-1678751999@seatoun.school.nz
SUMMARY:Week 7
DESCRIPTION:
URL:https://seatoun.school.nz/event/week-7-10/
END:VEVENT
BEGIN:VEVENT
DTSTART;TZID=Pacific/Auckland:20230310T090000
DTEND;TZID=Pacific/Auckland:20230310T100000
DTSTAMP:20260426T011954
CREATED:20240229T213328Z
LAST-MODIFIED:20240229T213328Z
UID:11105-1678438800-1678442400@seatoun.school.nz
SUMMARY:Combined Hui Yrs 5/6 and 3/ 4
DESCRIPTION:
URL:https://seatoun.school.nz/event/combined-hui-yrs-5-6-and-3-4/
END:VEVENT
BEGIN:VEVENT
DTSTART;VALUE=DATE:20230310
DTEND;VALUE=DATE:20230311
DTSTAMP:20260426T011954
CREATED:20240229T213328Z
LAST-MODIFIED:20240229T213328Z
UID:11106-1678406400-1678492799@seatoun.school.nz
SUMMARY:Combined Hui - Y5/6 & 3/4
DESCRIPTION:
URL:https://seatoun.school.nz/event/combined-hui-y5-6-3-4/
END:VEVENT
BEGIN:VEVENT
DTSTART;VALUE=DATE:20230309
DTEND;VALUE=DATE:20230310
DTSTAMP:20260426T011954
CREATED:20240229T213328Z
LAST-MODIFIED:20240229T213328Z
UID:11107-1678320000-1678406399@seatoun.school.nz
SUMMARY:FoSS - Gin Tasting
DESCRIPTION:
URL:https://seatoun.school.nz/event/foss-gin-tasting-2/
END:VEVENT
BEGIN:VEVENT
DTSTART;TZID=Pacific/Auckland:20230306T150000
DTEND;TZID=Pacific/Auckland:20230306T160000
DTSTAMP:20260426T011954
CREATED:20240229T213328Z
LAST-MODIFIED:20240229T213328Z
UID:11102-1678114800-1678118400@seatoun.school.nz
SUMMARY:French Lessons weekly in the Library
DESCRIPTION:
URL:https://seatoun.school.nz/event/french-lessons-weekly-in-the-library-4/
END:VEVENT
BEGIN:VEVENT
DTSTART;VALUE=DATE:20230306
DTEND;VALUE=DATE:20230310
DTSTAMP:20260426T011954
CREATED:20240229T213328Z
LAST-MODIFIED:20240229T213328Z
UID:11101-1678060800-1678406399@seatoun.school.nz
SUMMARY:Leadership Week Y7/8
DESCRIPTION:
URL:https://seatoun.school.nz/event/leadership-week-y7-8/
END:VEVENT
BEGIN:VEVENT
DTSTART;VALUE=DATE:20230306
DTEND;VALUE=DATE:20230307
DTSTAMP:20260426T011954
CREATED:20240229T213328Z
LAST-MODIFIED:20240229T213328Z
UID:11103-1678060800-1678147199@seatoun.school.nz
SUMMARY:FoSS Sausage Sizzle
DESCRIPTION:
URL:https://seatoun.school.nz/event/foss-sausage-sizzle-4/
END:VEVENT
BEGIN:VEVENT
DTSTART;VALUE=DATE:20230306
DTEND;VALUE=DATE:20230307
DTSTAMP:20260426T011954
CREATED:20240229T213328Z
LAST-MODIFIED:20240229T213328Z
UID:11104-1678060800-1678147199@seatoun.school.nz
SUMMARY:Week 6
DESCRIPTION:
URL:https://seatoun.school.nz/event/week-6-10/
END:VEVENT
BEGIN:VEVENT
DTSTART;VALUE=DATE:20230306
DTEND;VALUE=DATE:20230311
DTSTAMP:20260426T011954
CREATED:20240229T213327Z
LAST-MODIFIED:20240229T213327Z
UID:11100-1678060800-1678492799@seatoun.school.nz
SUMMARY:PAT Testing Week - Y5/6
DESCRIPTION:
URL:https://seatoun.school.nz/event/pat-testing-week-y5-6/
END:VEVENT
BEGIN:VEVENT
DTSTART;TZID=Pacific/Auckland:20230302T190000
DTEND;TZID=Pacific/Auckland:20230302T210000
DTSTAMP:20260426T011954
CREATED:20240229T213327Z
LAST-MODIFIED:20240229T213327Z
UID:11099-1677783600-1677790800@seatoun.school.nz
SUMMARY:FoSS meeting
DESCRIPTION:
URL:https://seatoun.school.nz/event/foss-meeting-7/
END:VEVENT
BEGIN:VEVENT
DTSTART;TZID=Pacific/Auckland:20230302T104500
DTEND;TZID=Pacific/Auckland:20230302T111500
DTSTAMP:20260426T011954
CREATED:20240229T213327Z
LAST-MODIFIED:20240229T213327Z
UID:11098-1677753900-1677755700@seatoun.school.nz
SUMMARY:Fire Drill
DESCRIPTION:
URL:https://seatoun.school.nz/event/fire-drill-2/
END:VEVENT
BEGIN:VEVENT
DTSTART;TZID=Pacific/Auckland:20230301T130000
DTEND;TZID=Pacific/Auckland:20230301T150000
DTSTAMP:20260426T011954
CREATED:20240229T213327Z
LAST-MODIFIED:20240229T213327Z
UID:11097-1677675600-1677682800@seatoun.school.nz
SUMMARY:NZEI meeting for all teaching staff
DESCRIPTION:
URL:https://seatoun.school.nz/event/nzei-meeting-for-all-teaching-staff/
END:VEVENT
BEGIN:VEVENT
DTSTART;TZID=Pacific/Auckland:20230227T150000
DTEND;TZID=Pacific/Auckland:20230227T160000
DTSTAMP:20260426T011954
CREATED:20240229T213327Z
LAST-MODIFIED:20240229T213327Z
UID:11096-1677510000-1677513600@seatoun.school.nz
SUMMARY:French Lessons weekly in the Library
DESCRIPTION:
URL:https://seatoun.school.nz/event/french-lessons-weekly-in-the-library-3/
END:VEVENT
BEGIN:VEVENT
DTSTART;VALUE=DATE:20230227
DTEND;VALUE=DATE:20230228
DTSTAMP:20260426T011954
CREATED:20240229T213327Z
LAST-MODIFIED:20240229T213327Z
UID:11094-1677456000-1677542399@seatoun.school.nz
SUMMARY:PAT Testing Y3/4 and Y7/8
DESCRIPTION:
URL:https://seatoun.school.nz/event/pat-testing-y3-4-and-y7-8/
END:VEVENT
BEGIN:VEVENT
DTSTART;VALUE=DATE:20230227
DTEND;VALUE=DATE:20230228
DTSTAMP:20260426T011954
CREATED:20240229T213327Z
LAST-MODIFIED:20240229T213327Z
UID:11095-1677456000-1677542399@seatoun.school.nz
SUMMARY:Week 5
DESCRIPTION:
URL:https://seatoun.school.nz/event/week-5-10/
END:VEVENT
BEGIN:VEVENT
DTSTART;TZID=Pacific/Auckland:20230224T170000
DTEND;TZID=Pacific/Auckland:20230224T200000
DTSTAMP:20260426T011954
CREATED:20240229T213327Z
LAST-MODIFIED:20240229T213327Z
UID:11093-1677258000-1677268800@seatoun.school.nz
SUMMARY:Welcome to school family picnic
DESCRIPTION:
URL:https://seatoun.school.nz/event/welcome-to-school-family-picnic/
END:VEVENT
BEGIN:VEVENT
DTSTART;TZID=Pacific/Auckland:20230224T090000
DTEND;TZID=Pacific/Auckland:20230224T100000
DTSTAMP:20260426T011954
CREATED:20240229T213327Z
LAST-MODIFIED:20240229T213327Z
UID:11092-1677229200-1677232800@seatoun.school.nz
SUMMARY:Hui
DESCRIPTION:
URL:https://seatoun.school.nz/event/hui-2/
END:VEVENT
BEGIN:VEVENT
DTSTART;TZID=Pacific/Auckland:20230223T190000
DTEND;TZID=Pacific/Auckland:20230223T210000
DTSTAMP:20260426T011954
CREATED:20240229T213327Z
LAST-MODIFIED:20240229T213327Z
UID:11091-1677178800-1677186000@seatoun.school.nz
SUMMARY:BoT Meeting
DESCRIPTION:
URL:https://seatoun.school.nz/event/bot-meeting-5/
END:VEVENT
BEGIN:VEVENT
DTSTART;VALUE=DATE:20230222
DTEND;VALUE=DATE:20230223
DTSTAMP:20260426T011954
CREATED:20240229T213327Z
LAST-MODIFIED:20240229T213327Z
UID:11089-1677024000-1677110399@seatoun.school.nz
SUMMARY:EZ Football - Y5/6 & Y7/8 (Miramar Park)
DESCRIPTION:
URL:https://seatoun.school.nz/event/ez-football-y5-6-y7-8-miramar-park/
END:VEVENT
BEGIN:VEVENT
DTSTART;VALUE=DATE:20230222
DTEND;VALUE=DATE:20230223
DTSTAMP:20260426T011954
CREATED:20240229T213327Z
LAST-MODIFIED:20240229T213327Z
UID:11090-1677024000-1677110399@seatoun.school.nz
SUMMARY:EZ Cricket Wellington
DESCRIPTION:
URL:https://seatoun.school.nz/event/ez-cricket-wellington/
END:VEVENT
BEGIN:VEVENT
DTSTART;TZID=Pacific/Auckland:20230220T150000
DTEND;TZID=Pacific/Auckland:20230220T160000
DTSTAMP:20260426T011954
CREATED:20240229T213326Z
LAST-MODIFIED:20240229T213326Z
UID:11088-1676905200-1676908800@seatoun.school.nz
SUMMARY:French Lessons weekly in the Library
DESCRIPTION:
URL:https://seatoun.school.nz/event/french-lessons-weekly-in-the-library-2/
END:VEVENT
BEGIN:VEVENT
DTSTART;VALUE=DATE:20230220
DTEND;VALUE=DATE:20230221
DTSTAMP:20260426T011954
CREATED:20240229T213326Z
LAST-MODIFIED:20240229T213326Z
UID:11087-1676851200-1676937599@seatoun.school.nz
SUMMARY:Week 4
DESCRIPTION:
URL:https://seatoun.school.nz/event/week-4-10/
END:VEVENT
BEGIN:VEVENT
DTSTART;TZID=Pacific/Auckland:20230215T110000
DTEND;TZID=Pacific/Auckland:20230215T120000
DTSTAMP:20260426T011954
CREATED:20240229T213326Z
LAST-MODIFIED:20240229T213326Z
UID:11086-1676458800-1676462400@seatoun.school.nz
SUMMARY:Swimming - Y3/4
DESCRIPTION:
URL:https://seatoun.school.nz/event/swimming-y3-4-11/
END:VEVENT
BEGIN:VEVENT
DTSTART;TZID=Pacific/Auckland:20230213T150000
DTEND;TZID=Pacific/Auckland:20230213T160000
DTSTAMP:20260426T011954
CREATED:20240229T213326Z
LAST-MODIFIED:20240229T213326Z
UID:11083-1676300400-1676304000@seatoun.school.nz
SUMMARY:French Lessons weekly in the Library
DESCRIPTION:
URL:https://seatoun.school.nz/event/french-lessons-weekly-in-the-library/
END:VEVENT
BEGIN:VEVENT
DTSTART;VALUE=DATE:20230213
DTEND;VALUE=DATE:20230214
DTSTAMP:20260426T011954
CREATED:20240229T213326Z
LAST-MODIFIED:20240229T213326Z
UID:11085-1676246400-1676332799@seatoun.school.nz
SUMMARY:Week 3
DESCRIPTION:
URL:https://seatoun.school.nz/event/week-3-9/
END:VEVENT
BEGIN:VEVENT
DTSTART;VALUE=DATE:20230213
DTEND;VALUE=DATE:20230214
DTSTAMP:20260426T011954
CREATED:20240229T213326Z
LAST-MODIFIED:20240229T213326Z
UID:11084-1676246400-1676332799@seatoun.school.nz
SUMMARY:Pedal Ready (Wk 2) - Y5/6
DESCRIPTION:
URL:https://seatoun.school.nz/event/pedal-ready-wk-2-y5-6/
END:VEVENT
END:VCALENDAR