BEGIN:VCALENDAR
VERSION:2.0
PRODID:-//Seatoun School - ECPv6.8.3//NONSGML v1.0//EN
CALSCALE:GREGORIAN
METHOD:PUBLISH
X-WR-CALNAME:Seatoun School
X-ORIGINAL-URL:https://seatoun.school.nz
X-WR-CALDESC:Events for Seatoun School
REFRESH-INTERVAL;VALUE=DURATION:PT1H
X-Robots-Tag:noindex
X-PUBLISHED-TTL:PT1H
BEGIN:VTIMEZONE
TZID:Pacific/Auckland
BEGIN:STANDARD
TZOFFSETFROM:+1300
TZOFFSETTO:+1200
TZNAME:NZST
DTSTART:20220402T140000
END:STANDARD
BEGIN:DAYLIGHT
TZOFFSETFROM:+1200
TZOFFSETTO:+1300
TZNAME:NZDT
DTSTART:20220924T140000
END:DAYLIGHT
END:VTIMEZONE
BEGIN:VEVENT
DTSTART;TZID=Pacific/Auckland:20220825T083000
DTEND;TZID=Pacific/Auckland:20220825T091500
DTSTAMP:20260426T025152
CREATED:20240229T213320Z
LAST-MODIFIED:20240229T213320Z
UID:10995-1661416200-1661418900@seatoun.school.nz
SUMMARY:Year 0\, 1 and 2 Meet and Greet
DESCRIPTION:
URL:https://seatoun.school.nz/event/year-0-1-and-2-meet-and-greet/
LOCATION:School Library
END:VEVENT
BEGIN:VEVENT
DTSTART;TZID=Pacific/Auckland:20220825T090000
DTEND;TZID=Pacific/Auckland:20220825T100000
DTSTAMP:20260426T025152
CREATED:20240229T213320Z
LAST-MODIFIED:20240229T213320Z
UID:10996-1661418000-1661421600@seatoun.school.nz
SUMMARY:ICAS Spelling Bee
DESCRIPTION:
URL:https://seatoun.school.nz/event/icas-spelling-bee-2/
END:VEVENT
BEGIN:VEVENT
DTSTART;VALUE=DATE:20220826
DTEND;VALUE=DATE:20220827
DTSTAMP:20260426T025152
CREATED:20240229T213320Z
LAST-MODIFIED:20240229T213320Z
UID:10999-1661472000-1661558399@seatoun.school.nz
SUMMARY:Swimming Years 3 and 4
DESCRIPTION:
URL:https://seatoun.school.nz/event/swimming-years-3-and-4-4/
END:VEVENT
BEGIN:VEVENT
DTSTART;TZID=Pacific/Auckland:20220826T090000
DTEND;TZID=Pacific/Auckland:20220826T100000
DTSTAMP:20260426T025152
CREATED:20240229T213320Z
LAST-MODIFIED:20240229T213320Z
UID:10997-1661504400-1661508000@seatoun.school.nz
SUMMARY:Hui Years 3 & 4 presenting
DESCRIPTION:
URL:https://seatoun.school.nz/event/hui-years-3-4-presenting/
END:VEVENT
BEGIN:VEVENT
DTSTART;TZID=Pacific/Auckland:20220826T123000
DTEND;TZID=Pacific/Auckland:20220826T133000
DTSTAMP:20260426T025152
CREATED:20240229T213320Z
LAST-MODIFIED:20240229T213320Z
UID:10998-1661517000-1661520600@seatoun.school.nz
SUMMARY:Year 3/4 Swimming
DESCRIPTION:
URL:https://seatoun.school.nz/event/year-3-4-swimming-7/
END:VEVENT
BEGIN:VEVENT
DTSTART;VALUE=DATE:20220829
DTEND;VALUE=DATE:20220830
DTSTAMP:20260426T025152
CREATED:20210414T023204Z
LAST-MODIFIED:20240229T213320Z
UID:9603-1661731200-1661817599@seatoun.school.nz
SUMMARY:Week 6
DESCRIPTION:
URL:https://seatoun.school.nz/event/week-6-8/
END:VEVENT
BEGIN:VEVENT
DTSTART;VALUE=DATE:20220829
DTEND;VALUE=DATE:20220830
DTSTAMP:20260426T025152
CREATED:20240229T213320Z
LAST-MODIFIED:20240229T213320Z
UID:11000-1661731200-1661817599@seatoun.school.nz
SUMMARY:Yr 7/8 swimming
DESCRIPTION:
URL:https://seatoun.school.nz/event/yr-7-8-swimming-6/
END:VEVENT
BEGIN:VEVENT
DTSTART;VALUE=DATE:20220830
DTEND;VALUE=DATE:20220831
DTSTAMP:20260426T025152
CREATED:20240229T213320Z
LAST-MODIFIED:20240229T213320Z
UID:11001-1661817600-1661903999@seatoun.school.nz
SUMMARY:ICAS Maths
DESCRIPTION:
URL:https://seatoun.school.nz/event/icas-maths-3/
END:VEVENT
BEGIN:VEVENT
DTSTART;TZID=Pacific/Auckland:20220901T083000
DTEND;TZID=Pacific/Auckland:20220901T093000
DTSTAMP:20260426T025152
CREATED:20240229T213321Z
LAST-MODIFIED:20240229T213321Z
UID:11002-1662021000-1662024600@seatoun.school.nz
SUMMARY:Year 3 and 4 Meet and Greet
DESCRIPTION:
URL:https://seatoun.school.nz/event/year-3-and-4-meet-and-greet/
END:VEVENT
BEGIN:VEVENT
DTSTART;TZID=Pacific/Auckland:20220901T190000
DTEND;TZID=Pacific/Auckland:20220901T204500
DTSTAMP:20260426T025152
CREATED:20240229T213321Z
LAST-MODIFIED:20240229T213321Z
UID:11003-1662058800-1662065100@seatoun.school.nz
SUMMARY:Poetry & Speech Finals
DESCRIPTION:When: Speech and Poetry Evening: Thursday September 1st: 7pm – 8:30pm\nWhere: Seatoun School Hall
URL:https://seatoun.school.nz/event/poetry-speech-finals/
END:VEVENT
BEGIN:VEVENT
DTSTART;VALUE=DATE:20220902
DTEND;VALUE=DATE:20220903
DTSTAMP:20260426T025152
CREATED:20240229T213321Z
LAST-MODIFIED:20240229T213321Z
UID:11004-1662076800-1662163199@seatoun.school.nz
SUMMARY:Swimming Years 3 and 4
DESCRIPTION:
URL:https://seatoun.school.nz/event/swimming-years-3-and-4-5/
END:VEVENT
BEGIN:VEVENT
DTSTART;TZID=Pacific/Auckland:20220902T123000
DTEND;TZID=Pacific/Auckland:20220902T133000
DTSTAMP:20260426T025152
CREATED:20240229T213321Z
LAST-MODIFIED:20240229T213321Z
UID:11005-1662121800-1662125400@seatoun.school.nz
SUMMARY:Year 3/4 Swimming
DESCRIPTION:
URL:https://seatoun.school.nz/event/year-3-4-swimming-8/
END:VEVENT
BEGIN:VEVENT
DTSTART;VALUE=DATE:20220905
DTEND;VALUE=DATE:20220906
DTSTAMP:20260426T025152
CREATED:20210414T023204Z
LAST-MODIFIED:20240229T213321Z
UID:9604-1662336000-1662422399@seatoun.school.nz
SUMMARY:Week 7
DESCRIPTION:
URL:https://seatoun.school.nz/event/week-7-8/
END:VEVENT
BEGIN:VEVENT
DTSTART;VALUE=DATE:20220905
DTEND;VALUE=DATE:20220906
DTSTAMP:20260426T025152
CREATED:20240229T213321Z
LAST-MODIFIED:20240229T213321Z
UID:11006-1662336000-1662422399@seatoun.school.nz
SUMMARY:Yr 7/8 swimming
DESCRIPTION:
URL:https://seatoun.school.nz/event/yr-7-8-swimming-7/
END:VEVENT
BEGIN:VEVENT
DTSTART;VALUE=DATE:20220906
DTEND;VALUE=DATE:20220907
DTSTAMP:20260426T025152
CREATED:20240229T213321Z
LAST-MODIFIED:20240229T213321Z
UID:11010-1662422400-1662508799@seatoun.school.nz
SUMMARY:Kids' Lit Quiz Marsden School
DESCRIPTION:
URL:https://seatoun.school.nz/event/kids-lit-quiz-marsden-school/
END:VEVENT
BEGIN:VEVENT
DTSTART;VALUE=DATE:20220907
DTEND;VALUE=DATE:20220908
DTSTAMP:20260426T025152
CREATED:20240229T213321Z
LAST-MODIFIED:20240229T213321Z
UID:11009-1662508800-1662595199@seatoun.school.nz
SUMMARY:BOT Elections close at 12 noon today
DESCRIPTION:
URL:https://seatoun.school.nz/event/bot-elections-close-at-12-noon-today/
END:VEVENT
BEGIN:VEVENT
DTSTART;VALUE=DATE:20220907
DTEND;VALUE=DATE:20220908
DTSTAMP:20260426T025152
CREATED:20240229T213321Z
LAST-MODIFIED:20240229T213321Z
UID:11011-1662508800-1662595199@seatoun.school.nz
SUMMARY:Eastern Zones Swimming Sports
DESCRIPTION:
URL:https://seatoun.school.nz/event/eastern-zones-swimming-sports/
END:VEVENT
BEGIN:VEVENT
DTSTART;TZID=Pacific/Auckland:20220908T083000
DTEND;TZID=Pacific/Auckland:20220908T091500
DTSTAMP:20260426T025152
CREATED:20240229T213321Z
LAST-MODIFIED:20240229T213321Z
UID:11007-1662625800-1662628500@seatoun.school.nz
SUMMARY:Meet and greet for parents - all year groups
DESCRIPTION:
URL:https://seatoun.school.nz/event/meet-and-greet-for-parents-all-year-groups/
END:VEVENT
BEGIN:VEVENT
DTSTART;TZID=Pacific/Auckland:20220908T083000
DTEND;TZID=Pacific/Auckland:20220908T091500
DTSTAMP:20260426T025152
CREATED:20240229T213321Z
LAST-MODIFIED:20240229T213321Z
UID:11008-1662625800-1662628500@seatoun.school.nz
SUMMARY:Year 5 and 6 Meet and Greet
DESCRIPTION:
URL:https://seatoun.school.nz/event/year-5-and-6-meet-and-greet/
END:VEVENT
BEGIN:VEVENT
DTSTART;VALUE=DATE:20220909
DTEND;VALUE=DATE:20220910
DTSTAMP:20260426T025152
CREATED:20240229T213321Z
LAST-MODIFIED:20240229T213321Z
UID:11014-1662681600-1662767999@seatoun.school.nz
SUMMARY:Swimming Years 3 and 4
DESCRIPTION:
URL:https://seatoun.school.nz/event/swimming-years-3-and-4-6/
END:VEVENT
BEGIN:VEVENT
DTSTART;TZID=Pacific/Auckland:20220909T090000
DTEND;TZID=Pacific/Auckland:20220909T100000
DTSTAMP:20260426T025152
CREATED:20240229T213321Z
LAST-MODIFIED:20240229T213321Z
UID:11012-1662714000-1662717600@seatoun.school.nz
SUMMARY:Hui Years 5 & 6 Presenting
DESCRIPTION:
URL:https://seatoun.school.nz/event/hui-years-5-6-presenting/
END:VEVENT
BEGIN:VEVENT
DTSTART;TZID=Pacific/Auckland:20220909T123000
DTEND;TZID=Pacific/Auckland:20220909T133000
DTSTAMP:20260426T025152
CREATED:20240229T213321Z
LAST-MODIFIED:20240229T213321Z
UID:11013-1662726600-1662730200@seatoun.school.nz
SUMMARY:Year 3/4 Swimming
DESCRIPTION:
URL:https://seatoun.school.nz/event/year-3-4-swimming-9/
END:VEVENT
BEGIN:VEVENT
DTSTART;TZID=Pacific/Auckland:20220910T150000
DTEND;TZID=Pacific/Auckland:20220910T180000
DTSTAMP:20260426T025152
CREATED:20240229T213321Z
LAST-MODIFIED:20240229T213321Z
UID:11015-1662822000-1662832800@seatoun.school.nz
SUMMARY:Year 0/1/2 Family Meet and Greet - bring a plate of afternoon tea - rsvp details below
DESCRIPTION:rsvp to dianacpanton@gmail.com
URL:https://seatoun.school.nz/event/year-0-1-2-family-meet-and-greet-bring-a-plate-of-afternoon-tea-rsvp-details-below/
END:VEVENT
BEGIN:VEVENT
DTSTART;VALUE=DATE:20220912
DTEND;VALUE=DATE:20220913
DTSTAMP:20260426T025152
CREATED:20210414T023204Z
LAST-MODIFIED:20240229T213321Z
UID:9605-1662940800-1663027199@seatoun.school.nz
SUMMARY:Week 8 Te wiki o te reo Māori
DESCRIPTION:
URL:https://seatoun.school.nz/event/week-8-8/
END:VEVENT
BEGIN:VEVENT
DTSTART;TZID=Pacific/Auckland:20220913T083000
DTEND;TZID=Pacific/Auckland:20220913T150000
DTSTAMP:20260426T025152
CREATED:20240229T213321Z
LAST-MODIFIED:20240229T213321Z
UID:11017-1663057800-1663081200@seatoun.school.nz
SUMMARY:Yr 2-4 Futsal Tournament ASB
DESCRIPTION:
URL:https://seatoun.school.nz/event/yr-2-4-futsal-tournament-asb/
END:VEVENT
BEGIN:VEVENT
DTSTART;TZID=Pacific/Auckland:20220915T083000
DTEND;TZID=Pacific/Auckland:20220915T150000
DTSTAMP:20260426T025152
CREATED:20240229T213321Z
LAST-MODIFIED:20240229T213321Z
UID:11019-1663230600-1663254000@seatoun.school.nz
SUMMARY:Yr 5-8 Futsal Tournament ASB
DESCRIPTION:
URL:https://seatoun.school.nz/event/yr-5-8-futsal-tournament-asb/
END:VEVENT
BEGIN:VEVENT
DTSTART;TZID=Pacific/Auckland:20220915T084500
DTEND;TZID=Pacific/Auckland:20220915T093000
DTSTAMP:20260426T025152
CREATED:20240229T213321Z
LAST-MODIFIED:20240229T213321Z
UID:11018-1663231500-1663234200@seatoun.school.nz
SUMMARY:Year 7 and 8 Meet and Greet
DESCRIPTION:
URL:https://seatoun.school.nz/event/year-7-and-8-meet-and-greet/
END:VEVENT
BEGIN:VEVENT
DTSTART;VALUE=DATE:20220916
DTEND;VALUE=DATE:20220917
DTSTAMP:20260426T025152
CREATED:20240229T213322Z
LAST-MODIFIED:20240229T213322Z
UID:11020-1663286400-1663372799@seatoun.school.nz
SUMMARY:Swimming Years 3 and 4
DESCRIPTION:
URL:https://seatoun.school.nz/event/swimming-years-3-and-4-7/
END:VEVENT
BEGIN:VEVENT
DTSTART;TZID=Pacific/Auckland:20220916T123000
DTEND;TZID=Pacific/Auckland:20220916T133000
DTSTAMP:20260426T025152
CREATED:20240229T213322Z
LAST-MODIFIED:20240229T213322Z
UID:11021-1663331400-1663335000@seatoun.school.nz
SUMMARY:Year 3/4 Swimming
DESCRIPTION:
URL:https://seatoun.school.nz/event/year-3-4-swimming-10/
END:VEVENT
BEGIN:VEVENT
DTSTART;VALUE=DATE:20220919
DTEND;VALUE=DATE:20220920
DTSTAMP:20260426T025152
CREATED:20210414T023204Z
LAST-MODIFIED:20240229T213322Z
UID:9606-1663545600-1663631999@seatoun.school.nz
SUMMARY:Week 9
DESCRIPTION:
URL:https://seatoun.school.nz/event/week-9-8/
END:VEVENT
END:VCALENDAR