BEGIN:VCALENDAR
VERSION:2.0
PRODID:-//Seatoun School - ECPv6.8.3//NONSGML v1.0//EN
CALSCALE:GREGORIAN
METHOD:PUBLISH
X-WR-CALNAME:Seatoun School
X-ORIGINAL-URL:https://seatoun.school.nz
X-WR-CALDESC:Events for Seatoun School
REFRESH-INTERVAL;VALUE=DURATION:PT1H
X-Robots-Tag:noindex
X-PUBLISHED-TTL:PT1H
BEGIN:VTIMEZONE
TZID:Pacific/Auckland
BEGIN:STANDARD
TZOFFSETFROM:+1300
TZOFFSETTO:+1200
TZNAME:NZST
DTSTART:20230401T140000
END:STANDARD
BEGIN:DAYLIGHT
TZOFFSETFROM:+1200
TZOFFSETTO:+1300
TZNAME:NZDT
DTSTART:20230923T140000
END:DAYLIGHT
END:VTIMEZONE
BEGIN:VEVENT
DTSTART;VALUE=DATE:20230717
DTEND;VALUE=DATE:20230718
DTSTAMP:20260424T080758
CREATED:20240229T213335Z
LAST-MODIFIED:20240229T213335Z
UID:11203-1689552000-1689638399@seatoun.school.nz
SUMMARY:Start Primary and intermediate Term 3
DESCRIPTION:
URL:https://seatoun.school.nz/event/start-primary-and-intermediate-term-3/
END:VEVENT
BEGIN:VEVENT
DTSTART;VALUE=DATE:20230717
DTEND;VALUE=DATE:20230718
DTSTAMP:20260424T080758
CREATED:20240229T213335Z
LAST-MODIFIED:20240229T213335Z
UID:11204-1689552000-1689638399@seatoun.school.nz
SUMMARY:Week 1
DESCRIPTION:
URL:https://seatoun.school.nz/event/week-1-6/
END:VEVENT
BEGIN:VEVENT
DTSTART;VALUE=DATE:20230710
DTEND;VALUE=DATE:20230715
DTSTAMP:20260424T080758
CREATED:20240229T213335Z
LAST-MODIFIED:20240229T213335Z
UID:11202-1688947200-1689379199@seatoun.school.nz
SUMMARY:School Holidays week 2
DESCRIPTION:
URL:https://seatoun.school.nz/event/school-holidays-week-2/
END:VEVENT
BEGIN:VEVENT
DTSTART;VALUE=DATE:20230703
DTEND;VALUE=DATE:20230708
DTSTAMP:20260424T080758
CREATED:20240229T213335Z
LAST-MODIFIED:20240229T213335Z
UID:11201-1688342400-1688774399@seatoun.school.nz
SUMMARY:School Holidays
DESCRIPTION:
URL:https://seatoun.school.nz/event/school-holidays-6/
END:VEVENT
BEGIN:VEVENT
DTSTART;VALUE=DATE:20230630
DTEND;VALUE=DATE:20230701
DTSTAMP:20260424T080758
CREATED:20240229T213335Z
LAST-MODIFIED:20240229T213335Z
UID:11197-1688083200-1688169599@seatoun.school.nz
SUMMARY:End Primary and intermediate Term 2
DESCRIPTION:
URL:https://seatoun.school.nz/event/end-primary-and-intermediate-term-2/
END:VEVENT
BEGIN:VEVENT
DTSTART;TZID=Pacific/Auckland:20230629T180000
DTEND;TZID=Pacific/Auckland:20230629T193000
DTSTAMP:20260424T080758
CREATED:20240229T213335Z
LAST-MODIFIED:20240229T213335Z
UID:11200-1688061600-1688067000@seatoun.school.nz
SUMMARY:Matariki Community Evening Event
DESCRIPTION:
URL:https://seatoun.school.nz/event/matariki-community-evening-event/
END:VEVENT
BEGIN:VEVENT
DTSTART;VALUE=DATE:20230629
DTEND;VALUE=DATE:20230630
DTSTAMP:20260424T080758
CREATED:20240229T213335Z
LAST-MODIFIED:20240229T213335Z
UID:11198-1687996800-1688083199@seatoun.school.nz
SUMMARY:Regional Cross Country - PP
DESCRIPTION:
URL:https://seatoun.school.nz/event/regional-cross-country-pp/
END:VEVENT
BEGIN:VEVENT
DTSTART;TZID=Pacific/Auckland:20230628T093000
DTEND;TZID=Pacific/Auckland:20230628T103000
DTSTAMP:20260424T080758
CREATED:20240229T213334Z
LAST-MODIFIED:20240229T213334Z
UID:11194-1687944600-1687948200@seatoun.school.nz
SUMMARY:Swimming Y5-6
DESCRIPTION:
URL:https://seatoun.school.nz/event/swimming-y5-6-8/
END:VEVENT
BEGIN:VEVENT
DTSTART;VALUE=DATE:20230627
DTEND;VALUE=DATE:20230628
DTSTAMP:20260424T080758
CREATED:20240229T213334Z
LAST-MODIFIED:20240229T213334Z
UID:11195-1687824000-1687910399@seatoun.school.nz
SUMMARY:Region Cross Country
DESCRIPTION:
URL:https://seatoun.school.nz/event/region-cross-country/
END:VEVENT
BEGIN:VEVENT
DTSTART;VALUE=DATE:20230626
DTEND;VALUE=DATE:20230627
DTSTAMP:20260424T080758
CREATED:20240229T213334Z
LAST-MODIFIED:20240229T213334Z
UID:11196-1687737600-1687823999@seatoun.school.nz
SUMMARY:Week 10
DESCRIPTION:
URL:https://seatoun.school.nz/event/week-10-10/
END:VEVENT
BEGIN:VEVENT
DTSTART;TZID=Pacific/Auckland:20230623T090000
DTEND;TZID=Pacific/Auckland:20230623T100000
DTSTAMP:20260424T080758
CREATED:20240229T213334Z
LAST-MODIFIED:20240229T213334Z
UID:11193-1687510800-1687514400@seatoun.school.nz
SUMMARY:Hui -  5/6
DESCRIPTION:
URL:https://seatoun.school.nz/event/hui-5-6/
END:VEVENT
BEGIN:VEVENT
DTSTART;TZID=Pacific/Auckland:20230622T190000
DTEND;TZID=Pacific/Auckland:20230622T210000
DTSTAMP:20260424T080758
CREATED:20240229T213334Z
LAST-MODIFIED:20240229T213334Z
UID:11192-1687460400-1687467600@seatoun.school.nz
SUMMARY:FoSS Quizz Night
DESCRIPTION:
URL:https://seatoun.school.nz/event/foss-quizz-night/
LOCATION:Iron Horse Miramar\n11 Tauhinu Rd\, Miramar\, Wellington 6022\, New Zealand
END:VEVENT
BEGIN:VEVENT
DTSTART;TZID=Pacific/Auckland:20230622T090000
DTEND;TZID=Pacific/Auckland:20230622T140000
DTSTAMP:20260424T080758
CREATED:20240229T213334Z
LAST-MODIFIED:20240229T213334Z
UID:11190-1687424400-1687442400@seatoun.school.nz
SUMMARY:EZ Miniball - Thursday 22nd of June
DESCRIPTION:
URL:https://seatoun.school.nz/event/ez-miniball-thursday-22nd-of-june/
END:VEVENT
BEGIN:VEVENT
DTSTART;TZID=Pacific/Auckland:20230622T084500
DTEND;TZID=Pacific/Auckland:20230622T094500
DTSTAMP:20260424T080758
CREATED:20240229T213334Z
LAST-MODIFIED:20240229T213334Z
UID:11188-1687423500-1687427100@seatoun.school.nz
SUMMARY:Waste Reduction at Home
DESCRIPTION:We plan cover what currently happens with Waste in Wellington\, broadly what the future holds for waste in our city\, and what we can do right now to reduce what we send to landfill by following the waste hierarchy (reduce\, reuse\, recycle) and composting/worm farming/bokashi.
URL:https://seatoun.school.nz/event/waste-reduction-at-home/
END:VEVENT
BEGIN:VEVENT
DTSTART;VALUE=DATE:20230622
DTEND;VALUE=DATE:20230623
DTSTAMP:20260424T080758
CREATED:20240229T213334Z
LAST-MODIFIED:20240229T213334Z
UID:11189-1687392000-1687478399@seatoun.school.nz
SUMMARY:EZ Miniball Competition - NOT CONFIRMED
DESCRIPTION:
URL:https://seatoun.school.nz/event/ez-miniball-competition-not-confirmed/
END:VEVENT
BEGIN:VEVENT
DTSTART;TZID=Pacific/Auckland:20230621T093000
DTEND;TZID=Pacific/Auckland:20230621T103000
DTSTAMP:20260424T080758
CREATED:20240229T213334Z
LAST-MODIFIED:20240229T213334Z
UID:11187-1687339800-1687343400@seatoun.school.nz
SUMMARY:Swimming Y5-6
DESCRIPTION:
URL:https://seatoun.school.nz/event/swimming-y5-6-7/
END:VEVENT
BEGIN:VEVENT
DTSTART;VALUE=DATE:20230619
DTEND;VALUE=DATE:20230620
DTSTAMP:20260424T080758
CREATED:20240229T213334Z
LAST-MODIFIED:20240229T213334Z
UID:11186-1687132800-1687219199@seatoun.school.nz
SUMMARY:Week 9
DESCRIPTION:
URL:https://seatoun.school.nz/event/week-9-11/
END:VEVENT
BEGIN:VEVENT
DTSTART;VALUE=DATE:20230615
DTEND;VALUE=DATE:20230616
DTSTAMP:20260424T080758
CREATED:20240229T213334Z
LAST-MODIFIED:20240229T213334Z
UID:11185-1686787200-1686873599@seatoun.school.nz
SUMMARY:Interzones Cross Country - PP
DESCRIPTION:
URL:https://seatoun.school.nz/event/interzones-cross-country-pp/
END:VEVENT
BEGIN:VEVENT
DTSTART;TZID=Pacific/Auckland:20230613T120000
DTEND;TZID=Pacific/Auckland:20230613T133000
DTSTAMP:20260424T080758
CREATED:20240229T213334Z
LAST-MODIFIED:20240229T213334Z
UID:11184-1686657600-1686663000@seatoun.school.nz
SUMMARY:Swimming Y5-6
DESCRIPTION:
URL:https://seatoun.school.nz/event/swimming-y5-6-6/
END:VEVENT
BEGIN:VEVENT
DTSTART;VALUE=DATE:20230613
DTEND;VALUE=DATE:20230614
DTSTAMP:20260424T080758
CREATED:20240229T213333Z
LAST-MODIFIED:20240229T213333Z
UID:11182-1686614400-1686700799@seatoun.school.nz
SUMMARY:Interzones Cross Country
DESCRIPTION:
URL:https://seatoun.school.nz/event/interzones-cross-country/
END:VEVENT
BEGIN:VEVENT
DTSTART;VALUE=DATE:20230612
DTEND;VALUE=DATE:20230630
DTSTAMP:20260424T080758
CREATED:20240229T213335Z
LAST-MODIFIED:20240229T213335Z
UID:11199-1686528000-1688083199@seatoun.school.nz
SUMMARY:Zero Waste Education
DESCRIPTION:Y 3/4 Overview \nSchool overview
URL:https://seatoun.school.nz/event/zero-waste-education/
END:VEVENT
BEGIN:VEVENT
DTSTART;VALUE=DATE:20230612
DTEND;VALUE=DATE:20230613
DTSTAMP:20260424T080758
CREATED:20240229T213333Z
LAST-MODIFIED:20240229T213333Z
UID:11183-1686528000-1686614399@seatoun.school.nz
SUMMARY:Week 8
DESCRIPTION:
URL:https://seatoun.school.nz/event/week-8-11/
END:VEVENT
BEGIN:VEVENT
DTSTART;TZID=Pacific/Auckland:20230609T090000
DTEND;TZID=Pacific/Auckland:20230609T113000
DTSTAMP:20260424T080758
CREATED:20240229T213333Z
LAST-MODIFIED:20240229T213333Z
UID:11180-1686301200-1686310200@seatoun.school.nz
SUMMARY:Rongotai College Experience Day for Year 8's
DESCRIPTION:a bus will pick your students up from Seatoun at 9.15 am on Friday\, June 9 and transport them to Rongotai. We will return the boys by mid day. We will arrange for a prefect to travel with the boys on the bus.  \nList of those attending (just the boys)
URL:https://seatoun.school.nz/event/rongotai-college-experience-day-for-year-8s/
END:VEVENT
BEGIN:VEVENT
DTSTART;TZID=Pacific/Auckland:20230609T090000
DTEND;TZID=Pacific/Auckland:20230609T100000
DTSTAMP:20260424T080758
CREATED:20240229T213333Z
LAST-MODIFIED:20240229T213333Z
UID:11179-1686301200-1686304800@seatoun.school.nz
SUMMARY:Hui Year 3/4
DESCRIPTION:
URL:https://seatoun.school.nz/event/hui-year-3-4-2/
END:VEVENT
BEGIN:VEVENT
DTSTART;VALUE=DATE:20230609
DTEND;VALUE=DATE:20230610
DTSTAMP:20260424T080758
CREATED:20240229T213333Z
LAST-MODIFIED:20240229T213333Z
UID:11181-1686268800-1686355199@seatoun.school.nz
SUMMARY:Hui
DESCRIPTION:
URL:https://seatoun.school.nz/event/hui-4/
END:VEVENT
BEGIN:VEVENT
DTSTART;TZID=Pacific/Auckland:20230608T123000
DTEND;TZID=Pacific/Auckland:20230608T140000
DTSTAMP:20260424T080758
CREATED:20240229T213333Z
LAST-MODIFIED:20240229T213333Z
UID:11178-1686227400-1686232800@seatoun.school.nz
SUMMARY:Swimming Y5-6
DESCRIPTION:
URL:https://seatoun.school.nz/event/swimming-y5-6-5/
END:VEVENT
BEGIN:VEVENT
DTSTART;TZID=Pacific/Auckland:20230607T153000
DTEND;TZID=Pacific/Auckland:20230607T180000
DTSTAMP:20260424T080758
CREATED:20240229T213333Z
LAST-MODIFIED:20240229T213333Z
UID:11177-1686151800-1686160800@seatoun.school.nz
SUMMARY:3 Way Conferences - after school
DESCRIPTION:
URL:https://seatoun.school.nz/event/3-way-conferences-after-school/
END:VEVENT
BEGIN:VEVENT
DTSTART;VALUE=DATE:20230606
DTEND;VALUE=DATE:20230607
DTSTAMP:20260424T080758
CREATED:20240229T213333Z
LAST-MODIFIED:20240229T213333Z
UID:11175-1686009600-1686095999@seatoun.school.nz
SUMMARY:3 Way Conferences - School Operates Differently Today
DESCRIPTION:
URL:https://seatoun.school.nz/event/3-way-conferences-school-operates-differently-today-2/
END:VEVENT
BEGIN:VEVENT
DTSTART;VALUE=DATE:20230606
DTEND;VALUE=DATE:20230607
DTSTAMP:20260424T080758
CREATED:20240229T213333Z
LAST-MODIFIED:20240229T213333Z
UID:11174-1686009600-1686095999@seatoun.school.nz
SUMMARY:Week 7
DESCRIPTION:
URL:https://seatoun.school.nz/event/week-7-11/
END:VEVENT
BEGIN:VEVENT
DTSTART;VALUE=DATE:20230605
DTEND;VALUE=DATE:20230606
DTSTAMP:20260424T080758
CREATED:20240229T213333Z
LAST-MODIFIED:20240229T213333Z
UID:11176-1685923200-1686009599@seatoun.school.nz
SUMMARY:Kings Birthday - School Closed
DESCRIPTION:
URL:https://seatoun.school.nz/event/kings-birthday-school-closed/
END:VEVENT
END:VCALENDAR