BEGIN:VCALENDAR
VERSION:2.0
PRODID:-//Seatoun School - ECPv6.8.3//NONSGML v1.0//EN
CALSCALE:GREGORIAN
METHOD:PUBLISH
X-WR-CALNAME:Seatoun School
X-ORIGINAL-URL:https://seatoun.school.nz
X-WR-CALDESC:Events for Seatoun School
REFRESH-INTERVAL;VALUE=DURATION:PT1H
X-Robots-Tag:noindex
X-PUBLISHED-TTL:PT1H
BEGIN:VTIMEZONE
TZID:Pacific/Auckland
BEGIN:STANDARD
TZOFFSETFROM:+1300
TZOFFSETTO:+1200
TZNAME:NZST
DTSTART:20200404T140000
END:STANDARD
BEGIN:DAYLIGHT
TZOFFSETFROM:+1200
TZOFFSETTO:+1300
TZNAME:NZDT
DTSTART:20200926T140000
END:DAYLIGHT
END:VTIMEZONE
BEGIN:VEVENT
DTSTART;VALUE=DATE:20200725
DTEND;VALUE=DATE:20200726
DTSTAMP:20260424T092305
CREATED:20200525T021950Z
LAST-MODIFIED:20210112T092718Z
UID:8284-1595635200-1595721599@seatoun.school.nz
SUMMARY:First Aid course (staff)
DESCRIPTION:
URL:https://seatoun.school.nz/event/first-aid-course-staff/
END:VEVENT
BEGIN:VEVENT
DTSTART;VALUE=DATE:20200721
DTEND;VALUE=DATE:20200722
DTSTAMP:20260424T092305
CREATED:20200629T163916Z
LAST-MODIFIED:20210112T092718Z
UID:8528-1595289600-1595375999@seatoun.school.nz
SUMMARY:Y5-8 swimminmg
DESCRIPTION:
URL:https://seatoun.school.nz/event/y5-8-swimminmg/
END:VEVENT
BEGIN:VEVENT
DTSTART;VALUE=DATE:20200720
DTEND;VALUE=DATE:20200721
DTSTAMP:20260424T092305
CREATED:20200525T021950Z
LAST-MODIFIED:20210112T092718Z
UID:8285-1595203200-1595289599@seatoun.school.nz
SUMMARY:Term 3 starts
DESCRIPTION:
URL:https://seatoun.school.nz/event/term-3-starts/
END:VEVENT
BEGIN:VEVENT
DTSTART;VALUE=DATE:20200706
DTEND;VALUE=DATE:20200718
DTSTAMP:20260424T092305
CREATED:20200525T021950Z
LAST-MODIFIED:20210112T092718Z
UID:8283-1593993600-1595030399@seatoun.school.nz
SUMMARY:School holidays
DESCRIPTION:
URL:https://seatoun.school.nz/event/school-holidays/
END:VEVENT
BEGIN:VEVENT
DTSTART;VALUE=DATE:20200703
DTEND;VALUE=DATE:20200704
DTSTAMP:20260424T092305
CREATED:20200525T021950Z
LAST-MODIFIED:20210112T092717Z
UID:8282-1593734400-1593820799@seatoun.school.nz
SUMMARY:Last day of Term 2
DESCRIPTION:
URL:https://seatoun.school.nz/event/last-day-of-term-2/
END:VEVENT
BEGIN:VEVENT
DTSTART;TZID=Pacific/Auckland:20200630T090000
DTEND;TZID=Pacific/Auckland:20200630T110000
DTSTAMP:20260424T092305
CREATED:20200525T021950Z
LAST-MODIFIED:20210112T092717Z
UID:8280-1593507600-1593514800@seatoun.school.nz
SUMMARY:Gardasil – Year 8 Boys and Girls
DESCRIPTION:
URL:https://seatoun.school.nz/event/gardasil-year-8-boys-and-girls/
ORGANIZER;CN="susan.kliffen@seatoun.school.nz":MAILTO:susan.kliffen@seatoun.school.nz
END:VEVENT
BEGIN:VEVENT
DTSTART;VALUE=DATE:20200629
DTEND;VALUE=DATE:20200630
DTSTAMP:20260424T092305
CREATED:20200626T163054Z
LAST-MODIFIED:20210112T092717Z
UID:8522-1593388800-1593475199@seatoun.school.nz
SUMMARY:Week 12
DESCRIPTION:
URL:https://seatoun.school.nz/event/week-12-2/
END:VEVENT
BEGIN:VEVENT
DTSTART;VALUE=DATE:20200629
DTEND;VALUE=DATE:20200630
DTSTAMP:20260424T092305
CREATED:20200525T021950Z
LAST-MODIFIED:20200625T163055Z
UID:8281-1593388800-1593475199@seatoun.school.nz
SUMMARY:Week 12
DESCRIPTION:
URL:https://seatoun.school.nz/event/week-12/
END:VEVENT
BEGIN:VEVENT
DTSTART;TZID=Pacific/Auckland:20200626T080000
DTEND;TZID=Pacific/Auckland:20200626T084500
DTSTAMP:20260424T092305
CREATED:20200525T021950Z
LAST-MODIFIED:20210112T092717Z
UID:8278-1593158400-1593161100@seatoun.school.nz
SUMMARY:Whanau Consultation Meeting
DESCRIPTION:
URL:https://seatoun.school.nz/event/whanau-consultation-meeting/
END:VEVENT
BEGIN:VEVENT
DTSTART;VALUE=DATE:20200626
DTEND;VALUE=DATE:20200627
DTSTAMP:20260424T092305
CREATED:20200525T021950Z
LAST-MODIFIED:20210112T092717Z
UID:8276-1593129600-1593215999@seatoun.school.nz
SUMMARY:Rongotai College Open Day Y8
DESCRIPTION:
URL:https://seatoun.school.nz/event/rongotai-college-open-day-y8/
END:VEVENT
BEGIN:VEVENT
DTSTART;VALUE=DATE:20200625
DTEND;VALUE=DATE:20200626
DTSTAMP:20260424T092305
CREATED:20200525T021950Z
LAST-MODIFIED:20210112T092717Z
UID:8279-1593043200-1593129599@seatoun.school.nz
SUMMARY:St Catherine's College Open Day
DESCRIPTION:
URL:https://seatoun.school.nz/event/st-catherines-college-open-day/
END:VEVENT
BEGIN:VEVENT
DTSTART;TZID=Pacific/Auckland:20200623T133000
DTEND;TZID=Pacific/Auckland:20200623T150000
DTSTAMP:20260424T092305
CREATED:20200525T021949Z
LAST-MODIFIED:20210112T092717Z
UID:8274-1592919000-1592924400@seatoun.school.nz
SUMMARY:Year 5/6 Pedal Ready
DESCRIPTION:
URL:https://seatoun.school.nz/event/year-5-6-pedal-ready-3/
END:VEVENT
BEGIN:VEVENT
DTSTART;TZID=Pacific/Auckland:20200623T090000
DTEND;TZID=Pacific/Auckland:20200623T123000
DTSTAMP:20260424T092305
CREATED:20200525T021949Z
LAST-MODIFIED:20210112T092717Z
UID:8273-1592902800-1592915400@seatoun.school.nz
SUMMARY:Year 5/6 Pedal Ready
DESCRIPTION:
URL:https://seatoun.school.nz/event/year-5-6-pedal-ready-2/
END:VEVENT
BEGIN:VEVENT
DTSTART;VALUE=DATE:20200622
DTEND;VALUE=DATE:20200623
DTSTAMP:20260424T092305
CREATED:20200525T021950Z
LAST-MODIFIED:20210112T092717Z
UID:8277-1592784000-1592870399@seatoun.school.nz
SUMMARY:Week 11
DESCRIPTION:
URL:https://seatoun.school.nz/event/week-11/
END:VEVENT
BEGIN:VEVENT
DTSTART;TZID=Pacific/Auckland:20200618T190000
DTEND;TZID=Pacific/Auckland:20200618T210000
DTSTAMP:20260424T092305
CREATED:20200525T021949Z
LAST-MODIFIED:20210112T092717Z
UID:8275-1592506800-1592514000@seatoun.school.nz
SUMMARY:BOT Meeting in Library
DESCRIPTION:
URL:https://seatoun.school.nz/event/bot-meeting-in-library-2/
LOCATION:Library
END:VEVENT
BEGIN:VEVENT
DTSTART;VALUE=DATE:20200618
DTEND;VALUE=DATE:20200619
DTSTAMP:20260424T092305
CREATED:20200603T150117Z
LAST-MODIFIED:20210112T092717Z
UID:8460-1592438400-1592524799@seatoun.school.nz
SUMMARY:pp School Cross Country
DESCRIPTION:
URL:https://seatoun.school.nz/event/pp-school-cross-country/
END:VEVENT
BEGIN:VEVENT
DTSTART;VALUE=DATE:20200617
DTEND;VALUE=DATE:20200618
DTSTAMP:20260424T092305
CREATED:20200603T150117Z
LAST-MODIFIED:20210112T092717Z
UID:8459-1592352000-1592438399@seatoun.school.nz
SUMMARY:School Cross Country
DESCRIPTION:
URL:https://seatoun.school.nz/event/school-cross-country/
END:VEVENT
BEGIN:VEVENT
DTSTART;TZID=Pacific/Auckland:20200615T193000
DTEND;TZID=Pacific/Auckland:20200615T210000
DTSTAMP:20260424T092305
CREATED:20200602T150202Z
LAST-MODIFIED:20210112T092717Z
UID:8453-1592249400-1592254800@seatoun.school.nz
SUMMARY:FoSS Meeting - Staff room
DESCRIPTION:
URL:https://seatoun.school.nz/event/foss-meeting-staff-room/
END:VEVENT
BEGIN:VEVENT
DTSTART;VALUE=DATE:20200615
DTEND;VALUE=DATE:20200616
DTSTAMP:20260424T092305
CREATED:20200525T021949Z
LAST-MODIFIED:20210112T092717Z
UID:8272-1592179200-1592265599@seatoun.school.nz
SUMMARY:Week 10
DESCRIPTION:
URL:https://seatoun.school.nz/event/week-10/
END:VEVENT
BEGIN:VEVENT
DTSTART;TZID=Pacific/Auckland:20200609T090000
DTEND;TZID=Pacific/Auckland:20200609T123000
DTSTAMP:20260424T092305
CREATED:20200525T021949Z
LAST-MODIFIED:20210112T092717Z
UID:8270-1591693200-1591705800@seatoun.school.nz
SUMMARY:Year 5/6 Pedal Ready
DESCRIPTION:
URL:https://seatoun.school.nz/event/year-5-6-pedal-ready/
END:VEVENT
BEGIN:VEVENT
DTSTART;VALUE=DATE:20200608
DTEND;VALUE=DATE:20200609
DTSTAMP:20260424T092305
CREATED:20200525T021949Z
LAST-MODIFIED:20210112T092717Z
UID:8271-1591574400-1591660799@seatoun.school.nz
SUMMARY:Week 9
DESCRIPTION:
URL:https://seatoun.school.nz/event/week-9/
END:VEVENT
BEGIN:VEVENT
DTSTART;TZID=Pacific/Auckland:20200604T190000
DTEND;TZID=Pacific/Auckland:20200604T210000
DTSTAMP:20260424T092305
CREATED:20200525T021949Z
LAST-MODIFIED:20200525T022113Z
UID:8269-1591297200-1591304400@seatoun.school.nz
SUMMARY:BOT Meeting in Library
DESCRIPTION:
URL:https://seatoun.school.nz/event/bot-meeting-in-library/
LOCATION:Zoom
END:VEVENT
BEGIN:VEVENT
DTSTART;VALUE=DATE:20200602
DTEND;VALUE=DATE:20200603
DTSTAMP:20260424T092305
CREATED:20200525T021949Z
LAST-MODIFIED:20210112T092717Z
UID:8268-1591056000-1591142399@seatoun.school.nz
SUMMARY:Week 8
DESCRIPTION:
URL:https://seatoun.school.nz/event/week-8/
END:VEVENT
BEGIN:VEVENT
DTSTART;VALUE=DATE:20200525
DTEND;VALUE=DATE:20200526
DTSTAMP:20260424T092305
CREATED:20200525T021949Z
LAST-MODIFIED:20210112T092717Z
UID:8267-1590364800-1590451199@seatoun.school.nz
SUMMARY:Week 7
DESCRIPTION:
URL:https://seatoun.school.nz/event/week-7/
END:VEVENT
BEGIN:VEVENT
DTSTART;TZID=Pacific/Auckland:20200519T093000
DTEND;TZID=Pacific/Auckland:20200519T103000
DTSTAMP:20260424T092305
CREATED:20200525T022107Z
LAST-MODIFIED:20210112T092717Z
UID:8350-1589880600-1589884200@seatoun.school.nz
SUMMARY:Year 1/2 show 'Turn on the Light"
DESCRIPTION:
URL:https://seatoun.school.nz/event/year-1-2-show-turn-on-the-light/
END:VEVENT
BEGIN:VEVENT
DTSTART;VALUE=DATE:20200518
DTEND;VALUE=DATE:20200519
DTSTAMP:20260424T092305
CREATED:20200525T022108Z
LAST-MODIFIED:20210112T092717Z
UID:8351-1589760000-1589846399@seatoun.school.nz
SUMMARY:Week 6
DESCRIPTION:
URL:https://seatoun.school.nz/event/week-6-2/
END:VEVENT
BEGIN:VEVENT
DTSTART;VALUE=DATE:20200511
DTEND;VALUE=DATE:20200512
DTSTAMP:20260424T092305
CREATED:20200525T022107Z
LAST-MODIFIED:20210112T092717Z
UID:8349-1589155200-1589241599@seatoun.school.nz
SUMMARY:Week 5
DESCRIPTION:
URL:https://seatoun.school.nz/event/week-5-2/
END:VEVENT
BEGIN:VEVENT
DTSTART;VALUE=DATE:20200504
DTEND;VALUE=DATE:20200505
DTSTAMP:20260424T092305
CREATED:20200525T022107Z
LAST-MODIFIED:20210112T092717Z
UID:8348-1588550400-1588636799@seatoun.school.nz
SUMMARY:Week 4
DESCRIPTION:
URL:https://seatoun.school.nz/event/week-4-2/
END:VEVENT
BEGIN:VEVENT
DTSTART;TZID=Pacific/Auckland:20200501T130000
DTEND;TZID=Pacific/Auckland:20200501T133000
DTSTAMP:20260424T092305
CREATED:20200525T022107Z
LAST-MODIFIED:20210112T092717Z
UID:8347-1588338000-1588339800@seatoun.school.nz
SUMMARY:QUIZ!
DESCRIPTION:Dominion Quiz – Hope at least one of you has got the paper there to check answers.  I’ve found the questions\, but can’t access the answers without paying a $40 subscription!\nI’ve set it audible\, rather than visual (I don’t like cameras at the best of times!).\nThis event has a video call.\nJoin: https://meet.google.com/kys-powx-taq\n(US) +1 650-449-9193 PIN: 722087793#
URL:https://seatoun.school.nz/event/quiz/
ORGANIZER;CN="hazel.rostron-wood@seatoun.school.nz":MAILTO:hazel.rostron-wood@seatoun.school.nz
END:VEVENT
END:VCALENDAR