BEGIN:VCALENDAR
VERSION:2.0
PRODID:-//Seatoun School - ECPv6.8.3//NONSGML v1.0//EN
CALSCALE:GREGORIAN
METHOD:PUBLISH
X-ORIGINAL-URL:https://seatoun.school.nz
X-WR-CALDESC:Events for Seatoun School
REFRESH-INTERVAL;VALUE=DURATION:PT1H
X-Robots-Tag:noindex
X-PUBLISHED-TTL:PT1H
BEGIN:VTIMEZONE
TZID:Pacific/Auckland
BEGIN:STANDARD
TZOFFSETFROM:+1300
TZOFFSETTO:+1200
TZNAME:NZST
DTSTART:20200404T140000
END:STANDARD
BEGIN:DAYLIGHT
TZOFFSETFROM:+1200
TZOFFSETTO:+1300
TZNAME:NZDT
DTSTART:20200926T140000
END:DAYLIGHT
END:VTIMEZONE
BEGIN:VEVENT
DTSTART;VALUE=DATE:20201029
DTEND;VALUE=DATE:20201030
DTSTAMP:20260424T121614
CREATED:20200914T062932Z
LAST-MODIFIED:20210112T092720Z
UID:8818-1603929600-1604015999@seatoun.school.nz
SUMMARY:Junior Swimming
DESCRIPTION:
URL:https://seatoun.school.nz/event/junior-swimming-3/
END:VEVENT
BEGIN:VEVENT
DTSTART;VALUE=DATE:20201030
DTEND;VALUE=DATE:20201031
DTSTAMP:20260424T121614
CREATED:20200819T031622Z
LAST-MODIFIED:20210112T092720Z
UID:8724-1604016000-1604102399@seatoun.school.nz
SUMMARY:FoSS - Hell Pizza Lunch
DESCRIPTION:
URL:https://seatoun.school.nz/event/foss-hell-pizza-lunch-2/
END:VEVENT
BEGIN:VEVENT
DTSTART;VALUE=DATE:20201030
DTEND;VALUE=DATE:20201031
DTSTAMP:20260424T121614
CREATED:20201013T083054Z
LAST-MODIFIED:20210112T092720Z
UID:8905-1604016000-1604102399@seatoun.school.nz
SUMMARY:Floorball - Middle school
DESCRIPTION:
URL:https://seatoun.school.nz/event/floorball-middle-school-2/
END:VEVENT
BEGIN:VEVENT
DTSTART;TZID=Pacific/Auckland:20201031T083000
DTEND;TZID=Pacific/Auckland:20201031T150000
DTSTAMP:20260424T121614
CREATED:20200525T021952Z
LAST-MODIFIED:20210112T092720Z
UID:8309-1604133000-1604156400@seatoun.school.nz
SUMMARY:BoT Planning
DESCRIPTION:
URL:https://seatoun.school.nz/event/bot-planning/
END:VEVENT
BEGIN:VEVENT
DTSTART;VALUE=DATE:20201104
DTEND;VALUE=DATE:20201105
DTSTAMP:20260424T121614
CREATED:20200525T021952Z
LAST-MODIFIED:20210112T092720Z
UID:8310-1604448000-1604534399@seatoun.school.nz
SUMMARY:EZ Athletics Y4-8 pp 11 Nov
DESCRIPTION:
URL:https://seatoun.school.nz/event/ez-athletics-y4-8-pp-11-nov/
END:VEVENT
BEGIN:VEVENT
DTSTART;VALUE=DATE:20201105
DTEND;VALUE=DATE:20201106
DTSTAMP:20260424T121614
CREATED:20200914T062932Z
LAST-MODIFIED:20210112T092720Z
UID:8819-1604534400-1604620799@seatoun.school.nz
SUMMARY:Junior Swimming
DESCRIPTION:
URL:https://seatoun.school.nz/event/junior-swimming-4/
END:VEVENT
BEGIN:VEVENT
DTSTART;VALUE=DATE:20201106
DTEND;VALUE=DATE:20201107
DTSTAMP:20260424T121614
CREATED:20201013T083054Z
LAST-MODIFIED:20210112T092720Z
UID:8906-1604620800-1604707199@seatoun.school.nz
SUMMARY:Floorball - middle
DESCRIPTION:
URL:https://seatoun.school.nz/event/floorball-middle/
END:VEVENT
BEGIN:VEVENT
DTSTART;TZID=Pacific/Auckland:20201106T090000
DTEND;TZID=Pacific/Auckland:20201106T100000
DTSTAMP:20260424T121614
CREATED:20200629T163918Z
LAST-MODIFIED:20210112T092720Z
UID:8547-1604653200-1604656800@seatoun.school.nz
SUMMARY:Powhiri
DESCRIPTION:
URL:https://seatoun.school.nz/event/powhiri/
END:VEVENT
BEGIN:VEVENT
DTSTART;VALUE=DATE:20201111
DTEND;VALUE=DATE:20201112
DTSTAMP:20260424T121614
CREATED:20200525T021952Z
LAST-MODIFIED:20201104T101624Z
UID:8311-1605052800-1605139199@seatoun.school.nz
SUMMARY:pp date EZ Athletics Y4-8
DESCRIPTION:
URL:https://seatoun.school.nz/event/pp-date-ez-athletics-y4-8/
END:VEVENT
BEGIN:VEVENT
DTSTART;VALUE=DATE:20201112
DTEND;VALUE=DATE:20201113
DTSTAMP:20260424T121614
CREATED:20200914T062932Z
LAST-MODIFIED:20210112T092720Z
UID:8820-1605139200-1605225599@seatoun.school.nz
SUMMARY:Junior Swimming
DESCRIPTION:
URL:https://seatoun.school.nz/event/junior-swimming-5/
END:VEVENT
BEGIN:VEVENT
DTSTART;VALUE=DATE:20201112
DTEND;VALUE=DATE:20201113
DTSTAMP:20260424T121614
CREATED:20201103T150932Z
LAST-MODIFIED:20210112T092720Z
UID:8975-1605139200-1605225599@seatoun.school.nz
SUMMARY:FOSS - Disco
DESCRIPTION:
URL:https://seatoun.school.nz/event/foss-disco-2/
END:VEVENT
BEGIN:VEVENT
DTSTART;TZID=Pacific/Auckland:20201113T090000
DTEND;TZID=Pacific/Auckland:20201113T100000
DTSTAMP:20260424T121614
CREATED:20201110T110317Z
LAST-MODIFIED:20210112T092720Z
UID:8996-1605258000-1605261600@seatoun.school.nz
SUMMARY:Hui Y3-6
DESCRIPTION:
URL:https://seatoun.school.nz/event/hui-y3-6/
END:VEVENT
BEGIN:VEVENT
DTSTART;VALUE=DATE:20201116
DTEND;VALUE=DATE:20201117
DTSTAMP:20260424T121614
CREATED:20201013T083054Z
LAST-MODIFIED:20210112T092720Z
UID:8907-1605484800-1605571199@seatoun.school.nz
SUMMARY:Floorball - juniors
DESCRIPTION:
URL:https://seatoun.school.nz/event/floorball-juniors-2/
END:VEVENT
BEGIN:VEVENT
DTSTART;VALUE=DATE:20201117
DTEND;VALUE=DATE:20201118
DTSTAMP:20260424T121614
CREATED:20200525T021952Z
LAST-MODIFIED:20210112T092720Z
UID:8313-1605571200-1605657599@seatoun.school.nz
SUMMARY:Inter Zone Athletics pp 19th
DESCRIPTION:
URL:https://seatoun.school.nz/event/inter-zone-athletics-pp-19th/
END:VEVENT
BEGIN:VEVENT
DTSTART;VALUE=DATE:20201118
DTEND;VALUE=DATE:20201128
DTSTAMP:20260424T121614
CREATED:20200525T021952Z
LAST-MODIFIED:20200723T180158Z
UID:8312-1605657600-1606521599@seatoun.school.nz
SUMMARY:Life Ed Year 7/8
DESCRIPTION:
URL:https://seatoun.school.nz/event/life-ed-year-7-8/
END:VEVENT
BEGIN:VEVENT
DTSTART;VALUE=DATE:20201118
DTEND;VALUE=DATE:20201119
DTSTAMP:20260424T121614
CREATED:20200918T064930Z
LAST-MODIFIED:20210112T092720Z
UID:8859-1605657600-1605743999@seatoun.school.nz
SUMMARY:FOSS - sausage sizzle
DESCRIPTION:
URL:https://seatoun.school.nz/event/foss-sausage-sizzle/
END:VEVENT
BEGIN:VEVENT
DTSTART;VALUE=DATE:20201119
DTEND;VALUE=DATE:20201120
DTSTAMP:20260424T121614
CREATED:20200525T021952Z
LAST-MODIFIED:20201116T113325Z
UID:8314-1605744000-1605830399@seatoun.school.nz
SUMMARY:pp Inter Zone Athletics
DESCRIPTION:
URL:https://seatoun.school.nz/event/pp-inter-zone-athletics/
END:VEVENT
BEGIN:VEVENT
DTSTART;VALUE=DATE:20201119
DTEND;VALUE=DATE:20201120
DTSTAMP:20260424T121614
CREATED:20200914T062932Z
LAST-MODIFIED:20210112T092720Z
UID:8821-1605744000-1605830399@seatoun.school.nz
SUMMARY:Junior Swimming
DESCRIPTION:
URL:https://seatoun.school.nz/event/junior-swimming-6/
END:VEVENT
BEGIN:VEVENT
DTSTART;VALUE=DATE:20201119
DTEND;VALUE=DATE:20201120
DTSTAMP:20260424T121614
CREATED:20201110T110318Z
LAST-MODIFIED:20210112T092720Z
UID:8997-1605744000-1605830399@seatoun.school.nz
SUMMARY:Steeple Rock
DESCRIPTION:
URL:https://seatoun.school.nz/event/steeple-rock-2/
END:VEVENT
BEGIN:VEVENT
DTSTART;VALUE=DATE:20201123
DTEND;VALUE=DATE:20201124
DTSTAMP:20260424T121614
CREATED:20200525T021952Z
LAST-MODIFIED:20210112T092720Z
UID:8315-1606089600-1606175999@seatoun.school.nz
SUMMARY:Year 8 Camp / EOTC Week
DESCRIPTION:
URL:https://seatoun.school.nz/event/year-7-and-8-camp-eotc-week/
END:VEVENT
BEGIN:VEVENT
DTSTART;TZID=Pacific/Auckland:20201123T090000
DTEND;TZID=Pacific/Auckland:20201127T150000
DTSTAMP:20260424T121614
CREATED:20200724T180900Z
LAST-MODIFIED:20210112T092720Z
UID:8643-1606122000-1606489200@seatoun.school.nz
SUMMARY:Year 5&6 EOTC Week
DESCRIPTION:
URL:https://seatoun.school.nz/event/year-56-eotc-week/
END:VEVENT
BEGIN:VEVENT
DTSTART;TZID=Pacific/Auckland:20201123T090000
DTEND;TZID=Pacific/Auckland:20201127T150000
DTSTAMP:20260424T121614
CREATED:20200828T042823Z
LAST-MODIFIED:20210112T092720Z
UID:8762-1606122000-1606489200@seatoun.school.nz
SUMMARY:Year 3/4 EOTC Week
DESCRIPTION:
URL:https://seatoun.school.nz/event/year-3-4-eotc-week/
END:VEVENT
BEGIN:VEVENT
DTSTART;VALUE=DATE:20201126
DTEND;VALUE=DATE:20201127
DTSTAMP:20260424T121614
CREATED:20200914T062932Z
LAST-MODIFIED:20210112T092720Z
UID:8822-1606348800-1606435199@seatoun.school.nz
SUMMARY:Junior Swimming
DESCRIPTION:
URL:https://seatoun.school.nz/event/junior-swimming-7/
END:VEVENT
BEGIN:VEVENT
DTSTART;VALUE=DATE:20201126
DTEND;VALUE=DATE:20201127
DTSTAMP:20260424T121614
CREATED:20201126T121559Z
LAST-MODIFIED:20210112T092720Z
UID:9077-1606348800-1606435199@seatoun.school.nz
SUMMARY:Year 7 Bike Ride cancelled
DESCRIPTION:
URL:https://seatoun.school.nz/event/year-7-bike-ride-cancelled/
END:VEVENT
BEGIN:VEVENT
DTSTART;VALUE=DATE:20201126
DTEND;VALUE=DATE:20201127
DTSTAMP:20260424T121614
CREATED:20201126T121559Z
LAST-MODIFIED:20210112T092720Z
UID:9078-1606348800-1606435199@seatoun.school.nz
SUMMARY:Year 3/4 Walk cancelled
DESCRIPTION:
URL:https://seatoun.school.nz/event/year-3-4-walk-cancelled/
END:VEVENT
BEGIN:VEVENT
DTSTART;TZID=Pacific/Auckland:20201126T084500
DTEND;TZID=Pacific/Auckland:20201126T131500
DTSTAMP:20260424T121614
CREATED:20201015T084557Z
LAST-MODIFIED:20210112T092720Z
UID:8918-1606380300-1606396500@seatoun.school.nz
SUMMARY:Year 7 Pencarrow Bike Trip
DESCRIPTION:
URL:https://seatoun.school.nz/event/year-7-pencarrow-bike-trip/
END:VEVENT
BEGIN:VEVENT
DTSTART;TZID=Pacific/Auckland:20201127T090000
DTEND;TZID=Pacific/Auckland:20201127T170000
DTSTAMP:20260424T121614
CREATED:20201027T100602Z
LAST-MODIFIED:20210112T092720Z
UID:8936-1606467600-1606496400@seatoun.school.nz
SUMMARY:John on camp
DESCRIPTION:
URL:https://seatoun.school.nz/event/john-on-camp/
END:VEVENT
BEGIN:VEVENT
DTSTART;VALUE=DATE:20201130
DTEND;VALUE=DATE:20201205
DTSTAMP:20260424T121614
CREATED:20200729T181603Z
LAST-MODIFIED:20210112T092721Z
UID:8654-1606694400-1607126399@seatoun.school.nz
SUMMARY:Year 7 EOTC Week including Camp
DESCRIPTION:
URL:https://seatoun.school.nz/event/year-7-eotc-week-including-camp/
END:VEVENT
BEGIN:VEVENT
DTSTART;VALUE=DATE:20201201
DTEND;VALUE=DATE:20201202
DTSTAMP:20260424T121614
CREATED:20200525T021952Z
LAST-MODIFIED:20210112T092721Z
UID:8316-1606780800-1606867199@seatoun.school.nz
SUMMARY:Regional Athletics pp 3rd
DESCRIPTION:
URL:https://seatoun.school.nz/event/regional-athletics-pp-3rd/
END:VEVENT
BEGIN:VEVENT
DTSTART;VALUE=DATE:20201202
DTEND;VALUE=DATE:20201203
DTSTAMP:20260424T121614
CREATED:20200525T021952Z
LAST-MODIFIED:20210112T092721Z
UID:8318-1606867200-1606953599@seatoun.school.nz
SUMMARY:EZ Miniball Y5-6
DESCRIPTION:
URL:https://seatoun.school.nz/event/ez-miniball-y5-6/
END:VEVENT
END:VCALENDAR