BEGIN:VCALENDAR
VERSION:2.0
PRODID:-//Seatoun School - ECPv6.8.3//NONSGML v1.0//EN
CALSCALE:GREGORIAN
METHOD:PUBLISH
X-ORIGINAL-URL:https://seatoun.school.nz
X-WR-CALDESC:Events for Seatoun School
REFRESH-INTERVAL;VALUE=DURATION:PT1H
X-Robots-Tag:noindex
X-PUBLISHED-TTL:PT1H
BEGIN:VTIMEZONE
TZID:Pacific/Auckland
BEGIN:STANDARD
TZOFFSETFROM:+1300
TZOFFSETTO:+1200
TZNAME:NZST
DTSTART:20210403T140000
END:STANDARD
BEGIN:DAYLIGHT
TZOFFSETFROM:+1200
TZOFFSETTO:+1300
TZNAME:NZDT
DTSTART:20210925T140000
END:DAYLIGHT
END:VTIMEZONE
BEGIN:VEVENT
DTSTART;TZID=Pacific/Auckland:20210524T193000
DTEND;TZID=Pacific/Auckland:20210524T203000
DTSTAMP:20260424T110644
CREATED:20210413T021554Z
LAST-MODIFIED:20210524T050116Z
UID:9538-1621884600-1621888200@seatoun.school.nz
SUMMARY:Foss Committee Meeting
DESCRIPTION:
URL:https://seatoun.school.nz/event/foss-committee-meeting/
END:VEVENT
BEGIN:VEVENT
DTSTART;TZID=Pacific/Auckland:20210525T093000
DTEND;TZID=Pacific/Auckland:20210525T140000
DTSTAMP:20260424T110644
CREATED:20210408T014644Z
LAST-MODIFIED:20210524T050116Z
UID:9505-1621935000-1621951200@seatoun.school.nz
SUMMARY:Yr 5-8 Swimming
DESCRIPTION:
URL:https://seatoun.school.nz/event/yr-5-8-swimming-4/
END:VEVENT
BEGIN:VEVENT
DTSTART;VALUE=DATE:20210526
DTEND;VALUE=DATE:20210527
DTSTAMP:20260424T110644
CREATED:20210408T014644Z
LAST-MODIFIED:20210526T050312Z
UID:9506-1621987200-1622073599@seatoun.school.nz
SUMMARY:Wellington Regional Chess Tournament in Hall
DESCRIPTION:
URL:https://seatoun.school.nz/event/wellington-regional-chess-tournament-in-hall/
END:VEVENT
BEGIN:VEVENT
DTSTART;TZID=Pacific/Auckland:20210526T080000
DTEND;TZID=Pacific/Auckland:20210526T150000
DTSTAMP:20260424T110644
CREATED:20210413T021554Z
LAST-MODIFIED:20210525T050247Z
UID:9539-1622016000-1622041200@seatoun.school.nz
SUMMARY:Wellington Regional Chess Tournament
DESCRIPTION:
URL:https://seatoun.school.nz/event/wellington-regional-chess-tournament/
END:VEVENT
BEGIN:VEVENT
DTSTART;VALUE=DATE:20210531
DTEND;VALUE=DATE:20210601
DTSTAMP:20260424T110644
CREATED:20201110T110321Z
LAST-MODIFIED:20210531T050206Z
UID:9003-1622419200-1622505599@seatoun.school.nz
SUMMARY:Week 5
DESCRIPTION:
URL:https://seatoun.school.nz/event/week-5-4/
END:VEVENT
BEGIN:VEVENT
DTSTART;TZID=Pacific/Auckland:20210601T093000
DTEND;TZID=Pacific/Auckland:20210601T140000
DTSTAMP:20260424T110644
CREATED:20210408T014644Z
LAST-MODIFIED:20210531T050206Z
UID:9507-1622539800-1622556000@seatoun.school.nz
SUMMARY:Yr 5-8 Swimming
DESCRIPTION:
URL:https://seatoun.school.nz/event/yr-5-8-swimming-5/
END:VEVENT
BEGIN:VEVENT
DTSTART;VALUE=DATE:20210602
DTEND;VALUE=DATE:20210603
DTSTAMP:20260424T110644
CREATED:20201209T135754Z
LAST-MODIFIED:20210602T050515Z
UID:9156-1622592000-1622678399@seatoun.school.nz
SUMMARY:EZ Cross Country Y4-8\, Scots College pp 9 June
DESCRIPTION:
URL:https://seatoun.school.nz/event/ez-cross-country-y4-8-scots-college-pp-9-june/
END:VEVENT
BEGIN:VEVENT
DTSTART;TZID=Pacific/Auckland:20210604T090000
DTEND;TZID=Pacific/Auckland:20210604T100000
DTSTAMP:20260424T110644
CREATED:20210513T040345Z
LAST-MODIFIED:20210603T051655Z
UID:9709-1622797200-1622800800@seatoun.school.nz
SUMMARY:Year 3 and 4  Hui
DESCRIPTION:
URL:https://seatoun.school.nz/event/year-3-and-4-hui/
END:VEVENT
BEGIN:VEVENT
DTSTART;VALUE=DATE:20210607
DTEND;VALUE=DATE:20210608
DTSTAMP:20260424T110644
CREATED:20201110T110321Z
LAST-MODIFIED:20210607T054644Z
UID:9004-1623024000-1623110399@seatoun.school.nz
SUMMARY:Week 6
DESCRIPTION:
URL:https://seatoun.school.nz/event/week-6-4/
END:VEVENT
BEGIN:VEVENT
DTSTART;TZID=Pacific/Auckland:20210607T080000
DTEND;TZID=Pacific/Auckland:20210607T154500
DTSTAMP:20260424T110644
CREATED:20200525T021954Z
LAST-MODIFIED:20210606T054620Z
UID:8328-1623052800-1623080700@seatoun.school.nz
SUMMARY:Queens Birthday Holiday - School closed
DESCRIPTION:
URL:https://seatoun.school.nz/event/queens-birthday-holiday-school-closed/
END:VEVENT
BEGIN:VEVENT
DTSTART;TZID=Pacific/Auckland:20210608T123000
DTEND;TZID=Pacific/Auckland:20210608T143000
DTSTAMP:20260424T110644
CREATED:20210408T014645Z
LAST-MODIFIED:20210607T054644Z
UID:9508-1623155400-1623162600@seatoun.school.nz
SUMMARY:Yr 5/6 Swimming
DESCRIPTION:
URL:https://seatoun.school.nz/event/yr-5-6-swimming/
END:VEVENT
BEGIN:VEVENT
DTSTART;VALUE=DATE:20210609
DTEND;VALUE=DATE:20210610
DTSTAMP:20260424T110644
CREATED:20201209T135754Z
LAST-MODIFIED:20210609T055316Z
UID:9157-1623196800-1623283199@seatoun.school.nz
SUMMARY:pp date EZ Cross Country\, Scots College
DESCRIPTION:
URL:https://seatoun.school.nz/event/pp-date-ez-cross-country-scots-college/
END:VEVENT
BEGIN:VEVENT
DTSTART;VALUE=DATE:20210614
DTEND;VALUE=DATE:20210615
DTSTAMP:20260424T110644
CREATED:20201110T110321Z
LAST-MODIFIED:20210614T062056Z
UID:9005-1623628800-1623715199@seatoun.school.nz
SUMMARY:Week 7
DESCRIPTION:
URL:https://seatoun.school.nz/event/week-7-4/
END:VEVENT
BEGIN:VEVENT
DTSTART;VALUE=DATE:20210615
DTEND;VALUE=DATE:20210616
DTSTAMP:20260424T110644
CREATED:20201209T135754Z
LAST-MODIFIED:20210615T062217Z
UID:9158-1623715200-1623801599@seatoun.school.nz
SUMMARY:Inter Zone Cross Country Y4-8 pp 17th
DESCRIPTION:
URL:https://seatoun.school.nz/event/inter-zone-cross-country-y4-8-pp-17th/
END:VEVENT
BEGIN:VEVENT
DTSTART;VALUE=DATE:20210615
DTEND;VALUE=DATE:20210616
DTSTAMP:20260424T110644
CREATED:20210609T055316Z
LAST-MODIFIED:20210615T062217Z
UID:9765-1623715200-1623801599@seatoun.school.nz
SUMMARY:Year 1/2 Museum Visit
DESCRIPTION:
URL:https://seatoun.school.nz/event/year-1-2-museum-visit/
END:VEVENT
BEGIN:VEVENT
DTSTART;TZID=Pacific/Auckland:20210615T093000
DTEND;TZID=Pacific/Auckland:20210615T140000
DTSTAMP:20260424T110644
CREATED:20210408T014645Z
LAST-MODIFIED:20210614T062057Z
UID:9509-1623749400-1623765600@seatoun.school.nz
SUMMARY:Yr 5-8 Swimming
DESCRIPTION:
URL:https://seatoun.school.nz/event/yr-5-8-swimming-6/
END:VEVENT
BEGIN:VEVENT
DTSTART;VALUE=DATE:20210616
DTEND;VALUE=DATE:20210617
DTSTAMP:20260424T110644
CREATED:20210414T023157Z
LAST-MODIFIED:20210616T062054Z
UID:9561-1623801600-1623887999@seatoun.school.nz
SUMMARY:FoSS Sausage Sizzle
DESCRIPTION:
URL:https://seatoun.school.nz/event/foss-sausage-sizzle-3/
END:VEVENT
BEGIN:VEVENT
DTSTART;VALUE=DATE:20210617
DTEND;VALUE=DATE:20210618
DTSTAMP:20260424T110644
CREATED:20201209T135754Z
LAST-MODIFIED:20210617T063048Z
UID:9159-1623888000-1623974399@seatoun.school.nz
SUMMARY:pp Inter Zone Cross Country Y4-8
DESCRIPTION:
URL:https://seatoun.school.nz/event/pp-inter-zone-cross-country-y4-8/
END:VEVENT
BEGIN:VEVENT
DTSTART;TZID=Pacific/Auckland:20210618T090000
DTEND;TZID=Pacific/Auckland:20210618T100000
DTSTAMP:20260424T110644
CREATED:20210513T040345Z
LAST-MODIFIED:20210617T063048Z
UID:9710-1624006800-1624010400@seatoun.school.nz
SUMMARY:Year 1 and 2 Hui
DESCRIPTION:
URL:https://seatoun.school.nz/event/year-1-and-2-hui/
END:VEVENT
BEGIN:VEVENT
DTSTART;VALUE=DATE:20210621
DTEND;VALUE=DATE:20210622
DTSTAMP:20260424T110644
CREATED:20201110T110321Z
LAST-MODIFIED:20210621T065253Z
UID:9006-1624233600-1624319999@seatoun.school.nz
SUMMARY:Week 8
DESCRIPTION:
URL:https://seatoun.school.nz/event/week-8-4/
END:VEVENT
BEGIN:VEVENT
DTSTART;TZID=Pacific/Auckland:20210622T090000
DTEND;TZID=Pacific/Auckland:20210622T200000
DTSTAMP:20260424T110644
CREATED:20210327T003111Z
LAST-MODIFIED:20210622T070200Z
UID:9472-1624352400-1624392000@seatoun.school.nz
SUMMARY:3 Way Conferences - school operates differently today
DESCRIPTION:
URL:https://seatoun.school.nz/event/3-way-conferences-school-operates-differently-today/
END:VEVENT
BEGIN:VEVENT
DTSTART;VALUE=DATE:20210623
DTEND;VALUE=DATE:20210624
DTSTAMP:20260424T110644
CREATED:20210608T054546Z
LAST-MODIFIED:20210623T070404Z
UID:9761-1624406400-1624492799@seatoun.school.nz
SUMMARY:Conferences after school
DESCRIPTION:
URL:https://seatoun.school.nz/event/conferences-after-school-2/
END:VEVENT
BEGIN:VEVENT
DTSTART;VALUE=DATE:20210624
DTEND;VALUE=DATE:20210625
DTSTAMP:20260424T110644
CREATED:20210608T054546Z
LAST-MODIFIED:20210624T073725Z
UID:9760-1624492800-1624579199@seatoun.school.nz
SUMMARY:Conferences after school
DESCRIPTION:
URL:https://seatoun.school.nz/event/conferences-after-school/
END:VEVENT
BEGIN:VEVENT
DTSTART;VALUE=DATE:20210625
DTEND;VALUE=DATE:20210626
DTSTAMP:20260424T110644
CREATED:20210525T050248Z
LAST-MODIFIED:20210625T074728Z
UID:9731-1624579200-1624665599@seatoun.school.nz
SUMMARY:No Rongotai for Year 7/8
DESCRIPTION:
URL:https://seatoun.school.nz/event/no-rongotai-for-year-7-8/
END:VEVENT
BEGIN:VEVENT
DTSTART;TZID=Pacific/Auckland:20210625T093000
DTEND;TZID=Pacific/Auckland:20210625T113000
DTSTAMP:20260424T110644
CREATED:20210307T225013Z
LAST-MODIFIED:20210623T070404Z
UID:9400-1624613400-1624620600@seatoun.school.nz
SUMMARY:Kahui Ako wide Kapa Haka Festival
DESCRIPTION:
URL:https://seatoun.school.nz/event/kahui-ako-wide-kapa-haka-festival/
END:VEVENT
BEGIN:VEVENT
DTSTART;VALUE=DATE:20210628
DTEND;VALUE=DATE:20210629
DTSTAMP:20260424T110644
CREATED:20201110T110321Z
LAST-MODIFIED:20210628T074758Z
UID:9007-1624838400-1624924799@seatoun.school.nz
SUMMARY:Week 9
DESCRIPTION:
URL:https://seatoun.school.nz/event/week-9-3/
END:VEVENT
BEGIN:VEVENT
DTSTART;TZID=Pacific/Auckland:20210628T180000
DTEND;TZID=Pacific/Auckland:20210628T190000
DTSTAMP:20260424T110644
CREATED:20210409T014849Z
LAST-MODIFIED:20210627T074557Z
UID:9521-1624903200-1624906800@seatoun.school.nz
SUMMARY:POSTPONED - Matariki Community Event
DESCRIPTION:
URL:https://seatoun.school.nz/event/matariki-community-event-2/
END:VEVENT
BEGIN:VEVENT
DTSTART;VALUE=DATE:20210629
DTEND;VALUE=DATE:20210630
DTSTAMP:20260424T110644
CREATED:20201201T122944Z
LAST-MODIFIED:20210629T074702Z
UID:9091-1624924800-1625011199@seatoun.school.nz
SUMMARY:Y7 Immunisation
DESCRIPTION:
URL:https://seatoun.school.nz/event/y7-immunisation-time-tbc/
END:VEVENT
BEGIN:VEVENT
DTSTART;TZID=Pacific/Auckland:20210629T123000
DTEND;TZID=Pacific/Auckland:20210629T143000
DTSTAMP:20260424T110644
CREATED:20210408T014645Z
LAST-MODIFIED:20210628T074758Z
UID:9510-1624969800-1624977000@seatoun.school.nz
SUMMARY:Yr 5/6 Swimming
DESCRIPTION:
URL:https://seatoun.school.nz/event/yr-5-6-swimming-2/
END:VEVENT
BEGIN:VEVENT
DTSTART;VALUE=DATE:20210702
DTEND;VALUE=DATE:20210703
DTSTAMP:20260424T110644
CREATED:20210414T023158Z
LAST-MODIFIED:20210702T080048Z
UID:9562-1625184000-1625270399@seatoun.school.nz
SUMMARY:Hell Pizza Lunch - Cancelled
DESCRIPTION:
URL:https://seatoun.school.nz/event/hell-pizza-lunch/
END:VEVENT
END:VCALENDAR