BEGIN:VCALENDAR
VERSION:2.0
PRODID:-//Seatoun School - ECPv6.8.3//NONSGML v1.0//EN
CALSCALE:GREGORIAN
METHOD:PUBLISH
X-ORIGINAL-URL:https://seatoun.school.nz
X-WR-CALDESC:Events for Seatoun School
REFRESH-INTERVAL;VALUE=DURATION:PT1H
X-Robots-Tag:noindex
X-PUBLISHED-TTL:PT1H
BEGIN:VTIMEZONE
TZID:Pacific/Auckland
BEGIN:STANDARD
TZOFFSETFROM:+1300
TZOFFSETTO:+1200
TZNAME:NZST
DTSTART:20220402T140000
END:STANDARD
BEGIN:DAYLIGHT
TZOFFSETFROM:+1200
TZOFFSETTO:+1300
TZNAME:NZDT
DTSTART:20220924T140000
END:DAYLIGHT
END:VTIMEZONE
BEGIN:VEVENT
DTSTART;TZID=Pacific/Auckland:20220222T093000
DTEND;TZID=Pacific/Auckland:20220222T113000
DTSTAMP:20260425T232255
CREATED:20240229T213316Z
LAST-MODIFIED:20240229T213316Z
UID:10938-1645522200-1645529400@seatoun.school.nz
SUMMARY:Year 3/4 Swimming
DESCRIPTION:
URL:https://seatoun.school.nz/event/year-3-4-swimming-3/
END:VEVENT
BEGIN:VEVENT
DTSTART;VALUE=DATE:20220228
DTEND;VALUE=DATE:20220301
DTSTAMP:20260425T232255
CREATED:20210413T021559Z
LAST-MODIFIED:20240229T213316Z
UID:9546-1646006400-1646092799@seatoun.school.nz
SUMMARY:Week 5
DESCRIPTION:
URL:https://seatoun.school.nz/event/week-5-6/
END:VEVENT
BEGIN:VEVENT
DTSTART;VALUE=DATE:20220304
DTEND;VALUE=DATE:20220307
DTSTAMP:20260425T232255
CREATED:20210826T004247Z
LAST-MODIFIED:20240229T213316Z
UID:10057-1646352000-1646611199@seatoun.school.nz
SUMMARY:Seatoun School Centenary - CANCELLED -:(
DESCRIPTION:
URL:https://seatoun.school.nz/event/seatoun-school-centenary/
END:VEVENT
BEGIN:VEVENT
DTSTART;TZID=Pacific/Auckland:20220306T090000
DTEND;TZID=Pacific/Auckland:20220306T100000
DTSTAMP:20260425T232255
CREATED:20210826T004247Z
LAST-MODIFIED:20210826T004247Z
UID:10056-1646557200-1646560800@seatoun.school.nz
SUMMARY:Proposed date for Worser Bay Beach Carnival
DESCRIPTION:
URL:https://seatoun.school.nz/event/proposed-date-for-worser-bay-beach-carnival/
END:VEVENT
BEGIN:VEVENT
DTSTART;VALUE=DATE:20220307
DTEND;VALUE=DATE:20220308
DTSTAMP:20260425T232255
CREATED:20210413T021559Z
LAST-MODIFIED:20240229T213316Z
UID:9547-1646611200-1646697599@seatoun.school.nz
SUMMARY:Week 6
DESCRIPTION:
URL:https://seatoun.school.nz/event/week-6-6/
END:VEVENT
BEGIN:VEVENT
DTSTART;VALUE=DATE:20220314
DTEND;VALUE=DATE:20220315
DTSTAMP:20260425T232255
CREATED:20210413T021559Z
LAST-MODIFIED:20240229T213316Z
UID:9548-1647216000-1647302399@seatoun.school.nz
SUMMARY:Week 7
DESCRIPTION:
URL:https://seatoun.school.nz/event/week-7-6/
END:VEVENT
BEGIN:VEVENT
DTSTART;VALUE=DATE:20220321
DTEND;VALUE=DATE:20220322
DTSTAMP:20260425T232255
CREATED:20210413T021559Z
LAST-MODIFIED:20240229T213316Z
UID:9549-1647820800-1647907199@seatoun.school.nz
SUMMARY:Week 8
DESCRIPTION:
URL:https://seatoun.school.nz/event/week-8-6/
END:VEVENT
BEGIN:VEVENT
DTSTART;VALUE=DATE:20220328
DTEND;VALUE=DATE:20220329
DTSTAMP:20260425T232255
CREATED:20210413T021559Z
LAST-MODIFIED:20240229T213316Z
UID:9550-1648425600-1648511999@seatoun.school.nz
SUMMARY:Week 9
DESCRIPTION:
URL:https://seatoun.school.nz/event/week-9-6/
END:VEVENT
BEGIN:VEVENT
DTSTART;VALUE=DATE:20220328
DTEND;VALUE=DATE:20220401
DTSTAMP:20260425T232255
CREATED:20240229T213316Z
LAST-MODIFIED:20240229T213316Z
UID:10943-1648425600-1648771199@seatoun.school.nz
SUMMARY:Athletics Week (Yr 3-8) Teams
DESCRIPTION:
URL:https://seatoun.school.nz/event/athletics-week-yr-3-8-teams/
END:VEVENT
BEGIN:VEVENT
DTSTART;TZID=Pacific/Auckland:20220329T090000
DTEND;TZID=Pacific/Auckland:20220329T143000
DTSTAMP:20260425T232255
CREATED:20240229T213316Z
LAST-MODIFIED:20240229T213316Z
UID:10940-1648544400-1648564200@seatoun.school.nz
SUMMARY:Year 3/4 Athletics
DESCRIPTION:
URL:https://seatoun.school.nz/event/year-3-4-athletics/
END:VEVENT
BEGIN:VEVENT
DTSTART;TZID=Pacific/Auckland:20220331T090000
DTEND;TZID=Pacific/Auckland:20220331T140000
DTSTAMP:20260425T232255
CREATED:20240229T213316Z
LAST-MODIFIED:20240229T213316Z
UID:10941-1648717200-1648735200@seatoun.school.nz
SUMMARY:Year 5/6 Athletics
DESCRIPTION:
URL:https://seatoun.school.nz/event/year-5-6-athletics/
END:VEVENT
BEGIN:VEVENT
DTSTART;TZID=Pacific/Auckland:20220401T090000
DTEND;TZID=Pacific/Auckland:20220401T154500
DTSTAMP:20260425T232255
CREATED:20240229T213316Z
LAST-MODIFIED:20240229T213316Z
UID:10942-1648803600-1648827900@seatoun.school.nz
SUMMARY:Teacher Only Day School closed today
DESCRIPTION:
URL:https://seatoun.school.nz/event/teacher-only-day-school-closed-today/
END:VEVENT
BEGIN:VEVENT
DTSTART;VALUE=DATE:20220404
DTEND;VALUE=DATE:20220405
DTSTAMP:20260425T232255
CREATED:20210413T021559Z
LAST-MODIFIED:20240229T213316Z
UID:9551-1649030400-1649116799@seatoun.school.nz
SUMMARY:Week 10
DESCRIPTION:
URL:https://seatoun.school.nz/event/week-10-5/
END:VEVENT
BEGIN:VEVENT
DTSTART;VALUE=DATE:20220405
DTEND;VALUE=DATE:20220406
DTSTAMP:20260425T232255
CREATED:20240229T213316Z
LAST-MODIFIED:20240229T213316Z
UID:10944-1649116800-1649203199@seatoun.school.nz
SUMMARY:Hearing and Vision - new entrants
DESCRIPTION:
URL:https://seatoun.school.nz/event/hearing-and-vision-new-entrants/
END:VEVENT
BEGIN:VEVENT
DTSTART;TZID=Pacific/Auckland:20220407T190000
DTEND;TZID=Pacific/Auckland:20220407T204500
DTSTAMP:20260425T232255
CREATED:20240229T213316Z
LAST-MODIFIED:20240229T213316Z
UID:10945-1649358000-1649364300@seatoun.school.nz
SUMMARY:BoT Meeting
DESCRIPTION:
URL:https://seatoun.school.nz/event/bot-meeting-3/
END:VEVENT
BEGIN:VEVENT
DTSTART;TZID=Pacific/Auckland:20220408T083000
DTEND;TZID=Pacific/Auckland:20220408T170000
DTSTAMP:20260425T232255
CREATED:20210414T023202Z
LAST-MODIFIED:20210826T004247Z
UID:9575-1649406600-1649437200@seatoun.school.nz
SUMMARY:3 Way Conferences
DESCRIPTION:
URL:https://seatoun.school.nz/event/3-way-conferences/
END:VEVENT
BEGIN:VEVENT
DTSTART;TZID=Pacific/Auckland:20220408T090000
DTEND;TZID=Pacific/Auckland:20220408T151500
DTSTAMP:20260425T232255
CREATED:20240229T213316Z
LAST-MODIFIED:20240229T213316Z
UID:10946-1649408400-1649430900@seatoun.school.nz
SUMMARY:Wheels Day Postponement Day
DESCRIPTION:
URL:https://seatoun.school.nz/event/wheels-day-postponement-day/
END:VEVENT
BEGIN:VEVENT
DTSTART;VALUE=DATE:20220411
DTEND;VALUE=DATE:20220412
DTSTAMP:20260425T232255
CREATED:20210413T021559Z
LAST-MODIFIED:20240229T213316Z
UID:9552-1649635200-1649721599@seatoun.school.nz
SUMMARY:Week 11
DESCRIPTION:
URL:https://seatoun.school.nz/event/week-11-2/
END:VEVENT
BEGIN:VEVENT
DTSTART;VALUE=DATE:20220411
DTEND;VALUE=DATE:20220521
DTSTAMP:20260425T232255
CREATED:20240229T213317Z
LAST-MODIFIED:20240229T213317Z
UID:10952-1649635200-1653091199@seatoun.school.nz
SUMMARY:Read A Thon - Monday 27 June-Friday 20 May\, 2022
DESCRIPTION:
URL:https://seatoun.school.nz/event/read-a-thon-monday-27-june-friday-20-may-2022/
END:VEVENT
BEGIN:VEVENT
DTSTART;VALUE=DATE:20220412
DTEND;VALUE=DATE:20220413
DTSTAMP:20260425T232255
CREATED:20240229T213317Z
LAST-MODIFIED:20240229T213317Z
UID:10947-1649721600-1649807999@seatoun.school.nz
SUMMARY:Vision - Year 7
DESCRIPTION:
URL:https://seatoun.school.nz/event/vision-year-7/
END:VEVENT
BEGIN:VEVENT
DTSTART;VALUE=DATE:20220414
DTEND;VALUE=DATE:20220415
DTSTAMP:20260425T232255
CREATED:20210413T021559Z
LAST-MODIFIED:20240229T213317Z
UID:9553-1649894400-1649980799@seatoun.school.nz
SUMMARY:Last day of term 1
DESCRIPTION:
URL:https://seatoun.school.nz/event/last-day-of-term-1-2/
END:VEVENT
BEGIN:VEVENT
DTSTART;VALUE=DATE:20220415
DTEND;VALUE=DATE:20220416
DTSTAMP:20260425T232255
CREATED:20210414T023202Z
LAST-MODIFIED:20240229T213317Z
UID:9577-1649980800-1650067199@seatoun.school.nz
SUMMARY:Good Friday
DESCRIPTION:
URL:https://seatoun.school.nz/event/good-friday/
END:VEVENT
BEGIN:VEVENT
DTSTART;VALUE=DATE:20220418
DTEND;VALUE=DATE:20220430
DTSTAMP:20260425T232255
CREATED:20210413T021600Z
LAST-MODIFIED:20240229T213317Z
UID:9554-1650240000-1651276799@seatoun.school.nz
SUMMARY:School holidays
DESCRIPTION:
URL:https://seatoun.school.nz/event/school-holidays-5/
END:VEVENT
BEGIN:VEVENT
DTSTART;VALUE=DATE:20220419
DTEND;VALUE=DATE:20220423
DTSTAMP:20260425T232255
CREATED:20240229T213317Z
LAST-MODIFIED:20240229T213317Z
UID:10948-1650326400-1650671999@seatoun.school.nz
SUMMARY:Holiday programme operating
DESCRIPTION:
URL:https://seatoun.school.nz/event/holiday-programme-operating-9/
END:VEVENT
BEGIN:VEVENT
DTSTART;VALUE=DATE:20220502
DTEND;VALUE=DATE:20220503
DTSTAMP:20260425T232255
CREATED:20210413T021600Z
LAST-MODIFIED:20240229T213317Z
UID:9555-1651449600-1651535999@seatoun.school.nz
SUMMARY:First day of term 2
DESCRIPTION:
URL:https://seatoun.school.nz/event/first-day-of-term-2-2/
END:VEVENT
BEGIN:VEVENT
DTSTART;VALUE=DATE:20220509
DTEND;VALUE=DATE:20220510
DTSTAMP:20260425T232255
CREATED:20210414T023202Z
LAST-MODIFIED:20240229T213317Z
UID:9581-1652054400-1652140799@seatoun.school.nz
SUMMARY:Week 2
DESCRIPTION:
URL:https://seatoun.school.nz/event/week-2-6/
END:VEVENT
BEGIN:VEVENT
DTSTART;VALUE=DATE:20220510
DTEND;VALUE=DATE:20220511
DTSTAMP:20260425T232255
CREATED:20240229T213317Z
LAST-MODIFIED:20240229T213317Z
UID:10949-1652140800-1652227199@seatoun.school.nz
SUMMARY:Y8 Immunisation
DESCRIPTION:
URL:https://seatoun.school.nz/event/y8-immunisation/
END:VEVENT
BEGIN:VEVENT
DTSTART;TZID=Pacific/Auckland:20220515T101500
DTEND;TZID=Pacific/Auckland:20220515T133000
DTSTAMP:20260425T232255
CREATED:20240229T213317Z
LAST-MODIFIED:20240229T213317Z
UID:10953-1652609700-1652621400@seatoun.school.nz
SUMMARY:FoSS Whānau Fun Run
DESCRIPTION:
URL:https://seatoun.school.nz/event/foss-whanau-fun-run/
END:VEVENT
BEGIN:VEVENT
DTSTART;VALUE=DATE:20220516
DTEND;VALUE=DATE:20220517
DTSTAMP:20260425T232255
CREATED:20210414T023202Z
LAST-MODIFIED:20240229T213317Z
UID:9582-1652659200-1652745599@seatoun.school.nz
SUMMARY:Week 3
DESCRIPTION:
URL:https://seatoun.school.nz/event/week-3-6/
END:VEVENT
BEGIN:VEVENT
DTSTART;VALUE=DATE:20220517
DTEND;VALUE=DATE:20220518
DTSTAMP:20260425T232255
CREATED:20240229T213317Z
LAST-MODIFIED:20240229T213317Z
UID:10950-1652745600-1652831999@seatoun.school.nz
SUMMARY:School Cross Country
DESCRIPTION:
URL:https://seatoun.school.nz/event/school-cross-country-3/
END:VEVENT
END:VCALENDAR