BEGIN:VCALENDAR
VERSION:2.0
PRODID:-//Seatoun School - ECPv6.8.3//NONSGML v1.0//EN
CALSCALE:GREGORIAN
METHOD:PUBLISH
X-WR-CALNAME:Seatoun School
X-ORIGINAL-URL:https://seatoun.school.nz
X-WR-CALDESC:Events for Seatoun School
REFRESH-INTERVAL;VALUE=DURATION:PT1H
X-Robots-Tag:noindex
X-PUBLISHED-TTL:PT1H
BEGIN:VTIMEZONE
TZID:Pacific/Auckland
BEGIN:STANDARD
TZOFFSETFROM:+1300
TZOFFSETTO:+1200
TZNAME:NZST
DTSTART:20220402T140000
END:STANDARD
BEGIN:DAYLIGHT
TZOFFSETFROM:+1200
TZOFFSETTO:+1300
TZNAME:NZDT
DTSTART:20220924T140000
END:DAYLIGHT
END:VTIMEZONE
BEGIN:VEVENT
DTSTART;TZID=Pacific/Auckland:20220622T153000
DTEND;TZID=Pacific/Auckland:20220622T183000
DTSTAMP:20260425T232120
CREATED:20240229T213318Z
LAST-MODIFIED:20240229T213318Z
UID:10967-1655911800-1655922600@seatoun.school.nz
SUMMARY:3 Way Conferences
DESCRIPTION:
URL:https://seatoun.school.nz/event/3-way-conferences-4/
END:VEVENT
BEGIN:VEVENT
DTSTART;TZID=Pacific/Auckland:20220623T083000
DTEND;TZID=Pacific/Auckland:20220623T163000
DTSTAMP:20260425T232120
CREATED:20210414T023203Z
LAST-MODIFIED:20240229T213318Z
UID:9594-1655973000-1656001800@seatoun.school.nz
SUMMARY:3 Way Conferences - School operates differently today - only attend for your conference
DESCRIPTION:
URL:https://seatoun.school.nz/event/3-way-conferences-2/
END:VEVENT
BEGIN:VEVENT
DTSTART;VALUE=DATE:20220624
DTEND;VALUE=DATE:20220625
DTSTAMP:20260425T232120
CREATED:20210414T023203Z
LAST-MODIFIED:20240229T213318Z
UID:9592-1656028800-1656115199@seatoun.school.nz
SUMMARY:Matariki
DESCRIPTION:
URL:https://seatoun.school.nz/event/matariki/
END:VEVENT
BEGIN:VEVENT
DTSTART;TZID=Pacific/Auckland:20220624T083000
DTEND;TZID=Pacific/Auckland:20220624T153000
DTSTAMP:20260425T232120
CREATED:20210414T023203Z
LAST-MODIFIED:20240229T213318Z
UID:9591-1656059400-1656084600@seatoun.school.nz
SUMMARY:Matariki Holiday - School Closed
DESCRIPTION:
URL:https://seatoun.school.nz/event/matariki-holiday-school-closed/
END:VEVENT
BEGIN:VEVENT
DTSTART;VALUE=DATE:20220627
DTEND;VALUE=DATE:20220628
DTSTAMP:20260425T232120
CREATED:20210414T023203Z
LAST-MODIFIED:20240229T213318Z
UID:9593-1656288000-1656374399@seatoun.school.nz
SUMMARY:Week 9
DESCRIPTION:
URL:https://seatoun.school.nz/event/week-9-7/
END:VEVENT
BEGIN:VEVENT
DTSTART;VALUE=DATE:20220704
DTEND;VALUE=DATE:20220705
DTSTAMP:20260425T232120
CREATED:20210414T023203Z
LAST-MODIFIED:20240229T213318Z
UID:9595-1656892800-1656979199@seatoun.school.nz
SUMMARY:Week 10
DESCRIPTION:
URL:https://seatoun.school.nz/event/week-10-6/
END:VEVENT
BEGIN:VEVENT
DTSTART;VALUE=DATE:20220704
DTEND;VALUE=DATE:20220705
DTSTAMP:20260425T232120
CREATED:20240229T213318Z
LAST-MODIFIED:20240229T213318Z
UID:10969-1656892800-1656979199@seatoun.school.nz
SUMMARY:Yr Football Tournament Postponement
DESCRIPTION:
URL:https://seatoun.school.nz/event/yr-football-tournament-postponement/
END:VEVENT
BEGIN:VEVENT
DTSTART;VALUE=DATE:20220705
DTEND;VALUE=DATE:20220706
DTSTAMP:20260425T232120
CREATED:20240229T213319Z
LAST-MODIFIED:20240229T213319Z
UID:10970-1656979200-1657065599@seatoun.school.nz
SUMMARY:Regional Cross Country
DESCRIPTION:
URL:https://seatoun.school.nz/event/regional-cross-country/
END:VEVENT
BEGIN:VEVENT
DTSTART;VALUE=DATE:20220708
DTEND;VALUE=DATE:20220709
DTSTAMP:20260425T232120
CREATED:20210414T023203Z
LAST-MODIFIED:20240229T213319Z
UID:9596-1657238400-1657324799@seatoun.school.nz
SUMMARY:Last day of term 2
DESCRIPTION:
URL:https://seatoun.school.nz/event/last-day-of-term-2-3/
END:VEVENT
BEGIN:VEVENT
DTSTART;VALUE=DATE:20220711
DTEND;VALUE=DATE:20220723
DTSTAMP:20260425T232120
CREATED:20210414T023203Z
LAST-MODIFIED:20240229T213319Z
UID:9597-1657497600-1658534399@seatoun.school.nz
SUMMARY:Holidays
DESCRIPTION:
URL:https://seatoun.school.nz/event/holidays-2/
END:VEVENT
BEGIN:VEVENT
DTSTART;VALUE=DATE:20220725
DTEND;VALUE=DATE:20220726
DTSTAMP:20260425T232120
CREATED:20210414T023203Z
LAST-MODIFIED:20240229T213319Z
UID:9598-1658707200-1658793599@seatoun.school.nz
SUMMARY:First day of term 3
DESCRIPTION:
URL:https://seatoun.school.nz/event/first-day-of-term-3-2/
END:VEVENT
BEGIN:VEVENT
DTSTART;VALUE=DATE:20220725
DTEND;VALUE=DATE:20220726
DTSTAMP:20260425T232120
CREATED:20240229T213319Z
LAST-MODIFIED:20240229T213319Z
UID:10971-1658707200-1658793599@seatoun.school.nz
SUMMARY:Yr 7/8 swimming
DESCRIPTION:
URL:https://seatoun.school.nz/event/yr-7-8-swimming/
END:VEVENT
BEGIN:VEVENT
DTSTART;VALUE=DATE:20220801
DTEND;VALUE=DATE:20220802
DTSTAMP:20260425T232120
CREATED:20210414T023203Z
LAST-MODIFIED:20240229T213319Z
UID:9599-1659312000-1659398399@seatoun.school.nz
SUMMARY:Week 2
DESCRIPTION:
URL:https://seatoun.school.nz/event/week-2-7/
END:VEVENT
BEGIN:VEVENT
DTSTART;VALUE=DATE:20220801
DTEND;VALUE=DATE:20220802
DTSTAMP:20260425T232120
CREATED:20240229T213319Z
LAST-MODIFIED:20240229T213319Z
UID:10972-1659312000-1659398399@seatoun.school.nz
SUMMARY:Yr 7/8 swimming
DESCRIPTION:
URL:https://seatoun.school.nz/event/yr-7-8-swimming-2/
END:VEVENT
BEGIN:VEVENT
DTSTART;VALUE=DATE:20220802
DTEND;VALUE=DATE:20220803
DTSTAMP:20260425T232120
CREATED:20240229T213319Z
LAST-MODIFIED:20240229T213319Z
UID:10973-1659398400-1659484799@seatoun.school.nz
SUMMARY:Swimming Sports Yr 3-8
DESCRIPTION:
URL:https://seatoun.school.nz/event/swimming-sports-yr-3-8/
END:VEVENT
BEGIN:VEVENT
DTSTART;VALUE=DATE:20220805
DTEND;VALUE=DATE:20220806
DTSTAMP:20260425T232120
CREATED:20240229T213319Z
LAST-MODIFIED:20240229T213319Z
UID:10975-1659657600-1659743999@seatoun.school.nz
SUMMARY:Swimming Years 3 and 4
DESCRIPTION:
URL:https://seatoun.school.nz/event/swimming-years-3-and-4/
END:VEVENT
BEGIN:VEVENT
DTSTART;TZID=Pacific/Auckland:20220805T123000
DTEND;TZID=Pacific/Auckland:20220805T133000
DTSTAMP:20260425T232120
CREATED:20240229T213319Z
LAST-MODIFIED:20240229T213319Z
UID:10974-1659702600-1659706200@seatoun.school.nz
SUMMARY:Year 3/4 Swimming
DESCRIPTION:
URL:https://seatoun.school.nz/event/year-3-4-swimming-4/
END:VEVENT
BEGIN:VEVENT
DTSTART;VALUE=DATE:20220808
DTEND;VALUE=DATE:20220809
DTSTAMP:20260425T232120
CREATED:20210414T023203Z
LAST-MODIFIED:20240229T213319Z
UID:9600-1659916800-1660003199@seatoun.school.nz
SUMMARY:Week 3
DESCRIPTION:
URL:https://seatoun.school.nz/event/week-3-7/
END:VEVENT
BEGIN:VEVENT
DTSTART;VALUE=DATE:20220808
DTEND;VALUE=DATE:20220809
DTSTAMP:20260425T232120
CREATED:20240229T213319Z
LAST-MODIFIED:20240229T213319Z
UID:10976-1659916800-1660003199@seatoun.school.nz
SUMMARY:Cricket Day Years 1-4
DESCRIPTION:
URL:https://seatoun.school.nz/event/cricket-day-years-1-4/
END:VEVENT
BEGIN:VEVENT
DTSTART;VALUE=DATE:20220808
DTEND;VALUE=DATE:20220809
DTSTAMP:20260425T232120
CREATED:20240229T213319Z
LAST-MODIFIED:20240229T213319Z
UID:10979-1659916800-1660003199@seatoun.school.nz
SUMMARY:Yr 7/8 swimming
DESCRIPTION:
URL:https://seatoun.school.nz/event/yr-7-8-swimming-3/
END:VEVENT
BEGIN:VEVENT
DTSTART;VALUE=DATE:20220809
DTEND;VALUE=DATE:20220810
DTSTAMP:20260425T232120
CREATED:20240229T213319Z
LAST-MODIFIED:20240229T213319Z
UID:10977-1660003200-1660089599@seatoun.school.nz
SUMMARY:ICAS Digital Technologies
DESCRIPTION:
URL:https://seatoun.school.nz/event/icas-digital-technologies-2/
END:VEVENT
BEGIN:VEVENT
DTSTART;VALUE=DATE:20220809
DTEND;VALUE=DATE:20220810
DTSTAMP:20260425T232120
CREATED:20240229T213319Z
LAST-MODIFIED:20240229T213319Z
UID:10978-1660003200-1660089599@seatoun.school.nz
SUMMARY:Cricket Day Years 5-8
DESCRIPTION:
URL:https://seatoun.school.nz/event/cricket-day-years-5-8/
END:VEVENT
BEGIN:VEVENT
DTSTART;VALUE=DATE:20220811
DTEND;VALUE=DATE:20220812
DTSTAMP:20260425T232120
CREATED:20240229T213319Z
LAST-MODIFIED:20240229T213319Z
UID:10980-1660176000-1660262399@seatoun.school.nz
SUMMARY:ICAS Writing
DESCRIPTION:
URL:https://seatoun.school.nz/event/icas-writing-3/
END:VEVENT
BEGIN:VEVENT
DTSTART;VALUE=DATE:20220812
DTEND;VALUE=DATE:20220813
DTSTAMP:20260425T232120
CREATED:20240229T213319Z
LAST-MODIFIED:20240229T213319Z
UID:10982-1660262400-1660348799@seatoun.school.nz
SUMMARY:Swimming Years 3 and 4
DESCRIPTION:
URL:https://seatoun.school.nz/event/swimming-years-3-and-4-2/
END:VEVENT
BEGIN:VEVENT
DTSTART;TZID=Pacific/Auckland:20220812T090000
DTEND;TZID=Pacific/Auckland:20220812T100000
DTSTAMP:20260425T232120
CREATED:20240229T213319Z
LAST-MODIFIED:20240229T213319Z
UID:10981-1660294800-1660298400@seatoun.school.nz
SUMMARY:Hui Years 7 & 8 presenting
DESCRIPTION:
URL:https://seatoun.school.nz/event/hui-years-7-8-presenting/
END:VEVENT
BEGIN:VEVENT
DTSTART;TZID=Pacific/Auckland:20220812T123000
DTEND;TZID=Pacific/Auckland:20220812T133000
DTSTAMP:20260425T232120
CREATED:20240229T213319Z
LAST-MODIFIED:20240229T213319Z
UID:10983-1660307400-1660311000@seatoun.school.nz
SUMMARY:Year 3/4 Swimming
DESCRIPTION:
URL:https://seatoun.school.nz/event/year-3-4-swimming-5/
END:VEVENT
BEGIN:VEVENT
DTSTART;VALUE=DATE:20220815
DTEND;VALUE=DATE:20220816
DTSTAMP:20260425T232120
CREATED:20210414T023204Z
LAST-MODIFIED:20240229T213319Z
UID:9601-1660521600-1660607999@seatoun.school.nz
SUMMARY:Week 4
DESCRIPTION:
URL:https://seatoun.school.nz/event/week-4-8/
END:VEVENT
BEGIN:VEVENT
DTSTART;VALUE=DATE:20220815
DTEND;VALUE=DATE:20220816
DTSTAMP:20260425T232120
CREATED:20240229T213319Z
LAST-MODIFIED:20240229T213319Z
UID:10984-1660521600-1660607999@seatoun.school.nz
SUMMARY:ICAS English
DESCRIPTION:
URL:https://seatoun.school.nz/event/icas-english-2/
END:VEVENT
BEGIN:VEVENT
DTSTART;VALUE=DATE:20220815
DTEND;VALUE=DATE:20220816
DTSTAMP:20260425T232120
CREATED:20240229T213320Z
LAST-MODIFIED:20240229T213320Z
UID:10986-1660521600-1660607999@seatoun.school.nz
SUMMARY:Yr 7/8 swimming
DESCRIPTION:
URL:https://seatoun.school.nz/event/yr-7-8-swimming-4/
END:VEVENT
BEGIN:VEVENT
DTSTART;TZID=Pacific/Auckland:20220815T193000
DTEND;TZID=Pacific/Auckland:20220815T203000
DTSTAMP:20260425T232120
CREATED:20240229T213320Z
LAST-MODIFIED:20240229T213320Z
UID:10985-1660591800-1660595400@seatoun.school.nz
SUMMARY:FOSS meeting
DESCRIPTION:
URL:https://seatoun.school.nz/event/foss-meeting-5/
END:VEVENT
END:VCALENDAR