BEGIN:VCALENDAR
VERSION:2.0
PRODID:-//Seatoun School - ECPv6.8.3//NONSGML v1.0//EN
CALSCALE:GREGORIAN
METHOD:PUBLISH
X-ORIGINAL-URL:https://seatoun.school.nz
X-WR-CALDESC:Events for Seatoun School
REFRESH-INTERVAL;VALUE=DURATION:PT1H
X-Robots-Tag:noindex
X-PUBLISHED-TTL:PT1H
BEGIN:VTIMEZONE
TZID:Pacific/Auckland
BEGIN:STANDARD
TZOFFSETFROM:+1300
TZOFFSETTO:+1200
TZNAME:NZST
DTSTART:20220402T140000
END:STANDARD
BEGIN:DAYLIGHT
TZOFFSETFROM:+1200
TZOFFSETTO:+1300
TZNAME:NZDT
DTSTART:20220924T140000
END:DAYLIGHT
END:VTIMEZONE
BEGIN:VEVENT
DTSTART;VALUE=DATE:20220811
DTEND;VALUE=DATE:20220812
DTSTAMP:20260426T034410
CREATED:20240229T213319Z
LAST-MODIFIED:20240229T213319Z
UID:10980-1660176000-1660262399@seatoun.school.nz
SUMMARY:ICAS Writing
DESCRIPTION:
URL:https://seatoun.school.nz/event/icas-writing-3/
END:VEVENT
BEGIN:VEVENT
DTSTART;VALUE=DATE:20220812
DTEND;VALUE=DATE:20220813
DTSTAMP:20260426T034410
CREATED:20240229T213319Z
LAST-MODIFIED:20240229T213319Z
UID:10982-1660262400-1660348799@seatoun.school.nz
SUMMARY:Swimming Years 3 and 4
DESCRIPTION:
URL:https://seatoun.school.nz/event/swimming-years-3-and-4-2/
END:VEVENT
BEGIN:VEVENT
DTSTART;TZID=Pacific/Auckland:20220812T090000
DTEND;TZID=Pacific/Auckland:20220812T100000
DTSTAMP:20260426T034410
CREATED:20240229T213319Z
LAST-MODIFIED:20240229T213319Z
UID:10981-1660294800-1660298400@seatoun.school.nz
SUMMARY:Hui Years 7 & 8 presenting
DESCRIPTION:
URL:https://seatoun.school.nz/event/hui-years-7-8-presenting/
END:VEVENT
BEGIN:VEVENT
DTSTART;TZID=Pacific/Auckland:20220812T123000
DTEND;TZID=Pacific/Auckland:20220812T133000
DTSTAMP:20260426T034410
CREATED:20240229T213319Z
LAST-MODIFIED:20240229T213319Z
UID:10983-1660307400-1660311000@seatoun.school.nz
SUMMARY:Year 3/4 Swimming
DESCRIPTION:
URL:https://seatoun.school.nz/event/year-3-4-swimming-5/
END:VEVENT
BEGIN:VEVENT
DTSTART;VALUE=DATE:20220815
DTEND;VALUE=DATE:20220816
DTSTAMP:20260426T034410
CREATED:20210414T023204Z
LAST-MODIFIED:20240229T213319Z
UID:9601-1660521600-1660607999@seatoun.school.nz
SUMMARY:Week 4
DESCRIPTION:
URL:https://seatoun.school.nz/event/week-4-8/
END:VEVENT
BEGIN:VEVENT
DTSTART;VALUE=DATE:20220815
DTEND;VALUE=DATE:20220816
DTSTAMP:20260426T034410
CREATED:20240229T213319Z
LAST-MODIFIED:20240229T213319Z
UID:10984-1660521600-1660607999@seatoun.school.nz
SUMMARY:ICAS English
DESCRIPTION:
URL:https://seatoun.school.nz/event/icas-english-2/
END:VEVENT
BEGIN:VEVENT
DTSTART;VALUE=DATE:20220815
DTEND;VALUE=DATE:20220816
DTSTAMP:20260426T034410
CREATED:20240229T213320Z
LAST-MODIFIED:20240229T213320Z
UID:10986-1660521600-1660607999@seatoun.school.nz
SUMMARY:Yr 7/8 swimming
DESCRIPTION:
URL:https://seatoun.school.nz/event/yr-7-8-swimming-4/
END:VEVENT
BEGIN:VEVENT
DTSTART;TZID=Pacific/Auckland:20220815T193000
DTEND;TZID=Pacific/Auckland:20220815T203000
DTSTAMP:20260426T034410
CREATED:20240229T213320Z
LAST-MODIFIED:20240229T213320Z
UID:10985-1660591800-1660595400@seatoun.school.nz
SUMMARY:FOSS meeting
DESCRIPTION:
URL:https://seatoun.school.nz/event/foss-meeting-5/
END:VEVENT
BEGIN:VEVENT
DTSTART;TZID=Pacific/Auckland:20220818T190000
DTEND;TZID=Pacific/Auckland:20220818T210000
DTSTAMP:20260426T034410
CREATED:20240229T213320Z
LAST-MODIFIED:20240229T213320Z
UID:10987-1660849200-1660856400@seatoun.school.nz
SUMMARY:BoT Meeting 7-9pm
DESCRIPTION:
URL:https://seatoun.school.nz/event/bot-meeting-7-9pm/
END:VEVENT
BEGIN:VEVENT
DTSTART;VALUE=DATE:20220819
DTEND;VALUE=DATE:20220820
DTSTAMP:20260426T034410
CREATED:20240229T213320Z
LAST-MODIFIED:20240229T213320Z
UID:10989-1660867200-1660953599@seatoun.school.nz
SUMMARY:Swimming Years 3 and 4
DESCRIPTION:
URL:https://seatoun.school.nz/event/swimming-years-3-and-4-3/
END:VEVENT
BEGIN:VEVENT
DTSTART;TZID=Pacific/Auckland:20220819T123000
DTEND;TZID=Pacific/Auckland:20220819T133000
DTSTAMP:20260426T034410
CREATED:20240229T213320Z
LAST-MODIFIED:20240229T213320Z
UID:10988-1660912200-1660915800@seatoun.school.nz
SUMMARY:Year 3/4 Swimming
DESCRIPTION:
URL:https://seatoun.school.nz/event/year-3-4-swimming-6/
END:VEVENT
BEGIN:VEVENT
DTSTART;VALUE=DATE:20220822
DTEND;VALUE=DATE:20220823
DTSTAMP:20260426T034411
CREATED:20210414T023204Z
LAST-MODIFIED:20240229T213320Z
UID:9602-1661126400-1661212799@seatoun.school.nz
SUMMARY:Week 5
DESCRIPTION:
URL:https://seatoun.school.nz/event/week-5-8/
END:VEVENT
BEGIN:VEVENT
DTSTART;VALUE=DATE:20220822
DTEND;VALUE=DATE:20220823
DTSTAMP:20260426T034411
CREATED:20240229T213320Z
LAST-MODIFIED:20240229T213320Z
UID:10990-1661126400-1661212799@seatoun.school.nz
SUMMARY:Little Dog Barking Show Yr 1/2
DESCRIPTION:
URL:https://seatoun.school.nz/event/little-dog-barking-show-yr-1-2/
END:VEVENT
BEGIN:VEVENT
DTSTART;VALUE=DATE:20220822
DTEND;VALUE=DATE:20220823
DTSTAMP:20260426T034411
CREATED:20240229T213320Z
LAST-MODIFIED:20240229T213320Z
UID:10992-1661126400-1661212799@seatoun.school.nz
SUMMARY:Yr 7/8 swimming
DESCRIPTION:
URL:https://seatoun.school.nz/event/yr-7-8-swimming-5/
END:VEVENT
BEGIN:VEVENT
DTSTART;TZID=Pacific/Auckland:20220822T133000
DTEND;TZID=Pacific/Auckland:20220822T143000
DTSTAMP:20260426T034411
CREATED:20240229T213320Z
LAST-MODIFIED:20240229T213320Z
UID:10991-1661175000-1661178600@seatoun.school.nz
SUMMARY:Little Dog Barking Show (Juniors)
DESCRIPTION:
URL:https://seatoun.school.nz/event/little-dog-barking-show-juniors/
END:VEVENT
BEGIN:VEVENT
DTSTART;VALUE=DATE:20220823
DTEND;VALUE=DATE:20220824
DTSTAMP:20260426T034411
CREATED:20240229T213320Z
LAST-MODIFIED:20240229T213320Z
UID:10993-1661212800-1661299199@seatoun.school.nz
SUMMARY:ICAS Science
DESCRIPTION:
URL:https://seatoun.school.nz/event/icas-science-4/
END:VEVENT
BEGIN:VEVENT
DTSTART;TZID=Pacific/Auckland:20220825T083000
DTEND;TZID=Pacific/Auckland:20220825T091500
DTSTAMP:20260426T034411
CREATED:20240229T213320Z
LAST-MODIFIED:20240229T213320Z
UID:10995-1661416200-1661418900@seatoun.school.nz
SUMMARY:Year 0\, 1 and 2 Meet and Greet
DESCRIPTION:
URL:https://seatoun.school.nz/event/year-0-1-and-2-meet-and-greet/
LOCATION:School Library
END:VEVENT
BEGIN:VEVENT
DTSTART;TZID=Pacific/Auckland:20220825T090000
DTEND;TZID=Pacific/Auckland:20220825T100000
DTSTAMP:20260426T034411
CREATED:20240229T213320Z
LAST-MODIFIED:20240229T213320Z
UID:10996-1661418000-1661421600@seatoun.school.nz
SUMMARY:ICAS Spelling Bee
DESCRIPTION:
URL:https://seatoun.school.nz/event/icas-spelling-bee-2/
END:VEVENT
BEGIN:VEVENT
DTSTART;VALUE=DATE:20220826
DTEND;VALUE=DATE:20220827
DTSTAMP:20260426T034411
CREATED:20240229T213320Z
LAST-MODIFIED:20240229T213320Z
UID:10999-1661472000-1661558399@seatoun.school.nz
SUMMARY:Swimming Years 3 and 4
DESCRIPTION:
URL:https://seatoun.school.nz/event/swimming-years-3-and-4-4/
END:VEVENT
BEGIN:VEVENT
DTSTART;TZID=Pacific/Auckland:20220826T090000
DTEND;TZID=Pacific/Auckland:20220826T100000
DTSTAMP:20260426T034411
CREATED:20240229T213320Z
LAST-MODIFIED:20240229T213320Z
UID:10997-1661504400-1661508000@seatoun.school.nz
SUMMARY:Hui Years 3 & 4 presenting
DESCRIPTION:
URL:https://seatoun.school.nz/event/hui-years-3-4-presenting/
END:VEVENT
BEGIN:VEVENT
DTSTART;TZID=Pacific/Auckland:20220826T123000
DTEND;TZID=Pacific/Auckland:20220826T133000
DTSTAMP:20260426T034411
CREATED:20240229T213320Z
LAST-MODIFIED:20240229T213320Z
UID:10998-1661517000-1661520600@seatoun.school.nz
SUMMARY:Year 3/4 Swimming
DESCRIPTION:
URL:https://seatoun.school.nz/event/year-3-4-swimming-7/
END:VEVENT
BEGIN:VEVENT
DTSTART;VALUE=DATE:20220829
DTEND;VALUE=DATE:20220830
DTSTAMP:20260426T034411
CREATED:20210414T023204Z
LAST-MODIFIED:20240229T213320Z
UID:9603-1661731200-1661817599@seatoun.school.nz
SUMMARY:Week 6
DESCRIPTION:
URL:https://seatoun.school.nz/event/week-6-8/
END:VEVENT
BEGIN:VEVENT
DTSTART;VALUE=DATE:20220829
DTEND;VALUE=DATE:20220830
DTSTAMP:20260426T034411
CREATED:20240229T213320Z
LAST-MODIFIED:20240229T213320Z
UID:11000-1661731200-1661817599@seatoun.school.nz
SUMMARY:Yr 7/8 swimming
DESCRIPTION:
URL:https://seatoun.school.nz/event/yr-7-8-swimming-6/
END:VEVENT
BEGIN:VEVENT
DTSTART;VALUE=DATE:20220830
DTEND;VALUE=DATE:20220831
DTSTAMP:20260426T034411
CREATED:20240229T213320Z
LAST-MODIFIED:20240229T213320Z
UID:11001-1661817600-1661903999@seatoun.school.nz
SUMMARY:ICAS Maths
DESCRIPTION:
URL:https://seatoun.school.nz/event/icas-maths-3/
END:VEVENT
BEGIN:VEVENT
DTSTART;TZID=Pacific/Auckland:20220901T083000
DTEND;TZID=Pacific/Auckland:20220901T093000
DTSTAMP:20260426T034411
CREATED:20240229T213321Z
LAST-MODIFIED:20240229T213321Z
UID:11002-1662021000-1662024600@seatoun.school.nz
SUMMARY:Year 3 and 4 Meet and Greet
DESCRIPTION:
URL:https://seatoun.school.nz/event/year-3-and-4-meet-and-greet/
END:VEVENT
BEGIN:VEVENT
DTSTART;TZID=Pacific/Auckland:20220901T190000
DTEND;TZID=Pacific/Auckland:20220901T204500
DTSTAMP:20260426T034411
CREATED:20240229T213321Z
LAST-MODIFIED:20240229T213321Z
UID:11003-1662058800-1662065100@seatoun.school.nz
SUMMARY:Poetry & Speech Finals
DESCRIPTION:When: Speech and Poetry Evening: Thursday September 1st: 7pm – 8:30pm\nWhere: Seatoun School Hall
URL:https://seatoun.school.nz/event/poetry-speech-finals/
END:VEVENT
BEGIN:VEVENT
DTSTART;VALUE=DATE:20220902
DTEND;VALUE=DATE:20220903
DTSTAMP:20260426T034411
CREATED:20240229T213321Z
LAST-MODIFIED:20240229T213321Z
UID:11004-1662076800-1662163199@seatoun.school.nz
SUMMARY:Swimming Years 3 and 4
DESCRIPTION:
URL:https://seatoun.school.nz/event/swimming-years-3-and-4-5/
END:VEVENT
BEGIN:VEVENT
DTSTART;TZID=Pacific/Auckland:20220902T123000
DTEND;TZID=Pacific/Auckland:20220902T133000
DTSTAMP:20260426T034411
CREATED:20240229T213321Z
LAST-MODIFIED:20240229T213321Z
UID:11005-1662121800-1662125400@seatoun.school.nz
SUMMARY:Year 3/4 Swimming
DESCRIPTION:
URL:https://seatoun.school.nz/event/year-3-4-swimming-8/
END:VEVENT
BEGIN:VEVENT
DTSTART;VALUE=DATE:20220905
DTEND;VALUE=DATE:20220906
DTSTAMP:20260426T034411
CREATED:20210414T023204Z
LAST-MODIFIED:20240229T213321Z
UID:9604-1662336000-1662422399@seatoun.school.nz
SUMMARY:Week 7
DESCRIPTION:
URL:https://seatoun.school.nz/event/week-7-8/
END:VEVENT
BEGIN:VEVENT
DTSTART;VALUE=DATE:20220905
DTEND;VALUE=DATE:20220906
DTSTAMP:20260426T034411
CREATED:20240229T213321Z
LAST-MODIFIED:20240229T213321Z
UID:11006-1662336000-1662422399@seatoun.school.nz
SUMMARY:Yr 7/8 swimming
DESCRIPTION:
URL:https://seatoun.school.nz/event/yr-7-8-swimming-7/
END:VEVENT
END:VCALENDAR